BEGIN:VCALENDAR
VERSION:2.0
PRODID:-//Di2hearts - ECPv6.15.20//NONSGML v1.0//EN
CALSCALE:GREGORIAN
METHOD:PUBLISH
X-ORIGINAL-URL:https://di2hearts.com
X-WR-CALDESC:Events for Di2hearts
REFRESH-INTERVAL;VALUE=DURATION:PT1H
X-Robots-Tag:noindex
X-PUBLISHED-TTL:PT1H
BEGIN:VTIMEZONE
TZID:America/Vancouver
BEGIN:DAYLIGHT
TZOFFSETFROM:-0800
TZOFFSETTO:-0700
TZNAME:PDT
DTSTART:20240310T100000
END:DAYLIGHT
BEGIN:STANDARD
TZOFFSETFROM:-0700
TZOFFSETTO:-0800
TZNAME:PST
DTSTART:20241103T090000
END:STANDARD
BEGIN:DAYLIGHT
TZOFFSETFROM:-0800
TZOFFSETTO:-0700
TZNAME:PDT
DTSTART:20250309T100000
END:DAYLIGHT
BEGIN:STANDARD
TZOFFSETFROM:-0700
TZOFFSETTO:-0800
TZNAME:PST
DTSTART:20251102T090000
END:STANDARD
BEGIN:DAYLIGHT
TZOFFSETFROM:-0800
TZOFFSETTO:-0700
TZNAME:PDT
DTSTART:20260308T100000
END:DAYLIGHT
BEGIN:STANDARD
TZOFFSETFROM:-0700
TZOFFSETTO:-0800
TZNAME:PST
DTSTART:20261101T090000
END:STANDARD
END:VTIMEZONE
BEGIN:VEVENT
DTSTART;TZID=America/Vancouver:20250707T103000
DTEND;TZID=America/Vancouver:20250707T113000
DTSTAMP:20260425T102122
CREATED:20250618T214701Z
LAST-MODIFIED:20250708T224748Z
UID:10000004-1751884200-1751887800@di2hearts.com
SUMMARY:Lakewood YMCA Gentle Yoga
DESCRIPTION:
URL:https://di2hearts.com/event/gentle-yoga/2025-07-07/
LOCATION:Lakewood YMCA
END:VEVENT
BEGIN:VEVENT
DTSTART;TZID=America/Vancouver:20250709T103000
DTEND;TZID=America/Vancouver:20250709T113000
DTSTAMP:20260425T102122
CREATED:20250709T164418Z
LAST-MODIFIED:20250709T164418Z
UID:10001567-1752057000-1752060600@di2hearts.com
SUMMARY:Pearl St. YMCA Yin Yoga Class
DESCRIPTION:
URL:https://di2hearts.com/event/pearl-st-ymca-yin-yoga-class/
END:VEVENT
BEGIN:VEVENT
DTSTART;TZID=America/Vancouver:20250709T113000
DTEND;TZID=America/Vancouver:20250709T121500
DTSTAMP:20260425T102122
CREATED:20250709T164030Z
LAST-MODIFIED:20250709T164030Z
UID:10001307-1752060600-1752063300@di2hearts.com
SUMMARY:Pearl St. YMCA Chair Yoga Class
DESCRIPTION:
URL:https://di2hearts.com/event/pearl-st-ymca-chair-yoga-class/2025-07-09/
END:VEVENT
BEGIN:VEVENT
DTSTART;TZID=America/Vancouver:20250709T173000
DTEND;TZID=America/Vancouver:20250709T183000
DTSTAMP:20260425T102122
CREATED:20250709T164600Z
LAST-MODIFIED:20250709T164600Z
UID:10001569-1752082200-1752085800@di2hearts.com
SUMMARY:Pearl St. YMCA Vinyasa Yoga Class
DESCRIPTION:
URL:https://di2hearts.com/event/pearl-st-ymca-vinyasa-yoga-class-2/
END:VEVENT
BEGIN:VEVENT
DTSTART;TZID=America/Vancouver:20250711T103000
DTEND;TZID=America/Vancouver:20250711T113000
DTSTAMP:20260425T102122
CREATED:20250709T164733Z
LAST-MODIFIED:20250709T164733Z
UID:10001570-1752229800-1752233400@di2hearts.com
SUMMARY:Lakewood YMCA Gentle Yoga Class
DESCRIPTION:
URL:https://di2hearts.com/event/lakewood-ymca-gentle-yoga-class/
END:VEVENT
BEGIN:VEVENT
DTSTART;TZID=America/Vancouver:20250713T100000
DTEND;TZID=America/Vancouver:20250713T110000
DTSTAMP:20260425T102122
CREATED:20250708T225415Z
LAST-MODIFIED:20250708T225415Z
UID:10000266-1752400800-1752404400@di2hearts.com
SUMMARY:Tacoma Center YMCA Gentle Yoga Class
DESCRIPTION:
URL:https://di2hearts.com/event/tacoma-center-ymca-gentle-yoga-class/2025-07-13/
END:VEVENT
BEGIN:VEVENT
DTSTART;TZID=America/Vancouver:20250713T111500
DTEND;TZID=America/Vancouver:20250713T121500
DTSTAMP:20260425T102122
CREATED:20250708T225731Z
LAST-MODIFIED:20250709T163055Z
UID:10000526-1752405300-1752408900@di2hearts.com
SUMMARY:Tacoma Center YMCA Yin Yoga Class
DESCRIPTION:
URL:https://di2hearts.com/event/tacoma-center-ymca-yin-yoga-class/2025-07-13/
END:VEVENT
BEGIN:VEVENT
DTSTART;TZID=America/Vancouver:20250714T103000
DTEND;TZID=America/Vancouver:20250714T113000
DTSTAMP:20260425T102122
CREATED:20250618T214701Z
LAST-MODIFIED:20250708T224748Z
UID:10000005-1752489000-1752492600@di2hearts.com
SUMMARY:Lakewood YMCA Gentle Yoga
DESCRIPTION:
URL:https://di2hearts.com/event/gentle-yoga/2025-07-14/
LOCATION:Lakewood YMCA
END:VEVENT
BEGIN:VEVENT
DTSTART;TZID=America/Vancouver:20250715T123000
DTEND;TZID=America/Vancouver:20250715T131500
DTSTAMP:20260425T102122
CREATED:20250709T163741Z
LAST-MODIFIED:20250709T164250Z
UID:10001047-1752582600-1752585300@di2hearts.com
SUMMARY:Pearl St YMCA Chair Yin Yoga Class
DESCRIPTION:
URL:https://di2hearts.com/event/pearl-st-ymca-chair-yin-or-mat-yoga-class/2025-07-15/
END:VEVENT
BEGIN:VEVENT
DTSTART;TZID=America/Vancouver:20250716T070000
DTEND;TZID=America/Vancouver:20250716T080000
DTSTAMP:20260425T102122
CREATED:20250711T034124Z
LAST-MODIFIED:20250711T034124Z
UID:10001571-1752649200-1752652800@di2hearts.com
SUMMARY:Pearl St. YMCA Gentle Yoga Class
DESCRIPTION:
URL:https://di2hearts.com/event/pearl-st-ymca-gentle-yoga-class/
END:VEVENT
BEGIN:VEVENT
DTSTART;TZID=America/Vancouver:20250716T103000
DTEND;TZID=America/Vancouver:20250716T113000
DTSTAMP:20260425T102122
CREATED:20250709T164507Z
LAST-MODIFIED:20250709T164507Z
UID:10001568-1752661800-1752665400@di2hearts.com
SUMMARY:Pearl St YMCA Yin Yoga Class
DESCRIPTION:
URL:https://di2hearts.com/event/pearl-st-ymca-yin-yoga-class-2/
END:VEVENT
BEGIN:VEVENT
DTSTART;TZID=America/Vancouver:20250716T113000
DTEND;TZID=America/Vancouver:20250716T121500
DTSTAMP:20260425T102122
CREATED:20250709T164030Z
LAST-MODIFIED:20250709T164030Z
UID:10001308-1752665400-1752668100@di2hearts.com
SUMMARY:Pearl St. YMCA Chair Yoga Class
DESCRIPTION:
URL:https://di2hearts.com/event/pearl-st-ymca-chair-yoga-class/2025-07-16/
END:VEVENT
BEGIN:VEVENT
DTSTART;TZID=America/Vancouver:20250718T113000
DTEND;TZID=America/Vancouver:20250718T121500
DTSTAMP:20260425T102122
CREATED:20250711T034238Z
LAST-MODIFIED:20250711T034238Z
UID:10001572-1752838200-1752840900@di2hearts.com
SUMMARY:Pearl St. YMCA Chair Yoga Class
DESCRIPTION:
URL:https://di2hearts.com/event/pearl-st-ymca-chair-yoga-class-2/
END:VEVENT
BEGIN:VEVENT
DTSTART;TZID=America/Vancouver:20250720T100000
DTEND;TZID=America/Vancouver:20250720T110000
DTSTAMP:20260425T102122
CREATED:20250708T225415Z
LAST-MODIFIED:20250708T225415Z
UID:10000267-1753005600-1753009200@di2hearts.com
SUMMARY:Tacoma Center YMCA Gentle Yoga Class
DESCRIPTION:
URL:https://di2hearts.com/event/tacoma-center-ymca-gentle-yoga-class/2025-07-20/
END:VEVENT
BEGIN:VEVENT
DTSTART;TZID=America/Vancouver:20250720T111500
DTEND;TZID=America/Vancouver:20250720T121500
DTSTAMP:20260425T102122
CREATED:20250708T225731Z
LAST-MODIFIED:20250709T163055Z
UID:10000527-1753010100-1753013700@di2hearts.com
SUMMARY:Tacoma Center YMCA Yin Yoga Class
DESCRIPTION:
URL:https://di2hearts.com/event/tacoma-center-ymca-yin-yoga-class/2025-07-20/
END:VEVENT
BEGIN:VEVENT
DTSTART;TZID=America/Vancouver:20250721T103000
DTEND;TZID=America/Vancouver:20250721T113000
DTSTAMP:20260425T102122
CREATED:20250618T214701Z
LAST-MODIFIED:20250708T224748Z
UID:10000006-1753093800-1753097400@di2hearts.com
SUMMARY:Lakewood YMCA Gentle Yoga
DESCRIPTION:
URL:https://di2hearts.com/event/gentle-yoga/2025-07-21/
LOCATION:Lakewood YMCA
END:VEVENT
BEGIN:VEVENT
DTSTART;TZID=America/Vancouver:20250721T120000
DTEND;TZID=America/Vancouver:20250721T130000
DTSTAMP:20260425T102122
CREATED:20250711T034355Z
LAST-MODIFIED:20250711T034355Z
UID:10001573-1753099200-1753102800@di2hearts.com
SUMMARY:Lakewood YMCA Sound Bowl Bath
DESCRIPTION:
URL:https://di2hearts.com/event/lakewood-ymca-sound-bowl-bath/
END:VEVENT
BEGIN:VEVENT
DTSTART;TZID=America/Vancouver:20250722T123000
DTEND;TZID=America/Vancouver:20250722T131500
DTSTAMP:20260425T102122
CREATED:20250709T163741Z
LAST-MODIFIED:20250709T164250Z
UID:10001048-1753187400-1753190100@di2hearts.com
SUMMARY:Pearl St YMCA Chair Yin Yoga Class
DESCRIPTION:
URL:https://di2hearts.com/event/pearl-st-ymca-chair-yin-or-mat-yoga-class/2025-07-22/
END:VEVENT
BEGIN:VEVENT
DTSTART;TZID=America/Vancouver:20250723T113000
DTEND;TZID=America/Vancouver:20250723T121500
DTSTAMP:20260425T102122
CREATED:20250709T164030Z
LAST-MODIFIED:20250709T164030Z
UID:10001309-1753270200-1753272900@di2hearts.com
SUMMARY:Pearl St. YMCA Chair Yoga Class
DESCRIPTION:
URL:https://di2hearts.com/event/pearl-st-ymca-chair-yoga-class/2025-07-23/
END:VEVENT
BEGIN:VEVENT
DTSTART;TZID=America/Vancouver:20250727T100000
DTEND;TZID=America/Vancouver:20250727T110000
DTSTAMP:20260425T102122
CREATED:20250708T225415Z
LAST-MODIFIED:20250708T225415Z
UID:10000268-1753610400-1753614000@di2hearts.com
SUMMARY:Tacoma Center YMCA Gentle Yoga Class
DESCRIPTION:
URL:https://di2hearts.com/event/tacoma-center-ymca-gentle-yoga-class/2025-07-27/
END:VEVENT
BEGIN:VEVENT
DTSTART;TZID=America/Vancouver:20250727T111500
DTEND;TZID=America/Vancouver:20250727T121500
DTSTAMP:20260425T102122
CREATED:20250708T225731Z
LAST-MODIFIED:20250709T163055Z
UID:10000528-1753614900-1753618500@di2hearts.com
SUMMARY:Tacoma Center YMCA Yin Yoga Class
DESCRIPTION:
URL:https://di2hearts.com/event/tacoma-center-ymca-yin-yoga-class/2025-07-27/
END:VEVENT
BEGIN:VEVENT
DTSTART;TZID=America/Vancouver:20250727T123000
DTEND;TZID=America/Vancouver:20250727T133000
DTSTAMP:20260425T102122
CREATED:20250708T232544Z
LAST-MODIFIED:20250708T232544Z
UID:10000786-1753619400-1753623000@di2hearts.com
SUMMARY:Tacoma Center YMCA Sound Bowl Bath
DESCRIPTION:
URL:https://di2hearts.com/event/tacoma-center-ymca-sound-bowl-bath/
END:VEVENT
END:VCALENDAR