BEGIN:VCALENDAR
VERSION:2.0
PRODID:-//Di2hearts - ECPv6.15.20//NONSGML v1.0//EN
CALSCALE:GREGORIAN
METHOD:PUBLISH
X-ORIGINAL-URL:https://di2hearts.com
X-WR-CALDESC:Events for Di2hearts
REFRESH-INTERVAL;VALUE=DURATION:PT1H
X-Robots-Tag:noindex
X-PUBLISHED-TTL:PT1H
BEGIN:VTIMEZONE
TZID:America/Vancouver
BEGIN:DAYLIGHT
TZOFFSETFROM:-0800
TZOFFSETTO:-0700
TZNAME:PDT
DTSTART:20240310T100000
END:DAYLIGHT
BEGIN:STANDARD
TZOFFSETFROM:-0700
TZOFFSETTO:-0800
TZNAME:PST
DTSTART:20241103T090000
END:STANDARD
BEGIN:DAYLIGHT
TZOFFSETFROM:-0800
TZOFFSETTO:-0700
TZNAME:PDT
DTSTART:20250309T100000
END:DAYLIGHT
BEGIN:STANDARD
TZOFFSETFROM:-0700
TZOFFSETTO:-0800
TZNAME:PST
DTSTART:20251102T090000
END:STANDARD
BEGIN:DAYLIGHT
TZOFFSETFROM:-0800
TZOFFSETTO:-0700
TZNAME:PDT
DTSTART:20260308T100000
END:DAYLIGHT
BEGIN:STANDARD
TZOFFSETFROM:-0700
TZOFFSETTO:-0800
TZNAME:PST
DTSTART:20261101T090000
END:STANDARD
END:VTIMEZONE
BEGIN:VEVENT
DTSTART;TZID=America/Vancouver:20250805T093000
DTEND;TZID=America/Vancouver:20250805T101500
DTSTAMP:20260425T085252
CREATED:20250711T034951Z
LAST-MODIFIED:20250711T035229Z
UID:10001574-1754386200-1754388900@di2hearts.com
SUMMARY:Lakewood YMCA Sound Bowl Bath
DESCRIPTION:
URL:https://di2hearts.com/event/lakewood-ymca-sound-bowl-bath-2/
END:VEVENT
BEGIN:VEVENT
DTSTART;TZID=America/Vancouver:20250805T123000
DTEND;TZID=America/Vancouver:20250805T131500
DTSTAMP:20260425T085252
CREATED:20250709T163741Z
LAST-MODIFIED:20250709T164250Z
UID:10001049-1754397000-1754399700@di2hearts.com
SUMMARY:Pearl St YMCA Chair Yin Yoga Class
DESCRIPTION:
URL:https://di2hearts.com/event/pearl-st-ymca-chair-yin-or-mat-yoga-class/2025-08-05/
END:VEVENT
BEGIN:VEVENT
DTSTART;TZID=America/Vancouver:20250806T093000
DTEND;TZID=America/Vancouver:20250806T101500
DTSTAMP:20260425T085252
CREATED:20250724T205528Z
LAST-MODIFIED:20250724T205528Z
UID:10001580-1754472600-1754475300@di2hearts.com
SUMMARY:Lakewood YMCA Chair Yoga Class
DESCRIPTION:
URL:https://di2hearts.com/event/lakewood-ymca-chair-yoga-class-2/
END:VEVENT
BEGIN:VEVENT
DTSTART;TZID=America/Vancouver:20250806T113000
DTEND;TZID=America/Vancouver:20250806T121500
DTSTAMP:20260425T085252
CREATED:20250709T164030Z
LAST-MODIFIED:20250709T164030Z
UID:10001310-1754479800-1754482500@di2hearts.com
SUMMARY:Pearl St. YMCA Chair Yoga Class
DESCRIPTION:
URL:https://di2hearts.com/event/pearl-st-ymca-chair-yoga-class/2025-08-06/
END:VEVENT
BEGIN:VEVENT
DTSTART;TZID=America/Vancouver:20250810T100000
DTEND;TZID=America/Vancouver:20250810T110000
DTSTAMP:20260425T085252
CREATED:20250708T225415Z
LAST-MODIFIED:20250708T225415Z
UID:10000269-1754820000-1754823600@di2hearts.com
SUMMARY:Tacoma Center YMCA Gentle Yoga Class
DESCRIPTION:
URL:https://di2hearts.com/event/tacoma-center-ymca-gentle-yoga-class/2025-08-10/
END:VEVENT
BEGIN:VEVENT
DTSTART;TZID=America/Vancouver:20250810T111500
DTEND;TZID=America/Vancouver:20250810T121500
DTSTAMP:20260425T085252
CREATED:20250708T225731Z
LAST-MODIFIED:20250709T163055Z
UID:10000529-1754824500-1754828100@di2hearts.com
SUMMARY:Tacoma Center YMCA Yin Yoga Class
DESCRIPTION:
URL:https://di2hearts.com/event/tacoma-center-ymca-yin-yoga-class/2025-08-10/
END:VEVENT
BEGIN:VEVENT
DTSTART;TZID=America/Vancouver:20250811T083000
DTEND;TZID=America/Vancouver:20250811T093000
DTSTAMP:20260425T085252
CREATED:20250711T035414Z
LAST-MODIFIED:20250711T035414Z
UID:10001575-1754901000-1754904600@di2hearts.com
SUMMARY:Lakewood YMCA Power Yoga Class
DESCRIPTION:
URL:https://di2hearts.com/event/lakewood-ymca-power-yoga-class/
END:VEVENT
BEGIN:VEVENT
DTSTART;TZID=America/Vancouver:20250811T103000
DTEND;TZID=America/Vancouver:20250811T113000
DTSTAMP:20260425T085252
CREATED:20250618T214701Z
LAST-MODIFIED:20250708T224748Z
UID:10000009-1754908200-1754911800@di2hearts.com
SUMMARY:Lakewood YMCA Gentle Yoga
DESCRIPTION:
URL:https://di2hearts.com/event/gentle-yoga/2025-08-11/
LOCATION:Lakewood YMCA
END:VEVENT
BEGIN:VEVENT
DTSTART;TZID=America/Vancouver:20250812T123000
DTEND;TZID=America/Vancouver:20250812T131500
DTSTAMP:20260425T085252
CREATED:20250709T163741Z
LAST-MODIFIED:20250709T164250Z
UID:10001050-1755001800-1755004500@di2hearts.com
SUMMARY:Pearl St YMCA Chair Yin Yoga Class
DESCRIPTION:
URL:https://di2hearts.com/event/pearl-st-ymca-chair-yin-or-mat-yoga-class/2025-08-12/
END:VEVENT
BEGIN:VEVENT
DTSTART;TZID=America/Vancouver:20250813T113000
DTEND;TZID=America/Vancouver:20250813T121500
DTSTAMP:20260425T085252
CREATED:20250709T164030Z
LAST-MODIFIED:20250709T164030Z
UID:10001311-1755084600-1755087300@di2hearts.com
SUMMARY:Pearl St. YMCA Chair Yoga Class
DESCRIPTION:
URL:https://di2hearts.com/event/pearl-st-ymca-chair-yoga-class/2025-08-13/
END:VEVENT
BEGIN:VEVENT
DTSTART;TZID=America/Vancouver:20250817T100000
DTEND;TZID=America/Vancouver:20250817T110000
DTSTAMP:20260425T085252
CREATED:20250708T225415Z
LAST-MODIFIED:20250708T225415Z
UID:10000270-1755424800-1755428400@di2hearts.com
SUMMARY:Tacoma Center YMCA Gentle Yoga Class
DESCRIPTION:
URL:https://di2hearts.com/event/tacoma-center-ymca-gentle-yoga-class/2025-08-17/
END:VEVENT
BEGIN:VEVENT
DTSTART;TZID=America/Vancouver:20250817T111500
DTEND;TZID=America/Vancouver:20250817T121500
DTSTAMP:20260425T085252
CREATED:20250708T225731Z
LAST-MODIFIED:20250709T163055Z
UID:10000530-1755429300-1755432900@di2hearts.com
SUMMARY:Tacoma Center YMCA Yin Yoga Class
DESCRIPTION:
URL:https://di2hearts.com/event/tacoma-center-ymca-yin-yoga-class/2025-08-17/
END:VEVENT
BEGIN:VEVENT
DTSTART;TZID=America/Vancouver:20250818T103000
DTEND;TZID=America/Vancouver:20250818T113000
DTSTAMP:20260425T085253
CREATED:20250618T214701Z
LAST-MODIFIED:20250708T224748Z
UID:10000010-1755513000-1755516600@di2hearts.com
SUMMARY:Lakewood YMCA Gentle Yoga
DESCRIPTION:
URL:https://di2hearts.com/event/gentle-yoga/2025-08-18/
LOCATION:Lakewood YMCA
END:VEVENT
BEGIN:VEVENT
DTSTART;TZID=America/Vancouver:20250818T120000
DTEND;TZID=America/Vancouver:20250818T130000
DTSTAMP:20260425T085253
CREATED:20250711T035522Z
LAST-MODIFIED:20250711T035522Z
UID:10001576-1755518400-1755522000@di2hearts.com
SUMMARY:Lakewood YMCA Sound Bowl Bath
DESCRIPTION:
URL:https://di2hearts.com/event/lakewood-ymca-sound-bowl-bath-3/
END:VEVENT
BEGIN:VEVENT
DTSTART;TZID=America/Vancouver:20250819T123000
DTEND;TZID=America/Vancouver:20250819T131500
DTSTAMP:20260425T085253
CREATED:20250709T163741Z
LAST-MODIFIED:20250709T164250Z
UID:10001051-1755606600-1755609300@di2hearts.com
SUMMARY:Pearl St YMCA Chair Yin Yoga Class
DESCRIPTION:
URL:https://di2hearts.com/event/pearl-st-ymca-chair-yin-or-mat-yoga-class/2025-08-19/
END:VEVENT
BEGIN:VEVENT
DTSTART;TZID=America/Vancouver:20250820T113000
DTEND;TZID=America/Vancouver:20250820T121500
DTSTAMP:20260425T085253
CREATED:20250709T164030Z
LAST-MODIFIED:20250709T164030Z
UID:10001312-1755689400-1755692100@di2hearts.com
SUMMARY:Pearl St. YMCA Chair Yoga Class
DESCRIPTION:
URL:https://di2hearts.com/event/pearl-st-ymca-chair-yoga-class/2025-08-20/
END:VEVENT
BEGIN:VEVENT
DTSTART;TZID=America/Vancouver:20250820T190000
DTEND;TZID=America/Vancouver:20250820T200000
DTSTAMP:20260425T085253
CREATED:20250808T175604Z
LAST-MODIFIED:20250820T225357Z
UID:10001582-1755716400-1755720000@di2hearts.com
SUMMARY:Pearl St. YMCA Yin Yoga Class
DESCRIPTION:
URL:https://di2hearts.com/event/ymca-pearl-st-yin-yoga-class/
END:VEVENT
BEGIN:VEVENT
DTSTART;TZID=America/Vancouver:20250820T190000
DTEND;TZID=America/Vancouver:20250820T200000
DTSTAMP:20260425T085253
CREATED:20250820T022731Z
LAST-MODIFIED:20250820T022731Z
UID:10001584-1755716400-1755720000@di2hearts.com
SUMMARY:Pearl St. Yin Yoga Class
DESCRIPTION:
URL:https://di2hearts.com/event/pearl-st-yin-yoga-class/
END:VEVENT
BEGIN:VEVENT
DTSTART;TZID=America/Vancouver:20250822T113000
DTEND;TZID=America/Vancouver:20250822T121500
DTSTAMP:20260425T085253
CREATED:20250808T175459Z
LAST-MODIFIED:20250808T175459Z
UID:10001581-1755862200-1755864900@di2hearts.com
SUMMARY:YMCA Pearl St. Chair Yoga Class
DESCRIPTION:
URL:https://di2hearts.com/event/ymca-pearl-st-chair-yoga-class/
END:VEVENT
BEGIN:VEVENT
DTSTART;TZID=America/Vancouver:20250824T100000
DTEND;TZID=America/Vancouver:20250824T110000
DTSTAMP:20260425T085253
CREATED:20250708T225415Z
LAST-MODIFIED:20250708T225415Z
UID:10000271-1756029600-1756033200@di2hearts.com
SUMMARY:Tacoma Center YMCA Gentle Yoga Class
DESCRIPTION:
URL:https://di2hearts.com/event/tacoma-center-ymca-gentle-yoga-class/2025-08-24/
END:VEVENT
BEGIN:VEVENT
DTSTART;TZID=America/Vancouver:20250824T111500
DTEND;TZID=America/Vancouver:20250824T121500
DTSTAMP:20260425T085253
CREATED:20250708T225731Z
LAST-MODIFIED:20250709T163055Z
UID:10000531-1756034100-1756037700@di2hearts.com
SUMMARY:Tacoma Center YMCA Yin Yoga Class
DESCRIPTION:
URL:https://di2hearts.com/event/tacoma-center-ymca-yin-yoga-class/2025-08-24/
END:VEVENT
BEGIN:VEVENT
DTSTART;TZID=America/Vancouver:20250825T103000
DTEND;TZID=America/Vancouver:20250825T113000
DTSTAMP:20260425T085253
CREATED:20250618T214701Z
LAST-MODIFIED:20250708T224748Z
UID:10000011-1756117800-1756121400@di2hearts.com
SUMMARY:Lakewood YMCA Gentle Yoga
DESCRIPTION:
URL:https://di2hearts.com/event/gentle-yoga/2025-08-25/
LOCATION:Lakewood YMCA
END:VEVENT
BEGIN:VEVENT
DTSTART;TZID=America/Vancouver:20250826T123000
DTEND;TZID=America/Vancouver:20250826T131500
DTSTAMP:20260425T085253
CREATED:20250709T163741Z
LAST-MODIFIED:20250709T164250Z
UID:10001052-1756211400-1756214100@di2hearts.com
SUMMARY:Pearl St YMCA Chair Yin Yoga Class
DESCRIPTION:
URL:https://di2hearts.com/event/pearl-st-ymca-chair-yin-or-mat-yoga-class/2025-08-26/
END:VEVENT
BEGIN:VEVENT
DTSTART;TZID=America/Vancouver:20250827T113000
DTEND;TZID=America/Vancouver:20250827T121500
DTSTAMP:20260425T085253
CREATED:20250709T164030Z
LAST-MODIFIED:20250709T164030Z
UID:10001313-1756294200-1756296900@di2hearts.com
SUMMARY:Pearl St. YMCA Chair Yoga Class
DESCRIPTION:
URL:https://di2hearts.com/event/pearl-st-ymca-chair-yoga-class/2025-08-27/
END:VEVENT
BEGIN:VEVENT
DTSTART;TZID=America/Vancouver:20250829T113000
DTEND;TZID=America/Vancouver:20250829T121500
DTSTAMP:20260425T085253
CREATED:20250820T022930Z
LAST-MODIFIED:20250820T225127Z
UID:10001585-1756467000-1756469700@di2hearts.com
SUMMARY:Pearl St. YMCA Chair Yoga Class
DESCRIPTION:
URL:https://di2hearts.com/event/pearl-st-chair-yoga-class/
END:VEVENT
BEGIN:VEVENT
DTSTART;TZID=America/Vancouver:20250831T100000
DTEND;TZID=America/Vancouver:20250831T110000
DTSTAMP:20260425T085253
CREATED:20250708T225415Z
LAST-MODIFIED:20250708T225415Z
UID:10000272-1756634400-1756638000@di2hearts.com
SUMMARY:Tacoma Center YMCA Gentle Yoga Class
DESCRIPTION:
URL:https://di2hearts.com/event/tacoma-center-ymca-gentle-yoga-class/2025-08-31/
END:VEVENT
BEGIN:VEVENT
DTSTART;TZID=America/Vancouver:20250831T111500
DTEND;TZID=America/Vancouver:20250831T121500
DTSTAMP:20260425T085253
CREATED:20250708T225731Z
LAST-MODIFIED:20250709T163055Z
UID:10000532-1756638900-1756642500@di2hearts.com
SUMMARY:Tacoma Center YMCA Yin Yoga Class
DESCRIPTION:
URL:https://di2hearts.com/event/tacoma-center-ymca-yin-yoga-class/2025-08-31/
END:VEVENT
BEGIN:VEVENT
DTSTART;TZID=America/Vancouver:20250831T123000
DTEND;TZID=America/Vancouver:20250831T133000
DTSTAMP:20260425T085253
CREATED:20250820T225732Z
LAST-MODIFIED:20250820T225732Z
UID:10001589-1756643400-1756647000@di2hearts.com
SUMMARY:Tacoma Center YMCA Crystal Bowl Sound Bath
DESCRIPTION:
URL:https://di2hearts.com/event/tacoma-center-ymca-crystal-bowl-sound-bath/
END:VEVENT
END:VCALENDAR