BEGIN:VCALENDAR
VERSION:2.0
PRODID:-//Di2hearts - ECPv6.15.20//NONSGML v1.0//EN
CALSCALE:GREGORIAN
METHOD:PUBLISH
X-ORIGINAL-URL:https://di2hearts.com
X-WR-CALDESC:Events for Di2hearts
REFRESH-INTERVAL;VALUE=DURATION:PT1H
X-Robots-Tag:noindex
X-PUBLISHED-TTL:PT1H
BEGIN:VTIMEZONE
TZID:America/Vancouver
BEGIN:DAYLIGHT
TZOFFSETFROM:-0800
TZOFFSETTO:-0700
TZNAME:PDT
DTSTART:20240310T100000
END:DAYLIGHT
BEGIN:STANDARD
TZOFFSETFROM:-0700
TZOFFSETTO:-0800
TZNAME:PST
DTSTART:20241103T090000
END:STANDARD
BEGIN:DAYLIGHT
TZOFFSETFROM:-0800
TZOFFSETTO:-0700
TZNAME:PDT
DTSTART:20250309T100000
END:DAYLIGHT
BEGIN:STANDARD
TZOFFSETFROM:-0700
TZOFFSETTO:-0800
TZNAME:PST
DTSTART:20251102T090000
END:STANDARD
BEGIN:DAYLIGHT
TZOFFSETFROM:-0800
TZOFFSETTO:-0700
TZNAME:PDT
DTSTART:20260308T100000
END:DAYLIGHT
BEGIN:STANDARD
TZOFFSETFROM:-0700
TZOFFSETTO:-0800
TZNAME:PST
DTSTART:20261101T090000
END:STANDARD
END:VTIMEZONE
BEGIN:VEVENT
DTSTART;TZID=America/Vancouver:20250901T103000
DTEND;TZID=America/Vancouver:20250901T113000
DTSTAMP:20260425T073140
CREATED:20250618T214701Z
LAST-MODIFIED:20250708T224748Z
UID:10000012-1756722600-1756726200@di2hearts.com
SUMMARY:Lakewood YMCA Gentle Yoga
DESCRIPTION:
URL:https://di2hearts.com/event/gentle-yoga/2025-09-01/
LOCATION:Lakewood YMCA
END:VEVENT
BEGIN:VEVENT
DTSTART;TZID=America/Vancouver:20250902T093000
DTEND;TZID=America/Vancouver:20250902T101500
DTSTAMP:20260425T073140
CREATED:20250820T225933Z
LAST-MODIFIED:20250820T225933Z
UID:10001590-1756805400-1756808100@di2hearts.com
SUMMARY:Lakewood YMCA Crystal Bowl Sound Bath
DESCRIPTION:
URL:https://di2hearts.com/event/lakewood-ymca-crystal-bowl-sound-bath/
END:VEVENT
BEGIN:VEVENT
DTSTART;TZID=America/Vancouver:20250902T123000
DTEND;TZID=America/Vancouver:20250902T131500
DTSTAMP:20260425T073140
CREATED:20250709T163741Z
LAST-MODIFIED:20250709T164250Z
UID:10001053-1756816200-1756818900@di2hearts.com
SUMMARY:Pearl St YMCA Chair Yin Yoga Class
DESCRIPTION:
URL:https://di2hearts.com/event/pearl-st-ymca-chair-yin-or-mat-yoga-class/2025-09-02/
END:VEVENT
BEGIN:VEVENT
DTSTART;TZID=America/Vancouver:20250903T113000
DTEND;TZID=America/Vancouver:20250903T121500
DTSTAMP:20260425T073140
CREATED:20250709T164030Z
LAST-MODIFIED:20250709T164030Z
UID:10001314-1756899000-1756901700@di2hearts.com
SUMMARY:Pearl St. YMCA Chair Yoga Class
DESCRIPTION:
URL:https://di2hearts.com/event/pearl-st-ymca-chair-yoga-class/2025-09-03/
END:VEVENT
BEGIN:VEVENT
DTSTART;TZID=America/Vancouver:20250904T113000
DTEND;TZID=America/Vancouver:20250904T121500
DTSTAMP:20260425T073140
CREATED:20250820T023050Z
LAST-MODIFIED:20250820T225300Z
UID:10001586-1756985400-1756988100@di2hearts.com
SUMMARY:Pearl St. YMCA Chair Yin Class
DESCRIPTION:
URL:https://di2hearts.com/event/pearl-st-chair-yin-class/
END:VEVENT
BEGIN:VEVENT
DTSTART;TZID=America/Vancouver:20250907T100000
DTEND;TZID=America/Vancouver:20250907T110000
DTSTAMP:20260425T073140
CREATED:20250708T225415Z
LAST-MODIFIED:20250708T225415Z
UID:10000273-1757239200-1757242800@di2hearts.com
SUMMARY:Tacoma Center YMCA Gentle Yoga Class
DESCRIPTION:
URL:https://di2hearts.com/event/tacoma-center-ymca-gentle-yoga-class/2025-09-07/
END:VEVENT
BEGIN:VEVENT
DTSTART;TZID=America/Vancouver:20250907T111500
DTEND;TZID=America/Vancouver:20250907T121500
DTSTAMP:20260425T073140
CREATED:20250708T225731Z
LAST-MODIFIED:20250709T163055Z
UID:10000533-1757243700-1757247300@di2hearts.com
SUMMARY:Tacoma Center YMCA Yin Yoga Class
DESCRIPTION:
URL:https://di2hearts.com/event/tacoma-center-ymca-yin-yoga-class/2025-09-07/
END:VEVENT
BEGIN:VEVENT
DTSTART;TZID=America/Vancouver:20250908T103000
DTEND;TZID=America/Vancouver:20250908T113000
DTSTAMP:20260425T073140
CREATED:20250618T214701Z
LAST-MODIFIED:20250708T224748Z
UID:10000013-1757327400-1757331000@di2hearts.com
SUMMARY:Lakewood YMCA Gentle Yoga
DESCRIPTION:
URL:https://di2hearts.com/event/gentle-yoga/2025-09-08/
LOCATION:Lakewood YMCA
END:VEVENT
BEGIN:VEVENT
DTSTART;TZID=America/Vancouver:20250908T190000
DTEND;TZID=America/Vancouver:20250908T200000
DTSTAMP:20260425T073140
CREATED:20250808T175718Z
LAST-MODIFIED:20250820T225224Z
UID:10001583-1757358000-1757361600@di2hearts.com
SUMMARY:Pearl St. YMCA Yin Yoga Class
DESCRIPTION:
URL:https://di2hearts.com/event/ymca-pearl-st-yin-yoga-class-2/
END:VEVENT
BEGIN:VEVENT
DTSTART;TZID=America/Vancouver:20250909T123000
DTEND;TZID=America/Vancouver:20250909T131500
DTSTAMP:20260425T073140
CREATED:20250709T163741Z
LAST-MODIFIED:20250709T164250Z
UID:10001054-1757421000-1757423700@di2hearts.com
SUMMARY:Pearl St YMCA Chair Yin Yoga Class
DESCRIPTION:
URL:https://di2hearts.com/event/pearl-st-ymca-chair-yin-or-mat-yoga-class/2025-09-09/
END:VEVENT
BEGIN:VEVENT
DTSTART;TZID=America/Vancouver:20250910T113000
DTEND;TZID=America/Vancouver:20250910T121500
DTSTAMP:20260425T073140
CREATED:20250709T164030Z
LAST-MODIFIED:20250709T164030Z
UID:10001315-1757503800-1757506500@di2hearts.com
SUMMARY:Pearl St. YMCA Chair Yoga Class
DESCRIPTION:
URL:https://di2hearts.com/event/pearl-st-ymca-chair-yoga-class/2025-09-10/
END:VEVENT
BEGIN:VEVENT
DTSTART;TZID=America/Vancouver:20250914T100000
DTEND;TZID=America/Vancouver:20250914T110000
DTSTAMP:20260425T073140
CREATED:20250708T225415Z
LAST-MODIFIED:20250708T225415Z
UID:10000274-1757844000-1757847600@di2hearts.com
SUMMARY:Tacoma Center YMCA Gentle Yoga Class
DESCRIPTION:
URL:https://di2hearts.com/event/tacoma-center-ymca-gentle-yoga-class/2025-09-14/
END:VEVENT
BEGIN:VEVENT
DTSTART;TZID=America/Vancouver:20250914T111500
DTEND;TZID=America/Vancouver:20250914T121500
DTSTAMP:20260425T073140
CREATED:20250708T225731Z
LAST-MODIFIED:20250709T163055Z
UID:10000534-1757848500-1757852100@di2hearts.com
SUMMARY:Tacoma Center YMCA Yin Yoga Class
DESCRIPTION:
URL:https://di2hearts.com/event/tacoma-center-ymca-yin-yoga-class/2025-09-14/
END:VEVENT
BEGIN:VEVENT
DTSTART;TZID=America/Vancouver:20250915T103000
DTEND;TZID=America/Vancouver:20250915T113000
DTSTAMP:20260425T073140
CREATED:20250618T214701Z
LAST-MODIFIED:20250708T224748Z
UID:10000014-1757932200-1757935800@di2hearts.com
SUMMARY:Lakewood YMCA Gentle Yoga
DESCRIPTION:
URL:https://di2hearts.com/event/gentle-yoga/2025-09-15/
LOCATION:Lakewood YMCA
END:VEVENT
BEGIN:VEVENT
DTSTART;TZID=America/Vancouver:20250915T120000
DTEND;TZID=America/Vancouver:20250915T130000
DTSTAMP:20260425T073140
CREATED:20250820T230446Z
LAST-MODIFIED:20250820T230446Z
UID:10001591-1757937600-1757941200@di2hearts.com
SUMMARY:Lakewood YMCA Crystal Bowl Sound Bath
DESCRIPTION:
URL:https://di2hearts.com/event/lakewood-ymca-crystal-bowl-sound-bath-2/
END:VEVENT
BEGIN:VEVENT
DTSTART;TZID=America/Vancouver:20250916T123000
DTEND;TZID=America/Vancouver:20250916T131500
DTSTAMP:20260425T073140
CREATED:20250709T163741Z
LAST-MODIFIED:20250709T164250Z
UID:10001055-1758025800-1758028500@di2hearts.com
SUMMARY:Pearl St YMCA Chair Yin Yoga Class
DESCRIPTION:
URL:https://di2hearts.com/event/pearl-st-ymca-chair-yin-or-mat-yoga-class/2025-09-16/
END:VEVENT
BEGIN:VEVENT
DTSTART;TZID=America/Vancouver:20250917T113000
DTEND;TZID=America/Vancouver:20250917T121500
DTSTAMP:20260425T073140
CREATED:20250709T164030Z
LAST-MODIFIED:20250709T164030Z
UID:10001316-1758108600-1758111300@di2hearts.com
SUMMARY:Pearl St. YMCA Chair Yoga Class
DESCRIPTION:
URL:https://di2hearts.com/event/pearl-st-ymca-chair-yoga-class/2025-09-17/
END:VEVENT
BEGIN:VEVENT
DTSTART;TZID=America/Vancouver:20250919T113000
DTEND;TZID=America/Vancouver:20250919T121500
DTSTAMP:20260425T073140
CREATED:20250911T234845Z
LAST-MODIFIED:20250911T234845Z
UID:10001593-1758281400-1758284100@di2hearts.com
SUMMARY:Pearl St. YMCA Chair Yoga class
DESCRIPTION:
URL:https://di2hearts.com/event/pearl-st-ymca-chair-yoga-class-3/
END:VEVENT
BEGIN:VEVENT
DTSTART;TZID=America/Vancouver:20250921T100000
DTEND;TZID=America/Vancouver:20250921T110000
DTSTAMP:20260425T073140
CREATED:20250708T225415Z
LAST-MODIFIED:20250708T225415Z
UID:10000275-1758448800-1758452400@di2hearts.com
SUMMARY:Tacoma Center YMCA Gentle Yoga Class
DESCRIPTION:
URL:https://di2hearts.com/event/tacoma-center-ymca-gentle-yoga-class/2025-09-21/
END:VEVENT
BEGIN:VEVENT
DTSTART;TZID=America/Vancouver:20250921T111500
DTEND;TZID=America/Vancouver:20250921T121500
DTSTAMP:20260425T073140
CREATED:20250708T225731Z
LAST-MODIFIED:20250709T163055Z
UID:10000535-1758453300-1758456900@di2hearts.com
SUMMARY:Tacoma Center YMCA Yin Yoga Class
DESCRIPTION:
URL:https://di2hearts.com/event/tacoma-center-ymca-yin-yoga-class/2025-09-21/
END:VEVENT
BEGIN:VEVENT
DTSTART;TZID=America/Vancouver:20250922T103000
DTEND;TZID=America/Vancouver:20250922T113000
DTSTAMP:20260425T073140
CREATED:20250618T214701Z
LAST-MODIFIED:20250708T224748Z
UID:10000015-1758537000-1758540600@di2hearts.com
SUMMARY:Lakewood YMCA Gentle Yoga
DESCRIPTION:
URL:https://di2hearts.com/event/gentle-yoga/2025-09-22/
LOCATION:Lakewood YMCA
END:VEVENT
BEGIN:VEVENT
DTSTART;TZID=America/Vancouver:20250922T114500
DTEND;TZID=America/Vancouver:20250922T123000
DTSTAMP:20260425T073140
CREATED:20250724T002109Z
LAST-MODIFIED:20250724T002109Z
UID:10001577-1758541500-1758544200@di2hearts.com
SUMMARY:Lakewood YMCA Chair Yoga Class
DESCRIPTION:
URL:https://di2hearts.com/event/lakewood-ymca-chair-yoga-class/
END:VEVENT
BEGIN:VEVENT
DTSTART;TZID=America/Vancouver:20250923T113000
DTEND;TZID=America/Vancouver:20250923T120000
DTSTAMP:20260425T073140
CREATED:20250724T002244Z
LAST-MODIFIED:20250724T002244Z
UID:10001578-1758627000-1758628800@di2hearts.com
SUMMARY:Pearl St YMCA Crystal Bowl Sound Bath
DESCRIPTION:
URL:https://di2hearts.com/event/pearl-st-ymca-crystal-bowl-sound-bath/
END:VEVENT
BEGIN:VEVENT
DTSTART;TZID=America/Vancouver:20250923T123000
DTEND;TZID=America/Vancouver:20250923T131500
DTSTAMP:20260425T073140
CREATED:20250709T163741Z
LAST-MODIFIED:20250709T164250Z
UID:10001056-1758630600-1758633300@di2hearts.com
SUMMARY:Pearl St YMCA Chair Yin Yoga Class
DESCRIPTION:
URL:https://di2hearts.com/event/pearl-st-ymca-chair-yin-or-mat-yoga-class/2025-09-23/
END:VEVENT
BEGIN:VEVENT
DTSTART;TZID=America/Vancouver:20250924T113000
DTEND;TZID=America/Vancouver:20250924T121500
DTSTAMP:20260425T073140
CREATED:20250709T164030Z
LAST-MODIFIED:20250709T164030Z
UID:10001317-1758713400-1758716100@di2hearts.com
SUMMARY:Pearl St. YMCA Chair Yoga Class
DESCRIPTION:
URL:https://di2hearts.com/event/pearl-st-ymca-chair-yoga-class/2025-09-24/
END:VEVENT
BEGIN:VEVENT
DTSTART;TZID=America/Vancouver:20250925T113000
DTEND;TZID=America/Vancouver:20250925T120000
DTSTAMP:20260425T073140
CREATED:20250724T002433Z
LAST-MODIFIED:20250724T002433Z
UID:10001579-1758799800-1758801600@di2hearts.com
SUMMARY:Pearl St YMCA Chair Yin Class
DESCRIPTION:
URL:https://di2hearts.com/event/pearl-st-ymca-chair-yin-class/
END:VEVENT
BEGIN:VEVENT
DTSTART;TZID=America/Vancouver:20250928T100000
DTEND;TZID=America/Vancouver:20250928T110000
DTSTAMP:20260425T073140
CREATED:20250708T225415Z
LAST-MODIFIED:20250708T225415Z
UID:10000276-1759053600-1759057200@di2hearts.com
SUMMARY:Tacoma Center YMCA Gentle Yoga Class
DESCRIPTION:
URL:https://di2hearts.com/event/tacoma-center-ymca-gentle-yoga-class/2025-09-28/
END:VEVENT
BEGIN:VEVENT
DTSTART;TZID=America/Vancouver:20250928T111500
DTEND;TZID=America/Vancouver:20250928T121500
DTSTAMP:20260425T073140
CREATED:20250708T225731Z
LAST-MODIFIED:20250709T163055Z
UID:10000536-1759058100-1759061700@di2hearts.com
SUMMARY:Tacoma Center YMCA Yin Yoga Class
DESCRIPTION:
URL:https://di2hearts.com/event/tacoma-center-ymca-yin-yoga-class/2025-09-28/
END:VEVENT
BEGIN:VEVENT
DTSTART;TZID=America/Vancouver:20250928T123000
DTEND;TZID=America/Vancouver:20250928T133000
DTSTAMP:20260425T073140
CREATED:20250820T231320Z
LAST-MODIFIED:20250820T231320Z
UID:10001592-1759062600-1759066200@di2hearts.com
SUMMARY:Tacoma Center YMCA Crystal Bowl Sound Bath
DESCRIPTION:
URL:https://di2hearts.com/event/tacoma-center-ymca-crystal-bowl-sound-bath-2/
END:VEVENT
BEGIN:VEVENT
DTSTART;TZID=America/Vancouver:20250929T103000
DTEND;TZID=America/Vancouver:20250929T113000
DTSTAMP:20260425T073140
CREATED:20250618T214701Z
LAST-MODIFIED:20250708T224748Z
UID:10000016-1759141800-1759145400@di2hearts.com
SUMMARY:Lakewood YMCA Gentle Yoga
DESCRIPTION:
URL:https://di2hearts.com/event/gentle-yoga/2025-09-29/
LOCATION:Lakewood YMCA
END:VEVENT
END:VCALENDAR