BEGIN:VCALENDAR
VERSION:2.0
PRODID:-//Di2hearts - ECPv6.15.20//NONSGML v1.0//EN
CALSCALE:GREGORIAN
METHOD:PUBLISH
X-WR-CALNAME:Di2hearts
X-ORIGINAL-URL:https://di2hearts.com
X-WR-CALDESC:Events for Di2hearts
REFRESH-INTERVAL;VALUE=DURATION:PT1H
X-Robots-Tag:noindex
X-PUBLISHED-TTL:PT1H
BEGIN:VTIMEZONE
TZID:America/Vancouver
BEGIN:DAYLIGHT
TZOFFSETFROM:-0800
TZOFFSETTO:-0700
TZNAME:PDT
DTSTART:20240310T100000
END:DAYLIGHT
BEGIN:STANDARD
TZOFFSETFROM:-0700
TZOFFSETTO:-0800
TZNAME:PST
DTSTART:20241103T090000
END:STANDARD
BEGIN:DAYLIGHT
TZOFFSETFROM:-0800
TZOFFSETTO:-0700
TZNAME:PDT
DTSTART:20250309T100000
END:DAYLIGHT
BEGIN:STANDARD
TZOFFSETFROM:-0700
TZOFFSETTO:-0800
TZNAME:PST
DTSTART:20251102T090000
END:STANDARD
BEGIN:DAYLIGHT
TZOFFSETFROM:-0800
TZOFFSETTO:-0700
TZNAME:PDT
DTSTART:20260308T100000
END:DAYLIGHT
BEGIN:STANDARD
TZOFFSETFROM:-0700
TZOFFSETTO:-0800
TZNAME:PST
DTSTART:20261101T090000
END:STANDARD
END:VTIMEZONE
BEGIN:VEVENT
DTSTART;TZID=America/Vancouver:20251201T103000
DTEND;TZID=America/Vancouver:20251201T113000
DTSTAMP:20260421T062809
CREATED:20250618T214701Z
LAST-MODIFIED:20250708T224748Z
UID:10000025-1764585000-1764588600@di2hearts.com
SUMMARY:Lakewood YMCA Gentle Yoga
DESCRIPTION:
URL:https://di2hearts.com/event/gentle-yoga/2025-12-01/
LOCATION:Lakewood YMCA
END:VEVENT
BEGIN:VEVENT
DTSTART;TZID=America/Vancouver:20251202T123000
DTEND;TZID=America/Vancouver:20251202T131500
DTSTAMP:20260421T062809
CREATED:20250709T163741Z
LAST-MODIFIED:20250709T164250Z
UID:10001066-1764678600-1764681300@di2hearts.com
SUMMARY:Pearl St YMCA Chair Yin Yoga Class
DESCRIPTION:
URL:https://di2hearts.com/event/pearl-st-ymca-chair-yin-or-mat-yoga-class/2025-12-02/
END:VEVENT
BEGIN:VEVENT
DTSTART;TZID=America/Vancouver:20251203T113000
DTEND;TZID=America/Vancouver:20251203T121500
DTSTAMP:20260421T062809
CREATED:20250709T164030Z
LAST-MODIFIED:20250709T164030Z
UID:10001327-1764761400-1764764100@di2hearts.com
SUMMARY:Pearl St. YMCA Chair Yoga Class
DESCRIPTION:
URL:https://di2hearts.com/event/pearl-st-ymca-chair-yoga-class/2025-12-03/
END:VEVENT
BEGIN:VEVENT
DTSTART;TZID=America/Vancouver:20251207T100000
DTEND;TZID=America/Vancouver:20251207T110000
DTSTAMP:20260421T062809
CREATED:20250708T225415Z
LAST-MODIFIED:20250708T225415Z
UID:10000286-1765101600-1765105200@di2hearts.com
SUMMARY:Tacoma Center YMCA Gentle Yoga Class
DESCRIPTION:
URL:https://di2hearts.com/event/tacoma-center-ymca-gentle-yoga-class/2025-12-07/
END:VEVENT
BEGIN:VEVENT
DTSTART;TZID=America/Vancouver:20251207T111500
DTEND;TZID=America/Vancouver:20251207T121500
DTSTAMP:20260421T062809
CREATED:20250708T225731Z
LAST-MODIFIED:20250709T163055Z
UID:10000546-1765106100-1765109700@di2hearts.com
SUMMARY:Tacoma Center YMCA Yin Yoga Class
DESCRIPTION:
URL:https://di2hearts.com/event/tacoma-center-ymca-yin-yoga-class/2025-12-07/
END:VEVENT
BEGIN:VEVENT
DTSTART;TZID=America/Vancouver:20251208T103000
DTEND;TZID=America/Vancouver:20251208T113000
DTSTAMP:20260421T062809
CREATED:20250618T214701Z
LAST-MODIFIED:20250708T224748Z
UID:10000026-1765189800-1765193400@di2hearts.com
SUMMARY:Lakewood YMCA Gentle Yoga
DESCRIPTION:
URL:https://di2hearts.com/event/gentle-yoga/2025-12-08/
LOCATION:Lakewood YMCA
END:VEVENT
BEGIN:VEVENT
DTSTART;TZID=America/Vancouver:20251209T123000
DTEND;TZID=America/Vancouver:20251209T131500
DTSTAMP:20260421T062809
CREATED:20250709T163741Z
LAST-MODIFIED:20250709T164250Z
UID:10001067-1765283400-1765286100@di2hearts.com
SUMMARY:Pearl St YMCA Chair Yin Yoga Class
DESCRIPTION:
URL:https://di2hearts.com/event/pearl-st-ymca-chair-yin-or-mat-yoga-class/2025-12-09/
END:VEVENT
BEGIN:VEVENT
DTSTART;TZID=America/Vancouver:20251209T133000
DTEND;TZID=America/Vancouver:20251209T143000
DTSTAMP:20260421T062809
CREATED:20251203T175309Z
LAST-MODIFIED:20251203T175309Z
UID:10001652-1765287000-1765290600@di2hearts.com
SUMMARY:Pearl St. YMCA Crystal Bowl Sound Bath
DESCRIPTION:
URL:https://di2hearts.com/event/pearl-st-ymca-crystal-bowl-sound-bath-2/
END:VEVENT
BEGIN:VEVENT
DTSTART;TZID=America/Vancouver:20251210T113000
DTEND;TZID=America/Vancouver:20251210T121500
DTSTAMP:20260421T062809
CREATED:20250709T164030Z
LAST-MODIFIED:20250709T164030Z
UID:10001328-1765366200-1765368900@di2hearts.com
SUMMARY:Pearl St. YMCA Chair Yoga Class
DESCRIPTION:
URL:https://di2hearts.com/event/pearl-st-ymca-chair-yoga-class/2025-12-10/
END:VEVENT
BEGIN:VEVENT
DTSTART;TZID=America/Vancouver:20251215T103000
DTEND;TZID=America/Vancouver:20251215T113000
DTSTAMP:20260421T062809
CREATED:20250618T214701Z
LAST-MODIFIED:20250708T224748Z
UID:10000027-1765794600-1765798200@di2hearts.com
SUMMARY:Lakewood YMCA Gentle Yoga
DESCRIPTION:
URL:https://di2hearts.com/event/gentle-yoga/2025-12-15/
LOCATION:Lakewood YMCA
END:VEVENT
BEGIN:VEVENT
DTSTART;TZID=America/Vancouver:20251215T120000
DTEND;TZID=America/Vancouver:20251215T130000
DTSTAMP:20260421T062809
CREATED:20251101T191401Z
LAST-MODIFIED:20251101T191401Z
UID:10001649-1765800000-1765803600@di2hearts.com
SUMMARY:Lakewood YMCA Crystal Bowl Sound Bath
DESCRIPTION:
URL:https://di2hearts.com/event/lakewood-ymca-crystal-bowl-sound-bath-4/
END:VEVENT
BEGIN:VEVENT
DTSTART;TZID=America/Vancouver:20251216T123000
DTEND;TZID=America/Vancouver:20251216T131500
DTSTAMP:20260421T062809
CREATED:20250709T163741Z
LAST-MODIFIED:20250709T164250Z
UID:10001068-1765888200-1765890900@di2hearts.com
SUMMARY:Pearl St YMCA Chair Yin Yoga Class
DESCRIPTION:
URL:https://di2hearts.com/event/pearl-st-ymca-chair-yin-or-mat-yoga-class/2025-12-16/
END:VEVENT
BEGIN:VEVENT
DTSTART;TZID=America/Vancouver:20251217T113000
DTEND;TZID=America/Vancouver:20251217T121500
DTSTAMP:20260421T062809
CREATED:20250709T164030Z
LAST-MODIFIED:20250709T164030Z
UID:10001329-1765971000-1765973700@di2hearts.com
SUMMARY:Pearl St. YMCA Chair Yoga Class
DESCRIPTION:
URL:https://di2hearts.com/event/pearl-st-ymca-chair-yoga-class/2025-12-17/
END:VEVENT
BEGIN:VEVENT
DTSTART;TZID=America/Vancouver:20251221T100000
DTEND;TZID=America/Vancouver:20251221T110000
DTSTAMP:20260421T062809
CREATED:20250708T225415Z
LAST-MODIFIED:20250708T225415Z
UID:10000288-1766311200-1766314800@di2hearts.com
SUMMARY:Tacoma Center YMCA Gentle Yoga Class
DESCRIPTION:
URL:https://di2hearts.com/event/tacoma-center-ymca-gentle-yoga-class/2025-12-21/
END:VEVENT
BEGIN:VEVENT
DTSTART;TZID=America/Vancouver:20251221T111500
DTEND;TZID=America/Vancouver:20251221T121500
DTSTAMP:20260421T062809
CREATED:20250708T225731Z
LAST-MODIFIED:20250709T163055Z
UID:10000548-1766315700-1766319300@di2hearts.com
SUMMARY:Tacoma Center YMCA Yin Yoga Class
DESCRIPTION:
URL:https://di2hearts.com/event/tacoma-center-ymca-yin-yoga-class/2025-12-21/
END:VEVENT
BEGIN:VEVENT
DTSTART;TZID=America/Vancouver:20251222T103000
DTEND;TZID=America/Vancouver:20251222T113000
DTSTAMP:20260421T062809
CREATED:20250618T214701Z
LAST-MODIFIED:20250708T224748Z
UID:10000028-1766399400-1766403000@di2hearts.com
SUMMARY:Lakewood YMCA Gentle Yoga
DESCRIPTION:
URL:https://di2hearts.com/event/gentle-yoga/2025-12-22/
LOCATION:Lakewood YMCA
END:VEVENT
BEGIN:VEVENT
DTSTART;TZID=America/Vancouver:20251222T190000
DTEND;TZID=America/Vancouver:20251222T200000
DTSTAMP:20260421T062809
CREATED:20251222T010444Z
LAST-MODIFIED:20251222T010444Z
UID:10001659-1766430000-1766433600@di2hearts.com
SUMMARY:Pearl St Yin Yoga
DESCRIPTION:
URL:https://di2hearts.com/event/pearl-st-yin-yoga/
END:VEVENT
BEGIN:VEVENT
DTSTART;TZID=America/Vancouver:20251223T123000
DTEND;TZID=America/Vancouver:20251223T131500
DTSTAMP:20260421T062809
CREATED:20250709T163741Z
LAST-MODIFIED:20250709T164250Z
UID:10001069-1766493000-1766495700@di2hearts.com
SUMMARY:Pearl St YMCA Chair Yin Yoga Class
DESCRIPTION:
URL:https://di2hearts.com/event/pearl-st-ymca-chair-yin-or-mat-yoga-class/2025-12-23/
END:VEVENT
BEGIN:VEVENT
DTSTART;TZID=America/Vancouver:20251224T113000
DTEND;TZID=America/Vancouver:20251224T121500
DTSTAMP:20260421T062809
CREATED:20250709T164030Z
LAST-MODIFIED:20250709T164030Z
UID:10001330-1766575800-1766578500@di2hearts.com
SUMMARY:Pearl St. YMCA Chair Yoga Class
DESCRIPTION:
URL:https://di2hearts.com/event/pearl-st-ymca-chair-yoga-class/2025-12-24/
END:VEVENT
BEGIN:VEVENT
DTSTART;TZID=America/Vancouver:20251228T100000
DTEND;TZID=America/Vancouver:20251228T110000
DTSTAMP:20260421T062809
CREATED:20250708T225415Z
LAST-MODIFIED:20250708T225415Z
UID:10000289-1766916000-1766919600@di2hearts.com
SUMMARY:Tacoma Center YMCA Gentle Yoga Class
DESCRIPTION:
URL:https://di2hearts.com/event/tacoma-center-ymca-gentle-yoga-class/2025-12-28/
END:VEVENT
BEGIN:VEVENT
DTSTART;TZID=America/Vancouver:20251228T111500
DTEND;TZID=America/Vancouver:20251228T121500
DTSTAMP:20260421T062809
CREATED:20250708T225731Z
LAST-MODIFIED:20250709T163055Z
UID:10000549-1766920500-1766924100@di2hearts.com
SUMMARY:Tacoma Center YMCA Yin Yoga Class
DESCRIPTION:
URL:https://di2hearts.com/event/tacoma-center-ymca-yin-yoga-class/2025-12-28/
END:VEVENT
BEGIN:VEVENT
DTSTART;TZID=America/Vancouver:20251228T123000
DTEND;TZID=America/Vancouver:20251228T133000
DTSTAMP:20260421T062809
CREATED:20251101T191615Z
LAST-MODIFIED:20251101T191615Z
UID:10001650-1766925000-1766928600@di2hearts.com
SUMMARY:Tacoma Center YMCA crystal bowl sound bath
DESCRIPTION:
URL:https://di2hearts.com/event/tacoma-center-ymca-crystal-bowl-sound-bath-5/
END:VEVENT
BEGIN:VEVENT
DTSTART;TZID=America/Vancouver:20251229T103000
DTEND;TZID=America/Vancouver:20251229T113000
DTSTAMP:20260421T062809
CREATED:20250618T214701Z
LAST-MODIFIED:20250708T224748Z
UID:10000029-1767004200-1767007800@di2hearts.com
SUMMARY:Lakewood YMCA Gentle Yoga
DESCRIPTION:
URL:https://di2hearts.com/event/gentle-yoga/2025-12-29/
LOCATION:Lakewood YMCA
END:VEVENT
BEGIN:VEVENT
DTSTART;TZID=America/Vancouver:20251229T190000
DTEND;TZID=America/Vancouver:20251229T200000
DTSTAMP:20260421T062809
CREATED:20251203T175850Z
LAST-MODIFIED:20251203T175850Z
UID:10001654-1767034800-1767038400@di2hearts.com
SUMMARY:Pearl St. YMCA Yin yoga
DESCRIPTION:
URL:https://di2hearts.com/event/pearl-st-ymca-yin-yoga-2/
END:VEVENT
BEGIN:VEVENT
DTSTART;TZID=America/Vancouver:20251230T123000
DTEND;TZID=America/Vancouver:20251230T131500
DTSTAMP:20260421T062809
CREATED:20250709T163741Z
LAST-MODIFIED:20250709T164250Z
UID:10001070-1767097800-1767100500@di2hearts.com
SUMMARY:Pearl St YMCA Chair Yin Yoga Class
DESCRIPTION:
URL:https://di2hearts.com/event/pearl-st-ymca-chair-yin-or-mat-yoga-class/2025-12-30/
END:VEVENT
BEGIN:VEVENT
DTSTART;TZID=America/Vancouver:20251231T113000
DTEND;TZID=America/Vancouver:20251231T121500
DTSTAMP:20260421T062809
CREATED:20250709T164030Z
LAST-MODIFIED:20250709T164030Z
UID:10001331-1767180600-1767183300@di2hearts.com
SUMMARY:Pearl St. YMCA Chair Yoga Class
DESCRIPTION:
URL:https://di2hearts.com/event/pearl-st-ymca-chair-yoga-class/2025-12-31/
END:VEVENT
END:VCALENDAR