BEGIN:VCALENDAR
VERSION:2.0
PRODID:-//Di2hearts - ECPv6.15.20//NONSGML v1.0//EN
CALSCALE:GREGORIAN
METHOD:PUBLISH
X-WR-CALNAME:Di2hearts
X-ORIGINAL-URL:https://di2hearts.com
X-WR-CALDESC:Events for Di2hearts
REFRESH-INTERVAL;VALUE=DURATION:PT1H
X-Robots-Tag:noindex
X-PUBLISHED-TTL:PT1H
BEGIN:VTIMEZONE
TZID:America/Vancouver
BEGIN:DAYLIGHT
TZOFFSETFROM:-0800
TZOFFSETTO:-0700
TZNAME:PDT
DTSTART:20250309T100000
END:DAYLIGHT
BEGIN:STANDARD
TZOFFSETFROM:-0700
TZOFFSETTO:-0800
TZNAME:PST
DTSTART:20251102T090000
END:STANDARD
BEGIN:DAYLIGHT
TZOFFSETFROM:-0800
TZOFFSETTO:-0700
TZNAME:PDT
DTSTART:20260308T100000
END:DAYLIGHT
BEGIN:STANDARD
TZOFFSETFROM:-0700
TZOFFSETTO:-0800
TZNAME:PST
DTSTART:20261101T090000
END:STANDARD
BEGIN:DAYLIGHT
TZOFFSETFROM:-0800
TZOFFSETTO:-0700
TZNAME:PDT
DTSTART:20270314T100000
END:DAYLIGHT
BEGIN:STANDARD
TZOFFSETFROM:-0700
TZOFFSETTO:-0800
TZNAME:PST
DTSTART:20271107T090000
END:STANDARD
END:VTIMEZONE
BEGIN:VEVENT
DTSTART;TZID=America/Vancouver:20260802T100000
DTEND;TZID=America/Vancouver:20260802T110000
DTSTAMP:20260422T045403
CREATED:20250708T225415Z
LAST-MODIFIED:20250708T225415Z
UID:10000320-1785664800-1785668400@di2hearts.com
SUMMARY:Tacoma Center YMCA Gentle Yoga Class
DESCRIPTION:
URL:https://di2hearts.com/event/tacoma-center-ymca-gentle-yoga-class/2026-08-02/
END:VEVENT
BEGIN:VEVENT
DTSTART;TZID=America/Vancouver:20260802T111500
DTEND;TZID=America/Vancouver:20260802T121500
DTSTAMP:20260422T045403
CREATED:20250708T225731Z
LAST-MODIFIED:20250709T163055Z
UID:10000580-1785669300-1785672900@di2hearts.com
SUMMARY:Tacoma Center YMCA Yin Yoga Class
DESCRIPTION:
URL:https://di2hearts.com/event/tacoma-center-ymca-yin-yoga-class/2026-08-02/
END:VEVENT
BEGIN:VEVENT
DTSTART;TZID=America/Vancouver:20260803T103000
DTEND;TZID=America/Vancouver:20260803T113000
DTSTAMP:20260422T045403
CREATED:20250618T214701Z
LAST-MODIFIED:20250708T224748Z
UID:10000060-1785753000-1785756600@di2hearts.com
SUMMARY:Lakewood YMCA Gentle Yoga
DESCRIPTION:
URL:https://di2hearts.com/event/gentle-yoga/2026-08-03/
LOCATION:Lakewood YMCA
END:VEVENT
BEGIN:VEVENT
DTSTART;TZID=America/Vancouver:20260804T123000
DTEND;TZID=America/Vancouver:20260804T131500
DTSTAMP:20260422T045403
CREATED:20250709T163741Z
LAST-MODIFIED:20250709T164250Z
UID:10001101-1785846600-1785849300@di2hearts.com
SUMMARY:Pearl St YMCA Chair Yin Yoga Class
DESCRIPTION:
URL:https://di2hearts.com/event/pearl-st-ymca-chair-yin-or-mat-yoga-class/2026-08-04/
END:VEVENT
BEGIN:VEVENT
DTSTART;TZID=America/Vancouver:20260805T093000
DTEND;TZID=America/Vancouver:20260805T103000
DTSTAMP:20260422T045403
CREATED:20260315T234958Z
LAST-MODIFIED:20260315T234958Z
UID:10001826-1785922200-1785925800@di2hearts.com
SUMMARY:Lakewood YMCA Chair Yin Yoga (or on your mat)
DESCRIPTION:
URL:https://di2hearts.com/event/lakewood-ymca-chair-yin-yoga-or-on-your-mat/2026-08-05/
END:VEVENT
BEGIN:VEVENT
DTSTART;TZID=America/Vancouver:20260805T113000
DTEND;TZID=America/Vancouver:20260805T121500
DTSTAMP:20260422T045403
CREATED:20250709T164030Z
LAST-MODIFIED:20250709T164030Z
UID:10001362-1785929400-1785932100@di2hearts.com
SUMMARY:Pearl St. YMCA Chair Yoga Class
DESCRIPTION:
URL:https://di2hearts.com/event/pearl-st-ymca-chair-yoga-class/2026-08-05/
END:VEVENT
BEGIN:VEVENT
DTSTART;TZID=America/Vancouver:20260809T100000
DTEND;TZID=America/Vancouver:20260809T110000
DTSTAMP:20260422T045403
CREATED:20250708T225415Z
LAST-MODIFIED:20250708T225415Z
UID:10000321-1786269600-1786273200@di2hearts.com
SUMMARY:Tacoma Center YMCA Gentle Yoga Class
DESCRIPTION:
URL:https://di2hearts.com/event/tacoma-center-ymca-gentle-yoga-class/2026-08-09/
END:VEVENT
BEGIN:VEVENT
DTSTART;TZID=America/Vancouver:20260809T111500
DTEND;TZID=America/Vancouver:20260809T121500
DTSTAMP:20260422T045403
CREATED:20250708T225731Z
LAST-MODIFIED:20250709T163055Z
UID:10000581-1786274100-1786277700@di2hearts.com
SUMMARY:Tacoma Center YMCA Yin Yoga Class
DESCRIPTION:
URL:https://di2hearts.com/event/tacoma-center-ymca-yin-yoga-class/2026-08-09/
END:VEVENT
BEGIN:VEVENT
DTSTART;TZID=America/Vancouver:20260810T103000
DTEND;TZID=America/Vancouver:20260810T113000
DTSTAMP:20260422T045403
CREATED:20250618T214701Z
LAST-MODIFIED:20250708T224748Z
UID:10000061-1786357800-1786361400@di2hearts.com
SUMMARY:Lakewood YMCA Gentle Yoga
DESCRIPTION:
URL:https://di2hearts.com/event/gentle-yoga/2026-08-10/
LOCATION:Lakewood YMCA
END:VEVENT
BEGIN:VEVENT
DTSTART;TZID=America/Vancouver:20260811T123000
DTEND;TZID=America/Vancouver:20260811T131500
DTSTAMP:20260422T045403
CREATED:20250709T163741Z
LAST-MODIFIED:20250709T164250Z
UID:10001102-1786451400-1786454100@di2hearts.com
SUMMARY:Pearl St YMCA Chair Yin Yoga Class
DESCRIPTION:
URL:https://di2hearts.com/event/pearl-st-ymca-chair-yin-or-mat-yoga-class/2026-08-11/
END:VEVENT
BEGIN:VEVENT
DTSTART;TZID=America/Vancouver:20260812T093000
DTEND;TZID=America/Vancouver:20260812T103000
DTSTAMP:20260422T045403
CREATED:20260315T234958Z
LAST-MODIFIED:20260315T234958Z
UID:10001827-1786527000-1786530600@di2hearts.com
SUMMARY:Lakewood YMCA Chair Yin Yoga (or on your mat)
DESCRIPTION:
URL:https://di2hearts.com/event/lakewood-ymca-chair-yin-yoga-or-on-your-mat/2026-08-12/
END:VEVENT
BEGIN:VEVENT
DTSTART;TZID=America/Vancouver:20260812T113000
DTEND;TZID=America/Vancouver:20260812T121500
DTSTAMP:20260422T045403
CREATED:20250709T164030Z
LAST-MODIFIED:20250709T164030Z
UID:10001363-1786534200-1786536900@di2hearts.com
SUMMARY:Pearl St. YMCA Chair Yoga Class
DESCRIPTION:
URL:https://di2hearts.com/event/pearl-st-ymca-chair-yoga-class/2026-08-12/
END:VEVENT
BEGIN:VEVENT
DTSTART;TZID=America/Vancouver:20260816T100000
DTEND;TZID=America/Vancouver:20260816T110000
DTSTAMP:20260422T045403
CREATED:20250708T225415Z
LAST-MODIFIED:20250708T225415Z
UID:10000322-1786874400-1786878000@di2hearts.com
SUMMARY:Tacoma Center YMCA Gentle Yoga Class
DESCRIPTION:
URL:https://di2hearts.com/event/tacoma-center-ymca-gentle-yoga-class/2026-08-16/
END:VEVENT
BEGIN:VEVENT
DTSTART;TZID=America/Vancouver:20260816T111500
DTEND;TZID=America/Vancouver:20260816T121500
DTSTAMP:20260422T045403
CREATED:20250708T225731Z
LAST-MODIFIED:20250709T163055Z
UID:10000582-1786878900-1786882500@di2hearts.com
SUMMARY:Tacoma Center YMCA Yin Yoga Class
DESCRIPTION:
URL:https://di2hearts.com/event/tacoma-center-ymca-yin-yoga-class/2026-08-16/
END:VEVENT
BEGIN:VEVENT
DTSTART;TZID=America/Vancouver:20260817T103000
DTEND;TZID=America/Vancouver:20260817T113000
DTSTAMP:20260422T045403
CREATED:20250618T214701Z
LAST-MODIFIED:20250708T224748Z
UID:10000062-1786962600-1786966200@di2hearts.com
SUMMARY:Lakewood YMCA Gentle Yoga
DESCRIPTION:
URL:https://di2hearts.com/event/gentle-yoga/2026-08-17/
LOCATION:Lakewood YMCA
END:VEVENT
BEGIN:VEVENT
DTSTART;TZID=America/Vancouver:20260818T123000
DTEND;TZID=America/Vancouver:20260818T131500
DTSTAMP:20260422T045403
CREATED:20250709T163741Z
LAST-MODIFIED:20250709T164250Z
UID:10001103-1787056200-1787058900@di2hearts.com
SUMMARY:Pearl St YMCA Chair Yin Yoga Class
DESCRIPTION:
URL:https://di2hearts.com/event/pearl-st-ymca-chair-yin-or-mat-yoga-class/2026-08-18/
END:VEVENT
BEGIN:VEVENT
DTSTART;TZID=America/Vancouver:20260819T093000
DTEND;TZID=America/Vancouver:20260819T103000
DTSTAMP:20260422T045403
CREATED:20260315T234958Z
LAST-MODIFIED:20260315T234958Z
UID:10001828-1787131800-1787135400@di2hearts.com
SUMMARY:Lakewood YMCA Chair Yin Yoga (or on your mat)
DESCRIPTION:
URL:https://di2hearts.com/event/lakewood-ymca-chair-yin-yoga-or-on-your-mat/2026-08-19/
END:VEVENT
BEGIN:VEVENT
DTSTART;TZID=America/Vancouver:20260819T113000
DTEND;TZID=America/Vancouver:20260819T121500
DTSTAMP:20260422T045403
CREATED:20250709T164030Z
LAST-MODIFIED:20250709T164030Z
UID:10001364-1787139000-1787141700@di2hearts.com
SUMMARY:Pearl St. YMCA Chair Yoga Class
DESCRIPTION:
URL:https://di2hearts.com/event/pearl-st-ymca-chair-yoga-class/2026-08-19/
END:VEVENT
BEGIN:VEVENT
DTSTART;TZID=America/Vancouver:20260823T100000
DTEND;TZID=America/Vancouver:20260823T110000
DTSTAMP:20260422T045403
CREATED:20250708T225415Z
LAST-MODIFIED:20250708T225415Z
UID:10000323-1787479200-1787482800@di2hearts.com
SUMMARY:Tacoma Center YMCA Gentle Yoga Class
DESCRIPTION:
URL:https://di2hearts.com/event/tacoma-center-ymca-gentle-yoga-class/2026-08-23/
END:VEVENT
BEGIN:VEVENT
DTSTART;TZID=America/Vancouver:20260823T111500
DTEND;TZID=America/Vancouver:20260823T121500
DTSTAMP:20260422T045403
CREATED:20250708T225731Z
LAST-MODIFIED:20250709T163055Z
UID:10000583-1787483700-1787487300@di2hearts.com
SUMMARY:Tacoma Center YMCA Yin Yoga Class
DESCRIPTION:
URL:https://di2hearts.com/event/tacoma-center-ymca-yin-yoga-class/2026-08-23/
END:VEVENT
BEGIN:VEVENT
DTSTART;TZID=America/Vancouver:20260824T103000
DTEND;TZID=America/Vancouver:20260824T113000
DTSTAMP:20260422T045403
CREATED:20250618T214701Z
LAST-MODIFIED:20250708T224748Z
UID:10000063-1787567400-1787571000@di2hearts.com
SUMMARY:Lakewood YMCA Gentle Yoga
DESCRIPTION:
URL:https://di2hearts.com/event/gentle-yoga/2026-08-24/
LOCATION:Lakewood YMCA
END:VEVENT
BEGIN:VEVENT
DTSTART;TZID=America/Vancouver:20260825T123000
DTEND;TZID=America/Vancouver:20260825T131500
DTSTAMP:20260422T045403
CREATED:20250709T163741Z
LAST-MODIFIED:20250709T164250Z
UID:10001104-1787661000-1787663700@di2hearts.com
SUMMARY:Pearl St YMCA Chair Yin Yoga Class
DESCRIPTION:
URL:https://di2hearts.com/event/pearl-st-ymca-chair-yin-or-mat-yoga-class/2026-08-25/
END:VEVENT
BEGIN:VEVENT
DTSTART;TZID=America/Vancouver:20260826T093000
DTEND;TZID=America/Vancouver:20260826T103000
DTSTAMP:20260422T045403
CREATED:20260315T234958Z
LAST-MODIFIED:20260315T234958Z
UID:10001829-1787736600-1787740200@di2hearts.com
SUMMARY:Lakewood YMCA Chair Yin Yoga (or on your mat)
DESCRIPTION:
URL:https://di2hearts.com/event/lakewood-ymca-chair-yin-yoga-or-on-your-mat/2026-08-26/
END:VEVENT
BEGIN:VEVENT
DTSTART;TZID=America/Vancouver:20260826T113000
DTEND;TZID=America/Vancouver:20260826T121500
DTSTAMP:20260422T045403
CREATED:20250709T164030Z
LAST-MODIFIED:20250709T164030Z
UID:10001365-1787743800-1787746500@di2hearts.com
SUMMARY:Pearl St. YMCA Chair Yoga Class
DESCRIPTION:
URL:https://di2hearts.com/event/pearl-st-ymca-chair-yoga-class/2026-08-26/
END:VEVENT
BEGIN:VEVENT
DTSTART;TZID=America/Vancouver:20260830T100000
DTEND;TZID=America/Vancouver:20260830T110000
DTSTAMP:20260422T045403
CREATED:20250708T225415Z
LAST-MODIFIED:20250708T225415Z
UID:10000324-1788084000-1788087600@di2hearts.com
SUMMARY:Tacoma Center YMCA Gentle Yoga Class
DESCRIPTION:
URL:https://di2hearts.com/event/tacoma-center-ymca-gentle-yoga-class/2026-08-30/
END:VEVENT
BEGIN:VEVENT
DTSTART;TZID=America/Vancouver:20260830T111500
DTEND;TZID=America/Vancouver:20260830T121500
DTSTAMP:20260422T045403
CREATED:20250708T225731Z
LAST-MODIFIED:20250709T163055Z
UID:10000584-1788088500-1788092100@di2hearts.com
SUMMARY:Tacoma Center YMCA Yin Yoga Class
DESCRIPTION:
URL:https://di2hearts.com/event/tacoma-center-ymca-yin-yoga-class/2026-08-30/
END:VEVENT
BEGIN:VEVENT
DTSTART;TZID=America/Vancouver:20260831T103000
DTEND;TZID=America/Vancouver:20260831T113000
DTSTAMP:20260422T045403
CREATED:20250618T214701Z
LAST-MODIFIED:20250708T224748Z
UID:10000064-1788172200-1788175800@di2hearts.com
SUMMARY:Lakewood YMCA Gentle Yoga
DESCRIPTION:
URL:https://di2hearts.com/event/gentle-yoga/2026-08-31/
LOCATION:Lakewood YMCA
END:VEVENT
END:VCALENDAR