BEGIN:VCALENDAR
VERSION:2.0
PRODID:-//Di2hearts - ECPv6.15.20//NONSGML v1.0//EN
CALSCALE:GREGORIAN
METHOD:PUBLISH
X-WR-CALNAME:Di2hearts
X-ORIGINAL-URL:https://di2hearts.com
X-WR-CALDESC:Events for Di2hearts
REFRESH-INTERVAL;VALUE=DURATION:PT1H
X-Robots-Tag:noindex
X-PUBLISHED-TTL:PT1H
BEGIN:VTIMEZONE
TZID:America/Vancouver
BEGIN:DAYLIGHT
TZOFFSETFROM:-0800
TZOFFSETTO:-0700
TZNAME:PDT
DTSTART:20250309T100000
END:DAYLIGHT
BEGIN:STANDARD
TZOFFSETFROM:-0700
TZOFFSETTO:-0800
TZNAME:PST
DTSTART:20251102T090000
END:STANDARD
BEGIN:DAYLIGHT
TZOFFSETFROM:-0800
TZOFFSETTO:-0700
TZNAME:PDT
DTSTART:20260308T100000
END:DAYLIGHT
BEGIN:STANDARD
TZOFFSETFROM:-0700
TZOFFSETTO:-0800
TZNAME:PST
DTSTART:20261101T090000
END:STANDARD
BEGIN:DAYLIGHT
TZOFFSETFROM:-0800
TZOFFSETTO:-0700
TZNAME:PDT
DTSTART:20270314T100000
END:DAYLIGHT
BEGIN:STANDARD
TZOFFSETFROM:-0700
TZOFFSETTO:-0800
TZNAME:PST
DTSTART:20271107T090000
END:STANDARD
END:VTIMEZONE
BEGIN:VEVENT
DTSTART;TZID=America/Vancouver:20261101T100000
DTEND;TZID=America/Vancouver:20261101T110000
DTSTAMP:20260422T091916
CREATED:20250708T225415Z
LAST-MODIFIED:20250708T225415Z
UID:10000333-1793527200-1793530800@di2hearts.com
SUMMARY:Tacoma Center YMCA Gentle Yoga Class
DESCRIPTION:
URL:https://di2hearts.com/event/tacoma-center-ymca-gentle-yoga-class/2026-11-01/
END:VEVENT
BEGIN:VEVENT
DTSTART;TZID=America/Vancouver:20261101T111500
DTEND;TZID=America/Vancouver:20261101T121500
DTSTAMP:20260422T091916
CREATED:20250708T225731Z
LAST-MODIFIED:20250709T163055Z
UID:10000593-1793531700-1793535300@di2hearts.com
SUMMARY:Tacoma Center YMCA Yin Yoga Class
DESCRIPTION:
URL:https://di2hearts.com/event/tacoma-center-ymca-yin-yoga-class/2026-11-01/
END:VEVENT
BEGIN:VEVENT
DTSTART;TZID=America/Vancouver:20261102T103000
DTEND;TZID=America/Vancouver:20261102T113000
DTSTAMP:20260422T091916
CREATED:20250618T214701Z
LAST-MODIFIED:20250708T224748Z
UID:10000073-1793615400-1793619000@di2hearts.com
SUMMARY:Lakewood YMCA Gentle Yoga
DESCRIPTION:
URL:https://di2hearts.com/event/gentle-yoga/2026-11-02/
LOCATION:Lakewood YMCA
END:VEVENT
BEGIN:VEVENT
DTSTART;TZID=America/Vancouver:20261103T123000
DTEND;TZID=America/Vancouver:20261103T131500
DTSTAMP:20260422T091916
CREATED:20250709T163741Z
LAST-MODIFIED:20250709T164250Z
UID:10001114-1793709000-1793711700@di2hearts.com
SUMMARY:Pearl St YMCA Chair Yin Yoga Class
DESCRIPTION:
URL:https://di2hearts.com/event/pearl-st-ymca-chair-yin-or-mat-yoga-class/2026-11-03/
END:VEVENT
BEGIN:VEVENT
DTSTART;TZID=America/Vancouver:20261104T093000
DTEND;TZID=America/Vancouver:20261104T103000
DTSTAMP:20260422T091916
CREATED:20260315T234958Z
LAST-MODIFIED:20260315T234958Z
UID:10001839-1793784600-1793788200@di2hearts.com
SUMMARY:Lakewood YMCA Chair Yin Yoga (or on your mat)
DESCRIPTION:
URL:https://di2hearts.com/event/lakewood-ymca-chair-yin-yoga-or-on-your-mat/2026-11-04/
END:VEVENT
BEGIN:VEVENT
DTSTART;TZID=America/Vancouver:20261104T113000
DTEND;TZID=America/Vancouver:20261104T121500
DTSTAMP:20260422T091916
CREATED:20250709T164030Z
LAST-MODIFIED:20250709T164030Z
UID:10001375-1793791800-1793794500@di2hearts.com
SUMMARY:Pearl St. YMCA Chair Yoga Class
DESCRIPTION:
URL:https://di2hearts.com/event/pearl-st-ymca-chair-yoga-class/2026-11-04/
END:VEVENT
BEGIN:VEVENT
DTSTART;TZID=America/Vancouver:20261108T100000
DTEND;TZID=America/Vancouver:20261108T110000
DTSTAMP:20260422T091916
CREATED:20250708T225415Z
LAST-MODIFIED:20250708T225415Z
UID:10000334-1794132000-1794135600@di2hearts.com
SUMMARY:Tacoma Center YMCA Gentle Yoga Class
DESCRIPTION:
URL:https://di2hearts.com/event/tacoma-center-ymca-gentle-yoga-class/2026-11-08/
END:VEVENT
BEGIN:VEVENT
DTSTART;TZID=America/Vancouver:20261108T111500
DTEND;TZID=America/Vancouver:20261108T121500
DTSTAMP:20260422T091916
CREATED:20250708T225731Z
LAST-MODIFIED:20250709T163055Z
UID:10000594-1794136500-1794140100@di2hearts.com
SUMMARY:Tacoma Center YMCA Yin Yoga Class
DESCRIPTION:
URL:https://di2hearts.com/event/tacoma-center-ymca-yin-yoga-class/2026-11-08/
END:VEVENT
BEGIN:VEVENT
DTSTART;TZID=America/Vancouver:20261109T103000
DTEND;TZID=America/Vancouver:20261109T113000
DTSTAMP:20260422T091916
CREATED:20250618T214701Z
LAST-MODIFIED:20250708T224748Z
UID:10000074-1794220200-1794223800@di2hearts.com
SUMMARY:Lakewood YMCA Gentle Yoga
DESCRIPTION:
URL:https://di2hearts.com/event/gentle-yoga/2026-11-09/
LOCATION:Lakewood YMCA
END:VEVENT
BEGIN:VEVENT
DTSTART;TZID=America/Vancouver:20261110T123000
DTEND;TZID=America/Vancouver:20261110T131500
DTSTAMP:20260422T091916
CREATED:20250709T163741Z
LAST-MODIFIED:20250709T164250Z
UID:10001115-1794313800-1794316500@di2hearts.com
SUMMARY:Pearl St YMCA Chair Yin Yoga Class
DESCRIPTION:
URL:https://di2hearts.com/event/pearl-st-ymca-chair-yin-or-mat-yoga-class/2026-11-10/
END:VEVENT
BEGIN:VEVENT
DTSTART;TZID=America/Vancouver:20261111T093000
DTEND;TZID=America/Vancouver:20261111T103000
DTSTAMP:20260422T091917
CREATED:20260315T234958Z
LAST-MODIFIED:20260315T234958Z
UID:10001840-1794389400-1794393000@di2hearts.com
SUMMARY:Lakewood YMCA Chair Yin Yoga (or on your mat)
DESCRIPTION:
URL:https://di2hearts.com/event/lakewood-ymca-chair-yin-yoga-or-on-your-mat/2026-11-11/
END:VEVENT
BEGIN:VEVENT
DTSTART;TZID=America/Vancouver:20261111T113000
DTEND;TZID=America/Vancouver:20261111T121500
DTSTAMP:20260422T091917
CREATED:20250709T164030Z
LAST-MODIFIED:20250709T164030Z
UID:10001376-1794396600-1794399300@di2hearts.com
SUMMARY:Pearl St. YMCA Chair Yoga Class
DESCRIPTION:
URL:https://di2hearts.com/event/pearl-st-ymca-chair-yoga-class/2026-11-11/
END:VEVENT
BEGIN:VEVENT
DTSTART;TZID=America/Vancouver:20261115T100000
DTEND;TZID=America/Vancouver:20261115T110000
DTSTAMP:20260422T091917
CREATED:20250708T225415Z
LAST-MODIFIED:20250708T225415Z
UID:10000335-1794736800-1794740400@di2hearts.com
SUMMARY:Tacoma Center YMCA Gentle Yoga Class
DESCRIPTION:
URL:https://di2hearts.com/event/tacoma-center-ymca-gentle-yoga-class/2026-11-15/
END:VEVENT
BEGIN:VEVENT
DTSTART;TZID=America/Vancouver:20261115T111500
DTEND;TZID=America/Vancouver:20261115T121500
DTSTAMP:20260422T091917
CREATED:20250708T225731Z
LAST-MODIFIED:20250709T163055Z
UID:10000595-1794741300-1794744900@di2hearts.com
SUMMARY:Tacoma Center YMCA Yin Yoga Class
DESCRIPTION:
URL:https://di2hearts.com/event/tacoma-center-ymca-yin-yoga-class/2026-11-15/
END:VEVENT
BEGIN:VEVENT
DTSTART;TZID=America/Vancouver:20261116T103000
DTEND;TZID=America/Vancouver:20261116T113000
DTSTAMP:20260422T091917
CREATED:20250618T214701Z
LAST-MODIFIED:20250708T224748Z
UID:10000075-1794825000-1794828600@di2hearts.com
SUMMARY:Lakewood YMCA Gentle Yoga
DESCRIPTION:
URL:https://di2hearts.com/event/gentle-yoga/2026-11-16/
LOCATION:Lakewood YMCA
END:VEVENT
BEGIN:VEVENT
DTSTART;TZID=America/Vancouver:20261117T123000
DTEND;TZID=America/Vancouver:20261117T131500
DTSTAMP:20260422T091917
CREATED:20250709T163741Z
LAST-MODIFIED:20250709T164250Z
UID:10001116-1794918600-1794921300@di2hearts.com
SUMMARY:Pearl St YMCA Chair Yin Yoga Class
DESCRIPTION:
URL:https://di2hearts.com/event/pearl-st-ymca-chair-yin-or-mat-yoga-class/2026-11-17/
END:VEVENT
BEGIN:VEVENT
DTSTART;TZID=America/Vancouver:20261118T093000
DTEND;TZID=America/Vancouver:20261118T103000
DTSTAMP:20260422T091917
CREATED:20260315T234958Z
LAST-MODIFIED:20260315T234958Z
UID:10001841-1794994200-1794997800@di2hearts.com
SUMMARY:Lakewood YMCA Chair Yin Yoga (or on your mat)
DESCRIPTION:
URL:https://di2hearts.com/event/lakewood-ymca-chair-yin-yoga-or-on-your-mat/2026-11-18/
END:VEVENT
BEGIN:VEVENT
DTSTART;TZID=America/Vancouver:20261118T113000
DTEND;TZID=America/Vancouver:20261118T121500
DTSTAMP:20260422T091917
CREATED:20250709T164030Z
LAST-MODIFIED:20250709T164030Z
UID:10001377-1795001400-1795004100@di2hearts.com
SUMMARY:Pearl St. YMCA Chair Yoga Class
DESCRIPTION:
URL:https://di2hearts.com/event/pearl-st-ymca-chair-yoga-class/2026-11-18/
END:VEVENT
BEGIN:VEVENT
DTSTART;TZID=America/Vancouver:20261122T100000
DTEND;TZID=America/Vancouver:20261122T110000
DTSTAMP:20260422T091917
CREATED:20250708T225415Z
LAST-MODIFIED:20250708T225415Z
UID:10000336-1795341600-1795345200@di2hearts.com
SUMMARY:Tacoma Center YMCA Gentle Yoga Class
DESCRIPTION:
URL:https://di2hearts.com/event/tacoma-center-ymca-gentle-yoga-class/2026-11-22/
END:VEVENT
BEGIN:VEVENT
DTSTART;TZID=America/Vancouver:20261122T111500
DTEND;TZID=America/Vancouver:20261122T121500
DTSTAMP:20260422T091917
CREATED:20250708T225731Z
LAST-MODIFIED:20250709T163055Z
UID:10000596-1795346100-1795349700@di2hearts.com
SUMMARY:Tacoma Center YMCA Yin Yoga Class
DESCRIPTION:
URL:https://di2hearts.com/event/tacoma-center-ymca-yin-yoga-class/2026-11-22/
END:VEVENT
BEGIN:VEVENT
DTSTART;TZID=America/Vancouver:20261123T103000
DTEND;TZID=America/Vancouver:20261123T113000
DTSTAMP:20260422T091917
CREATED:20250618T214701Z
LAST-MODIFIED:20250708T224748Z
UID:10000076-1795429800-1795433400@di2hearts.com
SUMMARY:Lakewood YMCA Gentle Yoga
DESCRIPTION:
URL:https://di2hearts.com/event/gentle-yoga/2026-11-23/
LOCATION:Lakewood YMCA
END:VEVENT
BEGIN:VEVENT
DTSTART;TZID=America/Vancouver:20261124T123000
DTEND;TZID=America/Vancouver:20261124T131500
DTSTAMP:20260422T091917
CREATED:20250709T163741Z
LAST-MODIFIED:20250709T164250Z
UID:10001117-1795523400-1795526100@di2hearts.com
SUMMARY:Pearl St YMCA Chair Yin Yoga Class
DESCRIPTION:
URL:https://di2hearts.com/event/pearl-st-ymca-chair-yin-or-mat-yoga-class/2026-11-24/
END:VEVENT
BEGIN:VEVENT
DTSTART;TZID=America/Vancouver:20261125T093000
DTEND;TZID=America/Vancouver:20261125T103000
DTSTAMP:20260422T091917
CREATED:20260315T234958Z
LAST-MODIFIED:20260315T234958Z
UID:10001842-1795599000-1795602600@di2hearts.com
SUMMARY:Lakewood YMCA Chair Yin Yoga (or on your mat)
DESCRIPTION:
URL:https://di2hearts.com/event/lakewood-ymca-chair-yin-yoga-or-on-your-mat/2026-11-25/
END:VEVENT
BEGIN:VEVENT
DTSTART;TZID=America/Vancouver:20261125T113000
DTEND;TZID=America/Vancouver:20261125T121500
DTSTAMP:20260422T091917
CREATED:20250709T164030Z
LAST-MODIFIED:20250709T164030Z
UID:10001378-1795606200-1795608900@di2hearts.com
SUMMARY:Pearl St. YMCA Chair Yoga Class
DESCRIPTION:
URL:https://di2hearts.com/event/pearl-st-ymca-chair-yoga-class/2026-11-25/
END:VEVENT
BEGIN:VEVENT
DTSTART;TZID=America/Vancouver:20261129T100000
DTEND;TZID=America/Vancouver:20261129T110000
DTSTAMP:20260422T091917
CREATED:20250708T225415Z
LAST-MODIFIED:20250708T225415Z
UID:10000337-1795946400-1795950000@di2hearts.com
SUMMARY:Tacoma Center YMCA Gentle Yoga Class
DESCRIPTION:
URL:https://di2hearts.com/event/tacoma-center-ymca-gentle-yoga-class/2026-11-29/
END:VEVENT
BEGIN:VEVENT
DTSTART;TZID=America/Vancouver:20261129T111500
DTEND;TZID=America/Vancouver:20261129T121500
DTSTAMP:20260422T091917
CREATED:20250708T225731Z
LAST-MODIFIED:20250709T163055Z
UID:10000597-1795950900-1795954500@di2hearts.com
SUMMARY:Tacoma Center YMCA Yin Yoga Class
DESCRIPTION:
URL:https://di2hearts.com/event/tacoma-center-ymca-yin-yoga-class/2026-11-29/
END:VEVENT
BEGIN:VEVENT
DTSTART;TZID=America/Vancouver:20261130T103000
DTEND;TZID=America/Vancouver:20261130T113000
DTSTAMP:20260422T091917
CREATED:20250618T214701Z
LAST-MODIFIED:20250708T224748Z
UID:10000077-1796034600-1796038200@di2hearts.com
SUMMARY:Lakewood YMCA Gentle Yoga
DESCRIPTION:
URL:https://di2hearts.com/event/gentle-yoga/2026-11-30/
LOCATION:Lakewood YMCA
END:VEVENT
END:VCALENDAR