BEGIN:VCALENDAR
VERSION:2.0
PRODID:-//Di2hearts - ECPv6.15.20//NONSGML v1.0//EN
CALSCALE:GREGORIAN
METHOD:PUBLISH
X-WR-CALNAME:Di2hearts
X-ORIGINAL-URL:https://di2hearts.com
X-WR-CALDESC:Events for Di2hearts
REFRESH-INTERVAL;VALUE=DURATION:PT1H
X-Robots-Tag:noindex
X-PUBLISHED-TTL:PT1H
BEGIN:VTIMEZONE
TZID:America/Vancouver
BEGIN:DAYLIGHT
TZOFFSETFROM:-0800
TZOFFSETTO:-0700
TZNAME:PDT
DTSTART:20250309T100000
END:DAYLIGHT
BEGIN:STANDARD
TZOFFSETFROM:-0700
TZOFFSETTO:-0800
TZNAME:PST
DTSTART:20251102T090000
END:STANDARD
BEGIN:DAYLIGHT
TZOFFSETFROM:-0800
TZOFFSETTO:-0700
TZNAME:PDT
DTSTART:20260308T100000
END:DAYLIGHT
BEGIN:STANDARD
TZOFFSETFROM:-0700
TZOFFSETTO:-0800
TZNAME:PST
DTSTART:20261101T090000
END:STANDARD
BEGIN:DAYLIGHT
TZOFFSETFROM:-0800
TZOFFSETTO:-0700
TZNAME:PDT
DTSTART:20270314T100000
END:DAYLIGHT
BEGIN:STANDARD
TZOFFSETFROM:-0700
TZOFFSETTO:-0800
TZNAME:PST
DTSTART:20271107T090000
END:STANDARD
END:VTIMEZONE
BEGIN:VEVENT
DTSTART;TZID=America/Vancouver:20261201T123000
DTEND;TZID=America/Vancouver:20261201T131500
DTSTAMP:20260422T105244
CREATED:20250709T163741Z
LAST-MODIFIED:20250709T164250Z
UID:10001118-1796128200-1796130900@di2hearts.com
SUMMARY:Pearl St YMCA Chair Yin Yoga Class
DESCRIPTION:
URL:https://di2hearts.com/event/pearl-st-ymca-chair-yin-or-mat-yoga-class/2026-12-01/
END:VEVENT
BEGIN:VEVENT
DTSTART;TZID=America/Vancouver:20261202T093000
DTEND;TZID=America/Vancouver:20261202T103000
DTSTAMP:20260422T105244
CREATED:20260315T234958Z
LAST-MODIFIED:20260315T234958Z
UID:10001843-1796203800-1796207400@di2hearts.com
SUMMARY:Lakewood YMCA Chair Yin Yoga (or on your mat)
DESCRIPTION:
URL:https://di2hearts.com/event/lakewood-ymca-chair-yin-yoga-or-on-your-mat/2026-12-02/
END:VEVENT
BEGIN:VEVENT
DTSTART;TZID=America/Vancouver:20261202T113000
DTEND;TZID=America/Vancouver:20261202T121500
DTSTAMP:20260422T105244
CREATED:20250709T164030Z
LAST-MODIFIED:20250709T164030Z
UID:10001379-1796211000-1796213700@di2hearts.com
SUMMARY:Pearl St. YMCA Chair Yoga Class
DESCRIPTION:
URL:https://di2hearts.com/event/pearl-st-ymca-chair-yoga-class/2026-12-02/
END:VEVENT
BEGIN:VEVENT
DTSTART;TZID=America/Vancouver:20261206T100000
DTEND;TZID=America/Vancouver:20261206T110000
DTSTAMP:20260422T105244
CREATED:20250708T225415Z
LAST-MODIFIED:20250708T225415Z
UID:10000338-1796551200-1796554800@di2hearts.com
SUMMARY:Tacoma Center YMCA Gentle Yoga Class
DESCRIPTION:
URL:https://di2hearts.com/event/tacoma-center-ymca-gentle-yoga-class/2026-12-06/
END:VEVENT
BEGIN:VEVENT
DTSTART;TZID=America/Vancouver:20261206T111500
DTEND;TZID=America/Vancouver:20261206T121500
DTSTAMP:20260422T105244
CREATED:20250708T225731Z
LAST-MODIFIED:20250709T163055Z
UID:10000598-1796555700-1796559300@di2hearts.com
SUMMARY:Tacoma Center YMCA Yin Yoga Class
DESCRIPTION:
URL:https://di2hearts.com/event/tacoma-center-ymca-yin-yoga-class/2026-12-06/
END:VEVENT
BEGIN:VEVENT
DTSTART;TZID=America/Vancouver:20261207T103000
DTEND;TZID=America/Vancouver:20261207T113000
DTSTAMP:20260422T105244
CREATED:20250618T214701Z
LAST-MODIFIED:20250708T224748Z
UID:10000078-1796639400-1796643000@di2hearts.com
SUMMARY:Lakewood YMCA Gentle Yoga
DESCRIPTION:
URL:https://di2hearts.com/event/gentle-yoga/2026-12-07/
LOCATION:Lakewood YMCA
END:VEVENT
BEGIN:VEVENT
DTSTART;TZID=America/Vancouver:20261208T123000
DTEND;TZID=America/Vancouver:20261208T131500
DTSTAMP:20260422T105244
CREATED:20250709T163741Z
LAST-MODIFIED:20250709T164250Z
UID:10001119-1796733000-1796735700@di2hearts.com
SUMMARY:Pearl St YMCA Chair Yin Yoga Class
DESCRIPTION:
URL:https://di2hearts.com/event/pearl-st-ymca-chair-yin-or-mat-yoga-class/2026-12-08/
END:VEVENT
BEGIN:VEVENT
DTSTART;TZID=America/Vancouver:20261209T093000
DTEND;TZID=America/Vancouver:20261209T103000
DTSTAMP:20260422T105244
CREATED:20260315T234958Z
LAST-MODIFIED:20260315T234958Z
UID:10001844-1796808600-1796812200@di2hearts.com
SUMMARY:Lakewood YMCA Chair Yin Yoga (or on your mat)
DESCRIPTION:
URL:https://di2hearts.com/event/lakewood-ymca-chair-yin-yoga-or-on-your-mat/2026-12-09/
END:VEVENT
BEGIN:VEVENT
DTSTART;TZID=America/Vancouver:20261209T113000
DTEND;TZID=America/Vancouver:20261209T121500
DTSTAMP:20260422T105244
CREATED:20250709T164030Z
LAST-MODIFIED:20250709T164030Z
UID:10001380-1796815800-1796818500@di2hearts.com
SUMMARY:Pearl St. YMCA Chair Yoga Class
DESCRIPTION:
URL:https://di2hearts.com/event/pearl-st-ymca-chair-yoga-class/2026-12-09/
END:VEVENT
BEGIN:VEVENT
DTSTART;TZID=America/Vancouver:20261213T100000
DTEND;TZID=America/Vancouver:20261213T110000
DTSTAMP:20260422T105245
CREATED:20250708T225415Z
LAST-MODIFIED:20250708T225415Z
UID:10000339-1797156000-1797159600@di2hearts.com
SUMMARY:Tacoma Center YMCA Gentle Yoga Class
DESCRIPTION:
URL:https://di2hearts.com/event/tacoma-center-ymca-gentle-yoga-class/2026-12-13/
END:VEVENT
BEGIN:VEVENT
DTSTART;TZID=America/Vancouver:20261213T111500
DTEND;TZID=America/Vancouver:20261213T121500
DTSTAMP:20260422T105245
CREATED:20250708T225731Z
LAST-MODIFIED:20250709T163055Z
UID:10000599-1797160500-1797164100@di2hearts.com
SUMMARY:Tacoma Center YMCA Yin Yoga Class
DESCRIPTION:
URL:https://di2hearts.com/event/tacoma-center-ymca-yin-yoga-class/2026-12-13/
END:VEVENT
BEGIN:VEVENT
DTSTART;TZID=America/Vancouver:20261214T103000
DTEND;TZID=America/Vancouver:20261214T113000
DTSTAMP:20260422T105245
CREATED:20250618T214701Z
LAST-MODIFIED:20250708T224748Z
UID:10000079-1797244200-1797247800@di2hearts.com
SUMMARY:Lakewood YMCA Gentle Yoga
DESCRIPTION:
URL:https://di2hearts.com/event/gentle-yoga/2026-12-14/
LOCATION:Lakewood YMCA
END:VEVENT
BEGIN:VEVENT
DTSTART;TZID=America/Vancouver:20261215T123000
DTEND;TZID=America/Vancouver:20261215T131500
DTSTAMP:20260422T105245
CREATED:20250709T163741Z
LAST-MODIFIED:20250709T164250Z
UID:10001120-1797337800-1797340500@di2hearts.com
SUMMARY:Pearl St YMCA Chair Yin Yoga Class
DESCRIPTION:
URL:https://di2hearts.com/event/pearl-st-ymca-chair-yin-or-mat-yoga-class/2026-12-15/
END:VEVENT
BEGIN:VEVENT
DTSTART;TZID=America/Vancouver:20261216T093000
DTEND;TZID=America/Vancouver:20261216T103000
DTSTAMP:20260422T105245
CREATED:20260315T234958Z
LAST-MODIFIED:20260315T234958Z
UID:10001845-1797413400-1797417000@di2hearts.com
SUMMARY:Lakewood YMCA Chair Yin Yoga (or on your mat)
DESCRIPTION:
URL:https://di2hearts.com/event/lakewood-ymca-chair-yin-yoga-or-on-your-mat/2026-12-16/
END:VEVENT
BEGIN:VEVENT
DTSTART;TZID=America/Vancouver:20261216T113000
DTEND;TZID=America/Vancouver:20261216T121500
DTSTAMP:20260422T105245
CREATED:20250709T164030Z
LAST-MODIFIED:20250709T164030Z
UID:10001381-1797420600-1797423300@di2hearts.com
SUMMARY:Pearl St. YMCA Chair Yoga Class
DESCRIPTION:
URL:https://di2hearts.com/event/pearl-st-ymca-chair-yoga-class/2026-12-16/
END:VEVENT
BEGIN:VEVENT
DTSTART;TZID=America/Vancouver:20261220T100000
DTEND;TZID=America/Vancouver:20261220T110000
DTSTAMP:20260422T105245
CREATED:20250708T225415Z
LAST-MODIFIED:20250708T225415Z
UID:10000340-1797760800-1797764400@di2hearts.com
SUMMARY:Tacoma Center YMCA Gentle Yoga Class
DESCRIPTION:
URL:https://di2hearts.com/event/tacoma-center-ymca-gentle-yoga-class/2026-12-20/
END:VEVENT
BEGIN:VEVENT
DTSTART;TZID=America/Vancouver:20261220T111500
DTEND;TZID=America/Vancouver:20261220T121500
DTSTAMP:20260422T105245
CREATED:20250708T225731Z
LAST-MODIFIED:20250709T163055Z
UID:10000600-1797765300-1797768900@di2hearts.com
SUMMARY:Tacoma Center YMCA Yin Yoga Class
DESCRIPTION:
URL:https://di2hearts.com/event/tacoma-center-ymca-yin-yoga-class/2026-12-20/
END:VEVENT
BEGIN:VEVENT
DTSTART;TZID=America/Vancouver:20261221T103000
DTEND;TZID=America/Vancouver:20261221T113000
DTSTAMP:20260422T105245
CREATED:20250618T214701Z
LAST-MODIFIED:20250708T224748Z
UID:10000080-1797849000-1797852600@di2hearts.com
SUMMARY:Lakewood YMCA Gentle Yoga
DESCRIPTION:
URL:https://di2hearts.com/event/gentle-yoga/2026-12-21/
LOCATION:Lakewood YMCA
END:VEVENT
BEGIN:VEVENT
DTSTART;TZID=America/Vancouver:20261222T123000
DTEND;TZID=America/Vancouver:20261222T131500
DTSTAMP:20260422T105245
CREATED:20250709T163741Z
LAST-MODIFIED:20250709T164250Z
UID:10001121-1797942600-1797945300@di2hearts.com
SUMMARY:Pearl St YMCA Chair Yin Yoga Class
DESCRIPTION:
URL:https://di2hearts.com/event/pearl-st-ymca-chair-yin-or-mat-yoga-class/2026-12-22/
END:VEVENT
BEGIN:VEVENT
DTSTART;TZID=America/Vancouver:20261223T093000
DTEND;TZID=America/Vancouver:20261223T103000
DTSTAMP:20260422T105245
CREATED:20260315T234958Z
LAST-MODIFIED:20260315T234958Z
UID:10001846-1798018200-1798021800@di2hearts.com
SUMMARY:Lakewood YMCA Chair Yin Yoga (or on your mat)
DESCRIPTION:
URL:https://di2hearts.com/event/lakewood-ymca-chair-yin-yoga-or-on-your-mat/2026-12-23/
END:VEVENT
BEGIN:VEVENT
DTSTART;TZID=America/Vancouver:20261223T113000
DTEND;TZID=America/Vancouver:20261223T121500
DTSTAMP:20260422T105245
CREATED:20250709T164030Z
LAST-MODIFIED:20250709T164030Z
UID:10001382-1798025400-1798028100@di2hearts.com
SUMMARY:Pearl St. YMCA Chair Yoga Class
DESCRIPTION:
URL:https://di2hearts.com/event/pearl-st-ymca-chair-yoga-class/2026-12-23/
END:VEVENT
BEGIN:VEVENT
DTSTART;TZID=America/Vancouver:20261227T100000
DTEND;TZID=America/Vancouver:20261227T110000
DTSTAMP:20260422T105245
CREATED:20250708T225415Z
LAST-MODIFIED:20250708T225415Z
UID:10000341-1798365600-1798369200@di2hearts.com
SUMMARY:Tacoma Center YMCA Gentle Yoga Class
DESCRIPTION:
URL:https://di2hearts.com/event/tacoma-center-ymca-gentle-yoga-class/2026-12-27/
END:VEVENT
BEGIN:VEVENT
DTSTART;TZID=America/Vancouver:20261227T111500
DTEND;TZID=America/Vancouver:20261227T121500
DTSTAMP:20260422T105245
CREATED:20250708T225731Z
LAST-MODIFIED:20250709T163055Z
UID:10000601-1798370100-1798373700@di2hearts.com
SUMMARY:Tacoma Center YMCA Yin Yoga Class
DESCRIPTION:
URL:https://di2hearts.com/event/tacoma-center-ymca-yin-yoga-class/2026-12-27/
END:VEVENT
BEGIN:VEVENT
DTSTART;TZID=America/Vancouver:20261228T103000
DTEND;TZID=America/Vancouver:20261228T113000
DTSTAMP:20260422T105245
CREATED:20250618T214701Z
LAST-MODIFIED:20250708T224748Z
UID:10000081-1798453800-1798457400@di2hearts.com
SUMMARY:Lakewood YMCA Gentle Yoga
DESCRIPTION:
URL:https://di2hearts.com/event/gentle-yoga/2026-12-28/
LOCATION:Lakewood YMCA
END:VEVENT
BEGIN:VEVENT
DTSTART;TZID=America/Vancouver:20261229T123000
DTEND;TZID=America/Vancouver:20261229T131500
DTSTAMP:20260422T105245
CREATED:20250709T163741Z
LAST-MODIFIED:20250709T164250Z
UID:10001122-1798547400-1798550100@di2hearts.com
SUMMARY:Pearl St YMCA Chair Yin Yoga Class
DESCRIPTION:
URL:https://di2hearts.com/event/pearl-st-ymca-chair-yin-or-mat-yoga-class/2026-12-29/
END:VEVENT
BEGIN:VEVENT
DTSTART;TZID=America/Vancouver:20261230T093000
DTEND;TZID=America/Vancouver:20261230T103000
DTSTAMP:20260422T105245
CREATED:20260315T234958Z
LAST-MODIFIED:20260315T234958Z
UID:10001847-1798623000-1798626600@di2hearts.com
SUMMARY:Lakewood YMCA Chair Yin Yoga (or on your mat)
DESCRIPTION:
URL:https://di2hearts.com/event/lakewood-ymca-chair-yin-yoga-or-on-your-mat/2026-12-30/
END:VEVENT
BEGIN:VEVENT
DTSTART;TZID=America/Vancouver:20261230T113000
DTEND;TZID=America/Vancouver:20261230T121500
DTSTAMP:20260422T105245
CREATED:20250709T164030Z
LAST-MODIFIED:20250709T164030Z
UID:10001383-1798630200-1798632900@di2hearts.com
SUMMARY:Pearl St. YMCA Chair Yoga Class
DESCRIPTION:
URL:https://di2hearts.com/event/pearl-st-ymca-chair-yoga-class/2026-12-30/
END:VEVENT
END:VCALENDAR