BEGIN:VCALENDAR
VERSION:2.0
PRODID:-//Di2hearts - ECPv6.15.20//NONSGML v1.0//EN
CALSCALE:GREGORIAN
METHOD:PUBLISH
X-WR-CALNAME:Di2hearts
X-ORIGINAL-URL:https://di2hearts.com
X-WR-CALDESC:Events for Di2hearts
REFRESH-INTERVAL;VALUE=DURATION:PT1H
X-Robots-Tag:noindex
X-PUBLISHED-TTL:PT1H
BEGIN:VTIMEZONE
TZID:America/Vancouver
BEGIN:DAYLIGHT
TZOFFSETFROM:-0800
TZOFFSETTO:-0700
TZNAME:PDT
DTSTART:20260308T100000
END:DAYLIGHT
BEGIN:STANDARD
TZOFFSETFROM:-0700
TZOFFSETTO:-0800
TZNAME:PST
DTSTART:20261101T090000
END:STANDARD
BEGIN:DAYLIGHT
TZOFFSETFROM:-0800
TZOFFSETTO:-0700
TZNAME:PDT
DTSTART:20270314T100000
END:DAYLIGHT
BEGIN:STANDARD
TZOFFSETFROM:-0700
TZOFFSETTO:-0800
TZNAME:PST
DTSTART:20271107T090000
END:STANDARD
BEGIN:DAYLIGHT
TZOFFSETFROM:-0800
TZOFFSETTO:-0700
TZNAME:PDT
DTSTART:20280312T100000
END:DAYLIGHT
BEGIN:STANDARD
TZOFFSETFROM:-0700
TZOFFSETTO:-0800
TZNAME:PST
DTSTART:20281105T090000
END:STANDARD
END:VTIMEZONE
BEGIN:VEVENT
DTSTART;TZID=America/Vancouver:20270103T100000
DTEND;TZID=America/Vancouver:20270103T110000
DTSTAMP:20260422T122351
CREATED:20250708T225415Z
LAST-MODIFIED:20250708T225415Z
UID:10000342-1798970400-1798974000@di2hearts.com
SUMMARY:Tacoma Center YMCA Gentle Yoga Class
DESCRIPTION:
URL:https://di2hearts.com/event/tacoma-center-ymca-gentle-yoga-class/2027-01-03/
END:VEVENT
BEGIN:VEVENT
DTSTART;TZID=America/Vancouver:20270103T111500
DTEND;TZID=America/Vancouver:20270103T121500
DTSTAMP:20260422T122351
CREATED:20250708T225731Z
LAST-MODIFIED:20250709T163055Z
UID:10000602-1798974900-1798978500@di2hearts.com
SUMMARY:Tacoma Center YMCA Yin Yoga Class
DESCRIPTION:
URL:https://di2hearts.com/event/tacoma-center-ymca-yin-yoga-class/2027-01-03/
END:VEVENT
BEGIN:VEVENT
DTSTART;TZID=America/Vancouver:20270104T103000
DTEND;TZID=America/Vancouver:20270104T113000
DTSTAMP:20260422T122351
CREATED:20250618T214701Z
LAST-MODIFIED:20250708T224748Z
UID:10000082-1799058600-1799062200@di2hearts.com
SUMMARY:Lakewood YMCA Gentle Yoga
DESCRIPTION:
URL:https://di2hearts.com/event/gentle-yoga/2027-01-04/
LOCATION:Lakewood YMCA
END:VEVENT
BEGIN:VEVENT
DTSTART;TZID=America/Vancouver:20270105T123000
DTEND;TZID=America/Vancouver:20270105T131500
DTSTAMP:20260422T122351
CREATED:20250709T163741Z
LAST-MODIFIED:20250709T164250Z
UID:10001123-1799152200-1799154900@di2hearts.com
SUMMARY:Pearl St YMCA Chair Yin Yoga Class
DESCRIPTION:
URL:https://di2hearts.com/event/pearl-st-ymca-chair-yin-or-mat-yoga-class/2027-01-05/
END:VEVENT
BEGIN:VEVENT
DTSTART;TZID=America/Vancouver:20270106T093000
DTEND;TZID=America/Vancouver:20270106T103000
DTSTAMP:20260422T122351
CREATED:20260315T234958Z
LAST-MODIFIED:20260315T234958Z
UID:10001848-1799227800-1799231400@di2hearts.com
SUMMARY:Lakewood YMCA Chair Yin Yoga (or on your mat)
DESCRIPTION:
URL:https://di2hearts.com/event/lakewood-ymca-chair-yin-yoga-or-on-your-mat/2027-01-06/
END:VEVENT
BEGIN:VEVENT
DTSTART;TZID=America/Vancouver:20270106T113000
DTEND;TZID=America/Vancouver:20270106T121500
DTSTAMP:20260422T122351
CREATED:20250709T164030Z
LAST-MODIFIED:20250709T164030Z
UID:10001384-1799235000-1799237700@di2hearts.com
SUMMARY:Pearl St. YMCA Chair Yoga Class
DESCRIPTION:
URL:https://di2hearts.com/event/pearl-st-ymca-chair-yoga-class/2027-01-06/
END:VEVENT
BEGIN:VEVENT
DTSTART;TZID=America/Vancouver:20270110T100000
DTEND;TZID=America/Vancouver:20270110T110000
DTSTAMP:20260422T122351
CREATED:20250708T225415Z
LAST-MODIFIED:20250708T225415Z
UID:10000343-1799575200-1799578800@di2hearts.com
SUMMARY:Tacoma Center YMCA Gentle Yoga Class
DESCRIPTION:
URL:https://di2hearts.com/event/tacoma-center-ymca-gentle-yoga-class/2027-01-10/
END:VEVENT
BEGIN:VEVENT
DTSTART;TZID=America/Vancouver:20270110T111500
DTEND;TZID=America/Vancouver:20270110T121500
DTSTAMP:20260422T122351
CREATED:20250708T225731Z
LAST-MODIFIED:20250709T163055Z
UID:10000603-1799579700-1799583300@di2hearts.com
SUMMARY:Tacoma Center YMCA Yin Yoga Class
DESCRIPTION:
URL:https://di2hearts.com/event/tacoma-center-ymca-yin-yoga-class/2027-01-10/
END:VEVENT
BEGIN:VEVENT
DTSTART;TZID=America/Vancouver:20270111T103000
DTEND;TZID=America/Vancouver:20270111T113000
DTSTAMP:20260422T122351
CREATED:20250618T214701Z
LAST-MODIFIED:20250708T224748Z
UID:10000083-1799663400-1799667000@di2hearts.com
SUMMARY:Lakewood YMCA Gentle Yoga
DESCRIPTION:
URL:https://di2hearts.com/event/gentle-yoga/2027-01-11/
LOCATION:Lakewood YMCA
END:VEVENT
BEGIN:VEVENT
DTSTART;TZID=America/Vancouver:20270112T123000
DTEND;TZID=America/Vancouver:20270112T131500
DTSTAMP:20260422T122351
CREATED:20250709T163741Z
LAST-MODIFIED:20250709T164250Z
UID:10001124-1799757000-1799759700@di2hearts.com
SUMMARY:Pearl St YMCA Chair Yin Yoga Class
DESCRIPTION:
URL:https://di2hearts.com/event/pearl-st-ymca-chair-yin-or-mat-yoga-class/2027-01-12/
END:VEVENT
BEGIN:VEVENT
DTSTART;TZID=America/Vancouver:20270113T093000
DTEND;TZID=America/Vancouver:20270113T103000
DTSTAMP:20260422T122351
CREATED:20260315T234958Z
LAST-MODIFIED:20260315T234958Z
UID:10001849-1799832600-1799836200@di2hearts.com
SUMMARY:Lakewood YMCA Chair Yin Yoga (or on your mat)
DESCRIPTION:
URL:https://di2hearts.com/event/lakewood-ymca-chair-yin-yoga-or-on-your-mat/2027-01-13/
END:VEVENT
BEGIN:VEVENT
DTSTART;TZID=America/Vancouver:20270113T113000
DTEND;TZID=America/Vancouver:20270113T121500
DTSTAMP:20260422T122351
CREATED:20250709T164030Z
LAST-MODIFIED:20250709T164030Z
UID:10001385-1799839800-1799842500@di2hearts.com
SUMMARY:Pearl St. YMCA Chair Yoga Class
DESCRIPTION:
URL:https://di2hearts.com/event/pearl-st-ymca-chair-yoga-class/2027-01-13/
END:VEVENT
BEGIN:VEVENT
DTSTART;TZID=America/Vancouver:20270117T100000
DTEND;TZID=America/Vancouver:20270117T110000
DTSTAMP:20260422T122351
CREATED:20250708T225415Z
LAST-MODIFIED:20250708T225415Z
UID:10000344-1800180000-1800183600@di2hearts.com
SUMMARY:Tacoma Center YMCA Gentle Yoga Class
DESCRIPTION:
URL:https://di2hearts.com/event/tacoma-center-ymca-gentle-yoga-class/2027-01-17/
END:VEVENT
BEGIN:VEVENT
DTSTART;TZID=America/Vancouver:20270117T111500
DTEND;TZID=America/Vancouver:20270117T121500
DTSTAMP:20260422T122351
CREATED:20250708T225731Z
LAST-MODIFIED:20250709T163055Z
UID:10000604-1800184500-1800188100@di2hearts.com
SUMMARY:Tacoma Center YMCA Yin Yoga Class
DESCRIPTION:
URL:https://di2hearts.com/event/tacoma-center-ymca-yin-yoga-class/2027-01-17/
END:VEVENT
BEGIN:VEVENT
DTSTART;TZID=America/Vancouver:20270118T103000
DTEND;TZID=America/Vancouver:20270118T113000
DTSTAMP:20260422T122351
CREATED:20250618T214701Z
LAST-MODIFIED:20250708T224748Z
UID:10000084-1800268200-1800271800@di2hearts.com
SUMMARY:Lakewood YMCA Gentle Yoga
DESCRIPTION:
URL:https://di2hearts.com/event/gentle-yoga/2027-01-18/
LOCATION:Lakewood YMCA
END:VEVENT
BEGIN:VEVENT
DTSTART;TZID=America/Vancouver:20270119T123000
DTEND;TZID=America/Vancouver:20270119T131500
DTSTAMP:20260422T122351
CREATED:20250709T163741Z
LAST-MODIFIED:20250709T164250Z
UID:10001125-1800361800-1800364500@di2hearts.com
SUMMARY:Pearl St YMCA Chair Yin Yoga Class
DESCRIPTION:
URL:https://di2hearts.com/event/pearl-st-ymca-chair-yin-or-mat-yoga-class/2027-01-19/
END:VEVENT
BEGIN:VEVENT
DTSTART;TZID=America/Vancouver:20270120T093000
DTEND;TZID=America/Vancouver:20270120T103000
DTSTAMP:20260422T122351
CREATED:20260315T234958Z
LAST-MODIFIED:20260315T234958Z
UID:10001850-1800437400-1800441000@di2hearts.com
SUMMARY:Lakewood YMCA Chair Yin Yoga (or on your mat)
DESCRIPTION:
URL:https://di2hearts.com/event/lakewood-ymca-chair-yin-yoga-or-on-your-mat/2027-01-20/
END:VEVENT
BEGIN:VEVENT
DTSTART;TZID=America/Vancouver:20270120T113000
DTEND;TZID=America/Vancouver:20270120T121500
DTSTAMP:20260422T122351
CREATED:20250709T164030Z
LAST-MODIFIED:20250709T164030Z
UID:10001386-1800444600-1800447300@di2hearts.com
SUMMARY:Pearl St. YMCA Chair Yoga Class
DESCRIPTION:
URL:https://di2hearts.com/event/pearl-st-ymca-chair-yoga-class/2027-01-20/
END:VEVENT
BEGIN:VEVENT
DTSTART;TZID=America/Vancouver:20270124T100000
DTEND;TZID=America/Vancouver:20270124T110000
DTSTAMP:20260422T122351
CREATED:20250708T225415Z
LAST-MODIFIED:20250708T225415Z
UID:10000345-1800784800-1800788400@di2hearts.com
SUMMARY:Tacoma Center YMCA Gentle Yoga Class
DESCRIPTION:
URL:https://di2hearts.com/event/tacoma-center-ymca-gentle-yoga-class/2027-01-24/
END:VEVENT
BEGIN:VEVENT
DTSTART;TZID=America/Vancouver:20270124T111500
DTEND;TZID=America/Vancouver:20270124T121500
DTSTAMP:20260422T122352
CREATED:20250708T225731Z
LAST-MODIFIED:20250709T163055Z
UID:10000605-1800789300-1800792900@di2hearts.com
SUMMARY:Tacoma Center YMCA Yin Yoga Class
DESCRIPTION:
URL:https://di2hearts.com/event/tacoma-center-ymca-yin-yoga-class/2027-01-24/
END:VEVENT
BEGIN:VEVENT
DTSTART;TZID=America/Vancouver:20270125T103000
DTEND;TZID=America/Vancouver:20270125T113000
DTSTAMP:20260422T122352
CREATED:20250618T214701Z
LAST-MODIFIED:20250708T224748Z
UID:10000085-1800873000-1800876600@di2hearts.com
SUMMARY:Lakewood YMCA Gentle Yoga
DESCRIPTION:
URL:https://di2hearts.com/event/gentle-yoga/2027-01-25/
LOCATION:Lakewood YMCA
END:VEVENT
BEGIN:VEVENT
DTSTART;TZID=America/Vancouver:20270126T123000
DTEND;TZID=America/Vancouver:20270126T131500
DTSTAMP:20260422T122352
CREATED:20250709T163741Z
LAST-MODIFIED:20250709T164250Z
UID:10001126-1800966600-1800969300@di2hearts.com
SUMMARY:Pearl St YMCA Chair Yin Yoga Class
DESCRIPTION:
URL:https://di2hearts.com/event/pearl-st-ymca-chair-yin-or-mat-yoga-class/2027-01-26/
END:VEVENT
BEGIN:VEVENT
DTSTART;TZID=America/Vancouver:20270127T093000
DTEND;TZID=America/Vancouver:20270127T103000
DTSTAMP:20260422T122352
CREATED:20260315T234958Z
LAST-MODIFIED:20260315T234958Z
UID:10001851-1801042200-1801045800@di2hearts.com
SUMMARY:Lakewood YMCA Chair Yin Yoga (or on your mat)
DESCRIPTION:
URL:https://di2hearts.com/event/lakewood-ymca-chair-yin-yoga-or-on-your-mat/2027-01-27/
END:VEVENT
BEGIN:VEVENT
DTSTART;TZID=America/Vancouver:20270127T113000
DTEND;TZID=America/Vancouver:20270127T121500
DTSTAMP:20260422T122352
CREATED:20250709T164030Z
LAST-MODIFIED:20250709T164030Z
UID:10001387-1801049400-1801052100@di2hearts.com
SUMMARY:Pearl St. YMCA Chair Yoga Class
DESCRIPTION:
URL:https://di2hearts.com/event/pearl-st-ymca-chair-yoga-class/2027-01-27/
END:VEVENT
BEGIN:VEVENT
DTSTART;TZID=America/Vancouver:20270131T100000
DTEND;TZID=America/Vancouver:20270131T110000
DTSTAMP:20260422T122352
CREATED:20250708T225415Z
LAST-MODIFIED:20250708T225415Z
UID:10000346-1801389600-1801393200@di2hearts.com
SUMMARY:Tacoma Center YMCA Gentle Yoga Class
DESCRIPTION:
URL:https://di2hearts.com/event/tacoma-center-ymca-gentle-yoga-class/2027-01-31/
END:VEVENT
BEGIN:VEVENT
DTSTART;TZID=America/Vancouver:20270131T111500
DTEND;TZID=America/Vancouver:20270131T121500
DTSTAMP:20260422T122352
CREATED:20250708T225731Z
LAST-MODIFIED:20250709T163055Z
UID:10000606-1801394100-1801397700@di2hearts.com
SUMMARY:Tacoma Center YMCA Yin Yoga Class
DESCRIPTION:
URL:https://di2hearts.com/event/tacoma-center-ymca-yin-yoga-class/2027-01-31/
END:VEVENT
END:VCALENDAR