BEGIN:VCALENDAR
VERSION:2.0
PRODID:-//Di2hearts - ECPv6.15.20//NONSGML v1.0//EN
CALSCALE:GREGORIAN
METHOD:PUBLISH
X-WR-CALNAME:Di2hearts
X-ORIGINAL-URL:https://di2hearts.com
X-WR-CALDESC:Events for Di2hearts
REFRESH-INTERVAL;VALUE=DURATION:PT1H
X-Robots-Tag:noindex
X-PUBLISHED-TTL:PT1H
BEGIN:VTIMEZONE
TZID:America/Vancouver
BEGIN:DAYLIGHT
TZOFFSETFROM:-0800
TZOFFSETTO:-0700
TZNAME:PDT
DTSTART:20260308T100000
END:DAYLIGHT
BEGIN:STANDARD
TZOFFSETFROM:-0700
TZOFFSETTO:-0800
TZNAME:PST
DTSTART:20261101T090000
END:STANDARD
BEGIN:DAYLIGHT
TZOFFSETFROM:-0800
TZOFFSETTO:-0700
TZNAME:PDT
DTSTART:20270314T100000
END:DAYLIGHT
BEGIN:STANDARD
TZOFFSETFROM:-0700
TZOFFSETTO:-0800
TZNAME:PST
DTSTART:20271107T090000
END:STANDARD
BEGIN:DAYLIGHT
TZOFFSETFROM:-0800
TZOFFSETTO:-0700
TZNAME:PDT
DTSTART:20280312T100000
END:DAYLIGHT
BEGIN:STANDARD
TZOFFSETFROM:-0700
TZOFFSETTO:-0800
TZNAME:PST
DTSTART:20281105T090000
END:STANDARD
END:VTIMEZONE
BEGIN:VEVENT
DTSTART;TZID=America/Vancouver:20270301T103000
DTEND;TZID=America/Vancouver:20270301T113000
DTSTAMP:20260422T153950
CREATED:20250618T214701Z
LAST-MODIFIED:20250708T224748Z
UID:10000090-1803897000-1803900600@di2hearts.com
SUMMARY:Lakewood YMCA Gentle Yoga
DESCRIPTION:
URL:https://di2hearts.com/event/gentle-yoga/2027-03-01/
LOCATION:Lakewood YMCA
END:VEVENT
BEGIN:VEVENT
DTSTART;TZID=America/Vancouver:20270302T123000
DTEND;TZID=America/Vancouver:20270302T131500
DTSTAMP:20260422T153950
CREATED:20250709T163741Z
LAST-MODIFIED:20250709T164250Z
UID:10001131-1803990600-1803993300@di2hearts.com
SUMMARY:Pearl St YMCA Chair Yin Yoga Class
DESCRIPTION:
URL:https://di2hearts.com/event/pearl-st-ymca-chair-yin-or-mat-yoga-class/2027-03-02/
END:VEVENT
BEGIN:VEVENT
DTSTART;TZID=America/Vancouver:20270303T093000
DTEND;TZID=America/Vancouver:20270303T103000
DTSTAMP:20260422T153950
CREATED:20260315T234958Z
LAST-MODIFIED:20260315T234958Z
UID:10001856-1804066200-1804069800@di2hearts.com
SUMMARY:Lakewood YMCA Chair Yin Yoga (or on your mat)
DESCRIPTION:
URL:https://di2hearts.com/event/lakewood-ymca-chair-yin-yoga-or-on-your-mat/2027-03-03/
END:VEVENT
BEGIN:VEVENT
DTSTART;TZID=America/Vancouver:20270303T113000
DTEND;TZID=America/Vancouver:20270303T121500
DTSTAMP:20260422T153950
CREATED:20250709T164030Z
LAST-MODIFIED:20250709T164030Z
UID:10001392-1804073400-1804076100@di2hearts.com
SUMMARY:Pearl St. YMCA Chair Yoga Class
DESCRIPTION:
URL:https://di2hearts.com/event/pearl-st-ymca-chair-yoga-class/2027-03-03/
END:VEVENT
BEGIN:VEVENT
DTSTART;TZID=America/Vancouver:20270307T100000
DTEND;TZID=America/Vancouver:20270307T110000
DTSTAMP:20260422T153950
CREATED:20250708T225415Z
LAST-MODIFIED:20250708T225415Z
UID:10000351-1804413600-1804417200@di2hearts.com
SUMMARY:Tacoma Center YMCA Gentle Yoga Class
DESCRIPTION:
URL:https://di2hearts.com/event/tacoma-center-ymca-gentle-yoga-class/2027-03-07/
END:VEVENT
BEGIN:VEVENT
DTSTART;TZID=America/Vancouver:20270307T111500
DTEND;TZID=America/Vancouver:20270307T121500
DTSTAMP:20260422T153950
CREATED:20250708T225731Z
LAST-MODIFIED:20250709T163055Z
UID:10000611-1804418100-1804421700@di2hearts.com
SUMMARY:Tacoma Center YMCA Yin Yoga Class
DESCRIPTION:
URL:https://di2hearts.com/event/tacoma-center-ymca-yin-yoga-class/2027-03-07/
END:VEVENT
BEGIN:VEVENT
DTSTART;TZID=America/Vancouver:20270308T103000
DTEND;TZID=America/Vancouver:20270308T113000
DTSTAMP:20260422T153950
CREATED:20250618T214701Z
LAST-MODIFIED:20250708T224748Z
UID:10000091-1804501800-1804505400@di2hearts.com
SUMMARY:Lakewood YMCA Gentle Yoga
DESCRIPTION:
URL:https://di2hearts.com/event/gentle-yoga/2027-03-08/
LOCATION:Lakewood YMCA
END:VEVENT
BEGIN:VEVENT
DTSTART;TZID=America/Vancouver:20270309T123000
DTEND;TZID=America/Vancouver:20270309T131500
DTSTAMP:20260422T153950
CREATED:20250709T163741Z
LAST-MODIFIED:20250709T164250Z
UID:10001132-1804595400-1804598100@di2hearts.com
SUMMARY:Pearl St YMCA Chair Yin Yoga Class
DESCRIPTION:
URL:https://di2hearts.com/event/pearl-st-ymca-chair-yin-or-mat-yoga-class/2027-03-09/
END:VEVENT
BEGIN:VEVENT
DTSTART;TZID=America/Vancouver:20270310T093000
DTEND;TZID=America/Vancouver:20270310T103000
DTSTAMP:20260422T153950
CREATED:20260315T234958Z
LAST-MODIFIED:20260315T234958Z
UID:10001857-1804671000-1804674600@di2hearts.com
SUMMARY:Lakewood YMCA Chair Yin Yoga (or on your mat)
DESCRIPTION:
URL:https://di2hearts.com/event/lakewood-ymca-chair-yin-yoga-or-on-your-mat/2027-03-10/
END:VEVENT
BEGIN:VEVENT
DTSTART;TZID=America/Vancouver:20270310T113000
DTEND;TZID=America/Vancouver:20270310T121500
DTSTAMP:20260422T153950
CREATED:20250709T164030Z
LAST-MODIFIED:20250709T164030Z
UID:10001393-1804678200-1804680900@di2hearts.com
SUMMARY:Pearl St. YMCA Chair Yoga Class
DESCRIPTION:
URL:https://di2hearts.com/event/pearl-st-ymca-chair-yoga-class/2027-03-10/
END:VEVENT
BEGIN:VEVENT
DTSTART;TZID=America/Vancouver:20270314T100000
DTEND;TZID=America/Vancouver:20270314T110000
DTSTAMP:20260422T153950
CREATED:20250708T225415Z
LAST-MODIFIED:20250708T225415Z
UID:10000352-1805018400-1805022000@di2hearts.com
SUMMARY:Tacoma Center YMCA Gentle Yoga Class
DESCRIPTION:
URL:https://di2hearts.com/event/tacoma-center-ymca-gentle-yoga-class/2027-03-14/
END:VEVENT
BEGIN:VEVENT
DTSTART;TZID=America/Vancouver:20270314T111500
DTEND;TZID=America/Vancouver:20270314T121500
DTSTAMP:20260422T153950
CREATED:20250708T225731Z
LAST-MODIFIED:20250709T163055Z
UID:10000612-1805022900-1805026500@di2hearts.com
SUMMARY:Tacoma Center YMCA Yin Yoga Class
DESCRIPTION:
URL:https://di2hearts.com/event/tacoma-center-ymca-yin-yoga-class/2027-03-14/
END:VEVENT
BEGIN:VEVENT
DTSTART;TZID=America/Vancouver:20270315T103000
DTEND;TZID=America/Vancouver:20270315T113000
DTSTAMP:20260422T153950
CREATED:20250618T214701Z
LAST-MODIFIED:20250708T224748Z
UID:10000092-1805106600-1805110200@di2hearts.com
SUMMARY:Lakewood YMCA Gentle Yoga
DESCRIPTION:
URL:https://di2hearts.com/event/gentle-yoga/2027-03-15/
LOCATION:Lakewood YMCA
END:VEVENT
BEGIN:VEVENT
DTSTART;TZID=America/Vancouver:20270316T123000
DTEND;TZID=America/Vancouver:20270316T131500
DTSTAMP:20260422T153950
CREATED:20250709T163741Z
LAST-MODIFIED:20250709T164250Z
UID:10001133-1805200200-1805202900@di2hearts.com
SUMMARY:Pearl St YMCA Chair Yin Yoga Class
DESCRIPTION:
URL:https://di2hearts.com/event/pearl-st-ymca-chair-yin-or-mat-yoga-class/2027-03-16/
END:VEVENT
BEGIN:VEVENT
DTSTART;TZID=America/Vancouver:20270317T093000
DTEND;TZID=America/Vancouver:20270317T103000
DTSTAMP:20260422T153950
CREATED:20260315T234958Z
LAST-MODIFIED:20260315T234958Z
UID:10001858-1805275800-1805279400@di2hearts.com
SUMMARY:Lakewood YMCA Chair Yin Yoga (or on your mat)
DESCRIPTION:
URL:https://di2hearts.com/event/lakewood-ymca-chair-yin-yoga-or-on-your-mat/2027-03-17/
END:VEVENT
BEGIN:VEVENT
DTSTART;TZID=America/Vancouver:20270317T113000
DTEND;TZID=America/Vancouver:20270317T121500
DTSTAMP:20260422T153950
CREATED:20250709T164030Z
LAST-MODIFIED:20250709T164030Z
UID:10001394-1805283000-1805285700@di2hearts.com
SUMMARY:Pearl St. YMCA Chair Yoga Class
DESCRIPTION:
URL:https://di2hearts.com/event/pearl-st-ymca-chair-yoga-class/2027-03-17/
END:VEVENT
BEGIN:VEVENT
DTSTART;TZID=America/Vancouver:20270321T100000
DTEND;TZID=America/Vancouver:20270321T110000
DTSTAMP:20260422T153950
CREATED:20250708T225415Z
LAST-MODIFIED:20250708T225415Z
UID:10000353-1805623200-1805626800@di2hearts.com
SUMMARY:Tacoma Center YMCA Gentle Yoga Class
DESCRIPTION:
URL:https://di2hearts.com/event/tacoma-center-ymca-gentle-yoga-class/2027-03-21/
END:VEVENT
BEGIN:VEVENT
DTSTART;TZID=America/Vancouver:20270321T111500
DTEND;TZID=America/Vancouver:20270321T121500
DTSTAMP:20260422T153950
CREATED:20250708T225731Z
LAST-MODIFIED:20250709T163055Z
UID:10000613-1805627700-1805631300@di2hearts.com
SUMMARY:Tacoma Center YMCA Yin Yoga Class
DESCRIPTION:
URL:https://di2hearts.com/event/tacoma-center-ymca-yin-yoga-class/2027-03-21/
END:VEVENT
BEGIN:VEVENT
DTSTART;TZID=America/Vancouver:20270322T103000
DTEND;TZID=America/Vancouver:20270322T113000
DTSTAMP:20260422T153950
CREATED:20250618T214701Z
LAST-MODIFIED:20250708T224748Z
UID:10000093-1805711400-1805715000@di2hearts.com
SUMMARY:Lakewood YMCA Gentle Yoga
DESCRIPTION:
URL:https://di2hearts.com/event/gentle-yoga/2027-03-22/
LOCATION:Lakewood YMCA
END:VEVENT
BEGIN:VEVENT
DTSTART;TZID=America/Vancouver:20270323T123000
DTEND;TZID=America/Vancouver:20270323T131500
DTSTAMP:20260422T153950
CREATED:20250709T163741Z
LAST-MODIFIED:20250709T164250Z
UID:10001134-1805805000-1805807700@di2hearts.com
SUMMARY:Pearl St YMCA Chair Yin Yoga Class
DESCRIPTION:
URL:https://di2hearts.com/event/pearl-st-ymca-chair-yin-or-mat-yoga-class/2027-03-23/
END:VEVENT
BEGIN:VEVENT
DTSTART;TZID=America/Vancouver:20270324T093000
DTEND;TZID=America/Vancouver:20270324T103000
DTSTAMP:20260422T153950
CREATED:20260315T234958Z
LAST-MODIFIED:20260315T234958Z
UID:10001859-1805880600-1805884200@di2hearts.com
SUMMARY:Lakewood YMCA Chair Yin Yoga (or on your mat)
DESCRIPTION:
URL:https://di2hearts.com/event/lakewood-ymca-chair-yin-yoga-or-on-your-mat/2027-03-24/
END:VEVENT
BEGIN:VEVENT
DTSTART;TZID=America/Vancouver:20270324T113000
DTEND;TZID=America/Vancouver:20270324T121500
DTSTAMP:20260422T153950
CREATED:20250709T164030Z
LAST-MODIFIED:20250709T164030Z
UID:10001395-1805887800-1805890500@di2hearts.com
SUMMARY:Pearl St. YMCA Chair Yoga Class
DESCRIPTION:
URL:https://di2hearts.com/event/pearl-st-ymca-chair-yoga-class/2027-03-24/
END:VEVENT
BEGIN:VEVENT
DTSTART;TZID=America/Vancouver:20270328T100000
DTEND;TZID=America/Vancouver:20270328T110000
DTSTAMP:20260422T153950
CREATED:20250708T225415Z
LAST-MODIFIED:20250708T225415Z
UID:10000354-1806228000-1806231600@di2hearts.com
SUMMARY:Tacoma Center YMCA Gentle Yoga Class
DESCRIPTION:
URL:https://di2hearts.com/event/tacoma-center-ymca-gentle-yoga-class/2027-03-28/
END:VEVENT
BEGIN:VEVENT
DTSTART;TZID=America/Vancouver:20270328T111500
DTEND;TZID=America/Vancouver:20270328T121500
DTSTAMP:20260422T153950
CREATED:20250708T225731Z
LAST-MODIFIED:20250709T163055Z
UID:10000614-1806232500-1806236100@di2hearts.com
SUMMARY:Tacoma Center YMCA Yin Yoga Class
DESCRIPTION:
URL:https://di2hearts.com/event/tacoma-center-ymca-yin-yoga-class/2027-03-28/
END:VEVENT
BEGIN:VEVENT
DTSTART;TZID=America/Vancouver:20270329T103000
DTEND;TZID=America/Vancouver:20270329T113000
DTSTAMP:20260422T153950
CREATED:20250618T214701Z
LAST-MODIFIED:20250708T224748Z
UID:10000094-1806316200-1806319800@di2hearts.com
SUMMARY:Lakewood YMCA Gentle Yoga
DESCRIPTION:
URL:https://di2hearts.com/event/gentle-yoga/2027-03-29/
LOCATION:Lakewood YMCA
END:VEVENT
BEGIN:VEVENT
DTSTART;TZID=America/Vancouver:20270330T123000
DTEND;TZID=America/Vancouver:20270330T131500
DTSTAMP:20260422T153950
CREATED:20250709T163741Z
LAST-MODIFIED:20250709T164250Z
UID:10001135-1806409800-1806412500@di2hearts.com
SUMMARY:Pearl St YMCA Chair Yin Yoga Class
DESCRIPTION:
URL:https://di2hearts.com/event/pearl-st-ymca-chair-yin-or-mat-yoga-class/2027-03-30/
END:VEVENT
BEGIN:VEVENT
DTSTART;TZID=America/Vancouver:20270331T093000
DTEND;TZID=America/Vancouver:20270331T103000
DTSTAMP:20260422T153950
CREATED:20260315T234958Z
LAST-MODIFIED:20260315T234958Z
UID:10001860-1806485400-1806489000@di2hearts.com
SUMMARY:Lakewood YMCA Chair Yin Yoga (or on your mat)
DESCRIPTION:
URL:https://di2hearts.com/event/lakewood-ymca-chair-yin-yoga-or-on-your-mat/2027-03-31/
END:VEVENT
BEGIN:VEVENT
DTSTART;TZID=America/Vancouver:20270331T113000
DTEND;TZID=America/Vancouver:20270331T121500
DTSTAMP:20260422T153950
CREATED:20250709T164030Z
LAST-MODIFIED:20250709T164030Z
UID:10001396-1806492600-1806495300@di2hearts.com
SUMMARY:Pearl St. YMCA Chair Yoga Class
DESCRIPTION:
URL:https://di2hearts.com/event/pearl-st-ymca-chair-yoga-class/2027-03-31/
END:VEVENT
END:VCALENDAR