BEGIN:VCALENDAR
VERSION:2.0
PRODID:-//Di2hearts - ECPv6.15.20//NONSGML v1.0//EN
CALSCALE:GREGORIAN
METHOD:PUBLISH
X-WR-CALNAME:Di2hearts
X-ORIGINAL-URL:https://di2hearts.com
X-WR-CALDESC:Events for Di2hearts
REFRESH-INTERVAL;VALUE=DURATION:PT1H
X-Robots-Tag:noindex
X-PUBLISHED-TTL:PT1H
BEGIN:VTIMEZONE
TZID:America/Vancouver
BEGIN:DAYLIGHT
TZOFFSETFROM:-0800
TZOFFSETTO:-0700
TZNAME:PDT
DTSTART:20260308T100000
END:DAYLIGHT
BEGIN:STANDARD
TZOFFSETFROM:-0700
TZOFFSETTO:-0800
TZNAME:PST
DTSTART:20261101T090000
END:STANDARD
BEGIN:DAYLIGHT
TZOFFSETFROM:-0800
TZOFFSETTO:-0700
TZNAME:PDT
DTSTART:20270314T100000
END:DAYLIGHT
BEGIN:STANDARD
TZOFFSETFROM:-0700
TZOFFSETTO:-0800
TZNAME:PST
DTSTART:20271107T090000
END:STANDARD
BEGIN:DAYLIGHT
TZOFFSETFROM:-0800
TZOFFSETTO:-0700
TZNAME:PDT
DTSTART:20280312T100000
END:DAYLIGHT
BEGIN:STANDARD
TZOFFSETFROM:-0700
TZOFFSETTO:-0800
TZNAME:PST
DTSTART:20281105T090000
END:STANDARD
END:VTIMEZONE
BEGIN:VEVENT
DTSTART;TZID=America/Vancouver:20270502T100000
DTEND;TZID=America/Vancouver:20270502T110000
DTSTAMP:20260422T184558
CREATED:20250708T225415Z
LAST-MODIFIED:20250708T225415Z
UID:10000359-1809252000-1809255600@di2hearts.com
SUMMARY:Tacoma Center YMCA Gentle Yoga Class
DESCRIPTION:
URL:https://di2hearts.com/event/tacoma-center-ymca-gentle-yoga-class/2027-05-02/
END:VEVENT
BEGIN:VEVENT
DTSTART;TZID=America/Vancouver:20270502T111500
DTEND;TZID=America/Vancouver:20270502T121500
DTSTAMP:20260422T184558
CREATED:20250708T225731Z
LAST-MODIFIED:20250709T163055Z
UID:10000619-1809256500-1809260100@di2hearts.com
SUMMARY:Tacoma Center YMCA Yin Yoga Class
DESCRIPTION:
URL:https://di2hearts.com/event/tacoma-center-ymca-yin-yoga-class/2027-05-02/
END:VEVENT
BEGIN:VEVENT
DTSTART;TZID=America/Vancouver:20270503T103000
DTEND;TZID=America/Vancouver:20270503T113000
DTSTAMP:20260422T184558
CREATED:20250618T214701Z
LAST-MODIFIED:20250708T224748Z
UID:10000099-1809340200-1809343800@di2hearts.com
SUMMARY:Lakewood YMCA Gentle Yoga
DESCRIPTION:
URL:https://di2hearts.com/event/gentle-yoga/2027-05-03/
LOCATION:Lakewood YMCA
END:VEVENT
BEGIN:VEVENT
DTSTART;TZID=America/Vancouver:20270504T123000
DTEND;TZID=America/Vancouver:20270504T131500
DTSTAMP:20260422T184558
CREATED:20250709T163741Z
LAST-MODIFIED:20250709T164250Z
UID:10001140-1809433800-1809436500@di2hearts.com
SUMMARY:Pearl St YMCA Chair Yin Yoga Class
DESCRIPTION:
URL:https://di2hearts.com/event/pearl-st-ymca-chair-yin-or-mat-yoga-class/2027-05-04/
END:VEVENT
BEGIN:VEVENT
DTSTART;TZID=America/Vancouver:20270505T093000
DTEND;TZID=America/Vancouver:20270505T103000
DTSTAMP:20260422T184558
CREATED:20260315T234958Z
LAST-MODIFIED:20260315T234958Z
UID:10001865-1809509400-1809513000@di2hearts.com
SUMMARY:Lakewood YMCA Chair Yin Yoga (or on your mat)
DESCRIPTION:
URL:https://di2hearts.com/event/lakewood-ymca-chair-yin-yoga-or-on-your-mat/2027-05-05/
END:VEVENT
BEGIN:VEVENT
DTSTART;TZID=America/Vancouver:20270505T113000
DTEND;TZID=America/Vancouver:20270505T121500
DTSTAMP:20260422T184558
CREATED:20250709T164030Z
LAST-MODIFIED:20250709T164030Z
UID:10001401-1809516600-1809519300@di2hearts.com
SUMMARY:Pearl St. YMCA Chair Yoga Class
DESCRIPTION:
URL:https://di2hearts.com/event/pearl-st-ymca-chair-yoga-class/2027-05-05/
END:VEVENT
BEGIN:VEVENT
DTSTART;TZID=America/Vancouver:20270509T100000
DTEND;TZID=America/Vancouver:20270509T110000
DTSTAMP:20260422T184558
CREATED:20250708T225415Z
LAST-MODIFIED:20250708T225415Z
UID:10000360-1809856800-1809860400@di2hearts.com
SUMMARY:Tacoma Center YMCA Gentle Yoga Class
DESCRIPTION:
URL:https://di2hearts.com/event/tacoma-center-ymca-gentle-yoga-class/2027-05-09/
END:VEVENT
BEGIN:VEVENT
DTSTART;TZID=America/Vancouver:20270509T111500
DTEND;TZID=America/Vancouver:20270509T121500
DTSTAMP:20260422T184558
CREATED:20250708T225731Z
LAST-MODIFIED:20250709T163055Z
UID:10000620-1809861300-1809864900@di2hearts.com
SUMMARY:Tacoma Center YMCA Yin Yoga Class
DESCRIPTION:
URL:https://di2hearts.com/event/tacoma-center-ymca-yin-yoga-class/2027-05-09/
END:VEVENT
BEGIN:VEVENT
DTSTART;TZID=America/Vancouver:20270510T103000
DTEND;TZID=America/Vancouver:20270510T113000
DTSTAMP:20260422T184558
CREATED:20250618T214701Z
LAST-MODIFIED:20250708T224748Z
UID:10000100-1809945000-1809948600@di2hearts.com
SUMMARY:Lakewood YMCA Gentle Yoga
DESCRIPTION:
URL:https://di2hearts.com/event/gentle-yoga/2027-05-10/
LOCATION:Lakewood YMCA
END:VEVENT
BEGIN:VEVENT
DTSTART;TZID=America/Vancouver:20270511T123000
DTEND;TZID=America/Vancouver:20270511T131500
DTSTAMP:20260422T184558
CREATED:20250709T163741Z
LAST-MODIFIED:20250709T164250Z
UID:10001141-1810038600-1810041300@di2hearts.com
SUMMARY:Pearl St YMCA Chair Yin Yoga Class
DESCRIPTION:
URL:https://di2hearts.com/event/pearl-st-ymca-chair-yin-or-mat-yoga-class/2027-05-11/
END:VEVENT
BEGIN:VEVENT
DTSTART;TZID=America/Vancouver:20270512T093000
DTEND;TZID=America/Vancouver:20270512T103000
DTSTAMP:20260422T184558
CREATED:20260315T234958Z
LAST-MODIFIED:20260315T234958Z
UID:10001866-1810114200-1810117800@di2hearts.com
SUMMARY:Lakewood YMCA Chair Yin Yoga (or on your mat)
DESCRIPTION:
URL:https://di2hearts.com/event/lakewood-ymca-chair-yin-yoga-or-on-your-mat/2027-05-12/
END:VEVENT
BEGIN:VEVENT
DTSTART;TZID=America/Vancouver:20270512T113000
DTEND;TZID=America/Vancouver:20270512T121500
DTSTAMP:20260422T184558
CREATED:20250709T164030Z
LAST-MODIFIED:20250709T164030Z
UID:10001402-1810121400-1810124100@di2hearts.com
SUMMARY:Pearl St. YMCA Chair Yoga Class
DESCRIPTION:
URL:https://di2hearts.com/event/pearl-st-ymca-chair-yoga-class/2027-05-12/
END:VEVENT
BEGIN:VEVENT
DTSTART;TZID=America/Vancouver:20270516T100000
DTEND;TZID=America/Vancouver:20270516T110000
DTSTAMP:20260422T184558
CREATED:20250708T225415Z
LAST-MODIFIED:20250708T225415Z
UID:10000361-1810461600-1810465200@di2hearts.com
SUMMARY:Tacoma Center YMCA Gentle Yoga Class
DESCRIPTION:
URL:https://di2hearts.com/event/tacoma-center-ymca-gentle-yoga-class/2027-05-16/
END:VEVENT
BEGIN:VEVENT
DTSTART;TZID=America/Vancouver:20270516T111500
DTEND;TZID=America/Vancouver:20270516T121500
DTSTAMP:20260422T184558
CREATED:20250708T225731Z
LAST-MODIFIED:20250709T163055Z
UID:10000621-1810466100-1810469700@di2hearts.com
SUMMARY:Tacoma Center YMCA Yin Yoga Class
DESCRIPTION:
URL:https://di2hearts.com/event/tacoma-center-ymca-yin-yoga-class/2027-05-16/
END:VEVENT
BEGIN:VEVENT
DTSTART;TZID=America/Vancouver:20270517T103000
DTEND;TZID=America/Vancouver:20270517T113000
DTSTAMP:20260422T184558
CREATED:20250618T214701Z
LAST-MODIFIED:20250708T224748Z
UID:10000101-1810549800-1810553400@di2hearts.com
SUMMARY:Lakewood YMCA Gentle Yoga
DESCRIPTION:
URL:https://di2hearts.com/event/gentle-yoga/2027-05-17/
LOCATION:Lakewood YMCA
END:VEVENT
BEGIN:VEVENT
DTSTART;TZID=America/Vancouver:20270518T123000
DTEND;TZID=America/Vancouver:20270518T131500
DTSTAMP:20260422T184558
CREATED:20250709T163741Z
LAST-MODIFIED:20250709T164250Z
UID:10001142-1810643400-1810646100@di2hearts.com
SUMMARY:Pearl St YMCA Chair Yin Yoga Class
DESCRIPTION:
URL:https://di2hearts.com/event/pearl-st-ymca-chair-yin-or-mat-yoga-class/2027-05-18/
END:VEVENT
BEGIN:VEVENT
DTSTART;TZID=America/Vancouver:20270519T093000
DTEND;TZID=America/Vancouver:20270519T103000
DTSTAMP:20260422T184558
CREATED:20260315T234958Z
LAST-MODIFIED:20260315T234958Z
UID:10001867-1810719000-1810722600@di2hearts.com
SUMMARY:Lakewood YMCA Chair Yin Yoga (or on your mat)
DESCRIPTION:
URL:https://di2hearts.com/event/lakewood-ymca-chair-yin-yoga-or-on-your-mat/2027-05-19/
END:VEVENT
BEGIN:VEVENT
DTSTART;TZID=America/Vancouver:20270519T113000
DTEND;TZID=America/Vancouver:20270519T121500
DTSTAMP:20260422T184558
CREATED:20250709T164030Z
LAST-MODIFIED:20250709T164030Z
UID:10001403-1810726200-1810728900@di2hearts.com
SUMMARY:Pearl St. YMCA Chair Yoga Class
DESCRIPTION:
URL:https://di2hearts.com/event/pearl-st-ymca-chair-yoga-class/2027-05-19/
END:VEVENT
BEGIN:VEVENT
DTSTART;TZID=America/Vancouver:20270523T100000
DTEND;TZID=America/Vancouver:20270523T110000
DTSTAMP:20260422T184558
CREATED:20250708T225415Z
LAST-MODIFIED:20250708T225415Z
UID:10000362-1811066400-1811070000@di2hearts.com
SUMMARY:Tacoma Center YMCA Gentle Yoga Class
DESCRIPTION:
URL:https://di2hearts.com/event/tacoma-center-ymca-gentle-yoga-class/2027-05-23/
END:VEVENT
BEGIN:VEVENT
DTSTART;TZID=America/Vancouver:20270523T111500
DTEND;TZID=America/Vancouver:20270523T121500
DTSTAMP:20260422T184558
CREATED:20250708T225731Z
LAST-MODIFIED:20250709T163055Z
UID:10000622-1811070900-1811074500@di2hearts.com
SUMMARY:Tacoma Center YMCA Yin Yoga Class
DESCRIPTION:
URL:https://di2hearts.com/event/tacoma-center-ymca-yin-yoga-class/2027-05-23/
END:VEVENT
BEGIN:VEVENT
DTSTART;TZID=America/Vancouver:20270524T103000
DTEND;TZID=America/Vancouver:20270524T113000
DTSTAMP:20260422T184558
CREATED:20250618T214701Z
LAST-MODIFIED:20250708T224748Z
UID:10000102-1811154600-1811158200@di2hearts.com
SUMMARY:Lakewood YMCA Gentle Yoga
DESCRIPTION:
URL:https://di2hearts.com/event/gentle-yoga/2027-05-24/
LOCATION:Lakewood YMCA
END:VEVENT
BEGIN:VEVENT
DTSTART;TZID=America/Vancouver:20270525T123000
DTEND;TZID=America/Vancouver:20270525T131500
DTSTAMP:20260422T184558
CREATED:20250709T163741Z
LAST-MODIFIED:20250709T164250Z
UID:10001143-1811248200-1811250900@di2hearts.com
SUMMARY:Pearl St YMCA Chair Yin Yoga Class
DESCRIPTION:
URL:https://di2hearts.com/event/pearl-st-ymca-chair-yin-or-mat-yoga-class/2027-05-25/
END:VEVENT
BEGIN:VEVENT
DTSTART;TZID=America/Vancouver:20270526T093000
DTEND;TZID=America/Vancouver:20270526T103000
DTSTAMP:20260422T184558
CREATED:20260315T234958Z
LAST-MODIFIED:20260315T234958Z
UID:10001868-1811323800-1811327400@di2hearts.com
SUMMARY:Lakewood YMCA Chair Yin Yoga (or on your mat)
DESCRIPTION:
URL:https://di2hearts.com/event/lakewood-ymca-chair-yin-yoga-or-on-your-mat/2027-05-26/
END:VEVENT
BEGIN:VEVENT
DTSTART;TZID=America/Vancouver:20270526T113000
DTEND;TZID=America/Vancouver:20270526T121500
DTSTAMP:20260422T184558
CREATED:20250709T164030Z
LAST-MODIFIED:20250709T164030Z
UID:10001404-1811331000-1811333700@di2hearts.com
SUMMARY:Pearl St. YMCA Chair Yoga Class
DESCRIPTION:
URL:https://di2hearts.com/event/pearl-st-ymca-chair-yoga-class/2027-05-26/
END:VEVENT
BEGIN:VEVENT
DTSTART;TZID=America/Vancouver:20270530T100000
DTEND;TZID=America/Vancouver:20270530T110000
DTSTAMP:20260422T184558
CREATED:20250708T225415Z
LAST-MODIFIED:20250708T225415Z
UID:10000363-1811671200-1811674800@di2hearts.com
SUMMARY:Tacoma Center YMCA Gentle Yoga Class
DESCRIPTION:
URL:https://di2hearts.com/event/tacoma-center-ymca-gentle-yoga-class/2027-05-30/
END:VEVENT
BEGIN:VEVENT
DTSTART;TZID=America/Vancouver:20270530T111500
DTEND;TZID=America/Vancouver:20270530T121500
DTSTAMP:20260422T184558
CREATED:20250708T225731Z
LAST-MODIFIED:20250709T163055Z
UID:10000623-1811675700-1811679300@di2hearts.com
SUMMARY:Tacoma Center YMCA Yin Yoga Class
DESCRIPTION:
URL:https://di2hearts.com/event/tacoma-center-ymca-yin-yoga-class/2027-05-30/
END:VEVENT
BEGIN:VEVENT
DTSTART;TZID=America/Vancouver:20270531T103000
DTEND;TZID=America/Vancouver:20270531T113000
DTSTAMP:20260422T184558
CREATED:20250618T214701Z
LAST-MODIFIED:20250708T224748Z
UID:10000103-1811759400-1811763000@di2hearts.com
SUMMARY:Lakewood YMCA Gentle Yoga
DESCRIPTION:
URL:https://di2hearts.com/event/gentle-yoga/2027-05-31/
LOCATION:Lakewood YMCA
END:VEVENT
END:VCALENDAR