BEGIN:VCALENDAR
VERSION:2.0
PRODID:-//Di2hearts - ECPv6.15.20//NONSGML v1.0//EN
CALSCALE:GREGORIAN
METHOD:PUBLISH
X-ORIGINAL-URL:https://di2hearts.com
X-WR-CALDESC:Events for Di2hearts
REFRESH-INTERVAL;VALUE=DURATION:PT1H
X-Robots-Tag:noindex
X-PUBLISHED-TTL:PT1H
BEGIN:VTIMEZONE
TZID:America/Vancouver
BEGIN:DAYLIGHT
TZOFFSETFROM:-0800
TZOFFSETTO:-0700
TZNAME:PDT
DTSTART:20260308T100000
END:DAYLIGHT
BEGIN:STANDARD
TZOFFSETFROM:-0700
TZOFFSETTO:-0800
TZNAME:PST
DTSTART:20261101T090000
END:STANDARD
BEGIN:DAYLIGHT
TZOFFSETFROM:-0800
TZOFFSETTO:-0700
TZNAME:PDT
DTSTART:20270314T100000
END:DAYLIGHT
BEGIN:STANDARD
TZOFFSETFROM:-0700
TZOFFSETTO:-0800
TZNAME:PST
DTSTART:20271107T090000
END:STANDARD
BEGIN:DAYLIGHT
TZOFFSETFROM:-0800
TZOFFSETTO:-0700
TZNAME:PDT
DTSTART:20280312T100000
END:DAYLIGHT
BEGIN:STANDARD
TZOFFSETFROM:-0700
TZOFFSETTO:-0800
TZNAME:PST
DTSTART:20281105T090000
END:STANDARD
END:VTIMEZONE
BEGIN:VEVENT
DTSTART;TZID=America/Vancouver:20270601T123000
DTEND;TZID=America/Vancouver:20270601T131500
DTSTAMP:20260422T215054
CREATED:20250709T163741Z
LAST-MODIFIED:20250709T164250Z
UID:10001144-1811853000-1811855700@di2hearts.com
SUMMARY:Pearl St YMCA Chair Yin Yoga Class
DESCRIPTION:
URL:https://di2hearts.com/event/pearl-st-ymca-chair-yin-or-mat-yoga-class/2027-06-01/
END:VEVENT
BEGIN:VEVENT
DTSTART;TZID=America/Vancouver:20270602T093000
DTEND;TZID=America/Vancouver:20270602T103000
DTSTAMP:20260422T215054
CREATED:20260315T234958Z
LAST-MODIFIED:20260315T234958Z
UID:10001869-1811928600-1811932200@di2hearts.com
SUMMARY:Lakewood YMCA Chair Yin Yoga (or on your mat)
DESCRIPTION:
URL:https://di2hearts.com/event/lakewood-ymca-chair-yin-yoga-or-on-your-mat/2027-06-02/
END:VEVENT
BEGIN:VEVENT
DTSTART;TZID=America/Vancouver:20270602T113000
DTEND;TZID=America/Vancouver:20270602T121500
DTSTAMP:20260422T215054
CREATED:20250709T164030Z
LAST-MODIFIED:20250709T164030Z
UID:10001405-1811935800-1811938500@di2hearts.com
SUMMARY:Pearl St. YMCA Chair Yoga Class
DESCRIPTION:
URL:https://di2hearts.com/event/pearl-st-ymca-chair-yoga-class/2027-06-02/
END:VEVENT
BEGIN:VEVENT
DTSTART;TZID=America/Vancouver:20270606T100000
DTEND;TZID=America/Vancouver:20270606T110000
DTSTAMP:20260422T215054
CREATED:20250708T225415Z
LAST-MODIFIED:20250708T225415Z
UID:10000364-1812276000-1812279600@di2hearts.com
SUMMARY:Tacoma Center YMCA Gentle Yoga Class
DESCRIPTION:
URL:https://di2hearts.com/event/tacoma-center-ymca-gentle-yoga-class/2027-06-06/
END:VEVENT
BEGIN:VEVENT
DTSTART;TZID=America/Vancouver:20270606T111500
DTEND;TZID=America/Vancouver:20270606T121500
DTSTAMP:20260422T215054
CREATED:20250708T225731Z
LAST-MODIFIED:20250709T163055Z
UID:10000624-1812280500-1812284100@di2hearts.com
SUMMARY:Tacoma Center YMCA Yin Yoga Class
DESCRIPTION:
URL:https://di2hearts.com/event/tacoma-center-ymca-yin-yoga-class/2027-06-06/
END:VEVENT
BEGIN:VEVENT
DTSTART;TZID=America/Vancouver:20270607T103000
DTEND;TZID=America/Vancouver:20270607T113000
DTSTAMP:20260422T215054
CREATED:20250618T214701Z
LAST-MODIFIED:20250708T224748Z
UID:10000104-1812364200-1812367800@di2hearts.com
SUMMARY:Lakewood YMCA Gentle Yoga
DESCRIPTION:
URL:https://di2hearts.com/event/gentle-yoga/2027-06-07/
LOCATION:Lakewood YMCA
END:VEVENT
BEGIN:VEVENT
DTSTART;TZID=America/Vancouver:20270608T123000
DTEND;TZID=America/Vancouver:20270608T131500
DTSTAMP:20260422T215054
CREATED:20250709T163741Z
LAST-MODIFIED:20250709T164250Z
UID:10001145-1812457800-1812460500@di2hearts.com
SUMMARY:Pearl St YMCA Chair Yin Yoga Class
DESCRIPTION:
URL:https://di2hearts.com/event/pearl-st-ymca-chair-yin-or-mat-yoga-class/2027-06-08/
END:VEVENT
BEGIN:VEVENT
DTSTART;TZID=America/Vancouver:20270609T093000
DTEND;TZID=America/Vancouver:20270609T103000
DTSTAMP:20260422T215054
CREATED:20260315T234958Z
LAST-MODIFIED:20260315T234958Z
UID:10001870-1812533400-1812537000@di2hearts.com
SUMMARY:Lakewood YMCA Chair Yin Yoga (or on your mat)
DESCRIPTION:
URL:https://di2hearts.com/event/lakewood-ymca-chair-yin-yoga-or-on-your-mat/2027-06-09/
END:VEVENT
BEGIN:VEVENT
DTSTART;TZID=America/Vancouver:20270609T113000
DTEND;TZID=America/Vancouver:20270609T121500
DTSTAMP:20260422T215054
CREATED:20250709T164030Z
LAST-MODIFIED:20250709T164030Z
UID:10001406-1812540600-1812543300@di2hearts.com
SUMMARY:Pearl St. YMCA Chair Yoga Class
DESCRIPTION:
URL:https://di2hearts.com/event/pearl-st-ymca-chair-yoga-class/2027-06-09/
END:VEVENT
BEGIN:VEVENT
DTSTART;TZID=America/Vancouver:20270613T100000
DTEND;TZID=America/Vancouver:20270613T110000
DTSTAMP:20260422T215054
CREATED:20250708T225415Z
LAST-MODIFIED:20250708T225415Z
UID:10000365-1812880800-1812884400@di2hearts.com
SUMMARY:Tacoma Center YMCA Gentle Yoga Class
DESCRIPTION:
URL:https://di2hearts.com/event/tacoma-center-ymca-gentle-yoga-class/2027-06-13/
END:VEVENT
BEGIN:VEVENT
DTSTART;TZID=America/Vancouver:20270613T111500
DTEND;TZID=America/Vancouver:20270613T121500
DTSTAMP:20260422T215054
CREATED:20250708T225731Z
LAST-MODIFIED:20250709T163055Z
UID:10000625-1812885300-1812888900@di2hearts.com
SUMMARY:Tacoma Center YMCA Yin Yoga Class
DESCRIPTION:
URL:https://di2hearts.com/event/tacoma-center-ymca-yin-yoga-class/2027-06-13/
END:VEVENT
BEGIN:VEVENT
DTSTART;TZID=America/Vancouver:20270614T103000
DTEND;TZID=America/Vancouver:20270614T113000
DTSTAMP:20260422T215054
CREATED:20250618T214701Z
LAST-MODIFIED:20250708T224748Z
UID:10000105-1812969000-1812972600@di2hearts.com
SUMMARY:Lakewood YMCA Gentle Yoga
DESCRIPTION:
URL:https://di2hearts.com/event/gentle-yoga/2027-06-14/
LOCATION:Lakewood YMCA
END:VEVENT
BEGIN:VEVENT
DTSTART;TZID=America/Vancouver:20270615T123000
DTEND;TZID=America/Vancouver:20270615T131500
DTSTAMP:20260422T215054
CREATED:20250709T163741Z
LAST-MODIFIED:20250709T164250Z
UID:10001146-1813062600-1813065300@di2hearts.com
SUMMARY:Pearl St YMCA Chair Yin Yoga Class
DESCRIPTION:
URL:https://di2hearts.com/event/pearl-st-ymca-chair-yin-or-mat-yoga-class/2027-06-15/
END:VEVENT
BEGIN:VEVENT
DTSTART;TZID=America/Vancouver:20270616T093000
DTEND;TZID=America/Vancouver:20270616T103000
DTSTAMP:20260422T215054
CREATED:20260315T234958Z
LAST-MODIFIED:20260315T234958Z
UID:10001871-1813138200-1813141800@di2hearts.com
SUMMARY:Lakewood YMCA Chair Yin Yoga (or on your mat)
DESCRIPTION:
URL:https://di2hearts.com/event/lakewood-ymca-chair-yin-yoga-or-on-your-mat/2027-06-16/
END:VEVENT
BEGIN:VEVENT
DTSTART;TZID=America/Vancouver:20270616T113000
DTEND;TZID=America/Vancouver:20270616T121500
DTSTAMP:20260422T215054
CREATED:20250709T164030Z
LAST-MODIFIED:20250709T164030Z
UID:10001407-1813145400-1813148100@di2hearts.com
SUMMARY:Pearl St. YMCA Chair Yoga Class
DESCRIPTION:
URL:https://di2hearts.com/event/pearl-st-ymca-chair-yoga-class/2027-06-16/
END:VEVENT
BEGIN:VEVENT
DTSTART;TZID=America/Vancouver:20270620T100000
DTEND;TZID=America/Vancouver:20270620T110000
DTSTAMP:20260422T215054
CREATED:20250708T225415Z
LAST-MODIFIED:20250708T225415Z
UID:10000366-1813485600-1813489200@di2hearts.com
SUMMARY:Tacoma Center YMCA Gentle Yoga Class
DESCRIPTION:
URL:https://di2hearts.com/event/tacoma-center-ymca-gentle-yoga-class/2027-06-20/
END:VEVENT
BEGIN:VEVENT
DTSTART;TZID=America/Vancouver:20270620T111500
DTEND;TZID=America/Vancouver:20270620T121500
DTSTAMP:20260422T215054
CREATED:20250708T225731Z
LAST-MODIFIED:20250709T163055Z
UID:10000626-1813490100-1813493700@di2hearts.com
SUMMARY:Tacoma Center YMCA Yin Yoga Class
DESCRIPTION:
URL:https://di2hearts.com/event/tacoma-center-ymca-yin-yoga-class/2027-06-20/
END:VEVENT
BEGIN:VEVENT
DTSTART;TZID=America/Vancouver:20270621T103000
DTEND;TZID=America/Vancouver:20270621T113000
DTSTAMP:20260422T215054
CREATED:20250618T214701Z
LAST-MODIFIED:20250708T224748Z
UID:10000106-1813573800-1813577400@di2hearts.com
SUMMARY:Lakewood YMCA Gentle Yoga
DESCRIPTION:
URL:https://di2hearts.com/event/gentle-yoga/2027-06-21/
LOCATION:Lakewood YMCA
END:VEVENT
BEGIN:VEVENT
DTSTART;TZID=America/Vancouver:20270622T123000
DTEND;TZID=America/Vancouver:20270622T131500
DTSTAMP:20260422T215054
CREATED:20250709T163741Z
LAST-MODIFIED:20250709T164250Z
UID:10001147-1813667400-1813670100@di2hearts.com
SUMMARY:Pearl St YMCA Chair Yin Yoga Class
DESCRIPTION:
URL:https://di2hearts.com/event/pearl-st-ymca-chair-yin-or-mat-yoga-class/2027-06-22/
END:VEVENT
BEGIN:VEVENT
DTSTART;TZID=America/Vancouver:20270623T093000
DTEND;TZID=America/Vancouver:20270623T103000
DTSTAMP:20260422T215054
CREATED:20260315T234958Z
LAST-MODIFIED:20260315T234958Z
UID:10001872-1813743000-1813746600@di2hearts.com
SUMMARY:Lakewood YMCA Chair Yin Yoga (or on your mat)
DESCRIPTION:
URL:https://di2hearts.com/event/lakewood-ymca-chair-yin-yoga-or-on-your-mat/2027-06-23/
END:VEVENT
BEGIN:VEVENT
DTSTART;TZID=America/Vancouver:20270623T113000
DTEND;TZID=America/Vancouver:20270623T121500
DTSTAMP:20260422T215054
CREATED:20250709T164030Z
LAST-MODIFIED:20250709T164030Z
UID:10001408-1813750200-1813752900@di2hearts.com
SUMMARY:Pearl St. YMCA Chair Yoga Class
DESCRIPTION:
URL:https://di2hearts.com/event/pearl-st-ymca-chair-yoga-class/2027-06-23/
END:VEVENT
BEGIN:VEVENT
DTSTART;TZID=America/Vancouver:20270627T100000
DTEND;TZID=America/Vancouver:20270627T110000
DTSTAMP:20260422T215054
CREATED:20250708T225415Z
LAST-MODIFIED:20250708T225415Z
UID:10000367-1814090400-1814094000@di2hearts.com
SUMMARY:Tacoma Center YMCA Gentle Yoga Class
DESCRIPTION:
URL:https://di2hearts.com/event/tacoma-center-ymca-gentle-yoga-class/2027-06-27/
END:VEVENT
BEGIN:VEVENT
DTSTART;TZID=America/Vancouver:20270627T111500
DTEND;TZID=America/Vancouver:20270627T121500
DTSTAMP:20260422T215054
CREATED:20250708T225731Z
LAST-MODIFIED:20250709T163055Z
UID:10000627-1814094900-1814098500@di2hearts.com
SUMMARY:Tacoma Center YMCA Yin Yoga Class
DESCRIPTION:
URL:https://di2hearts.com/event/tacoma-center-ymca-yin-yoga-class/2027-06-27/
END:VEVENT
BEGIN:VEVENT
DTSTART;TZID=America/Vancouver:20270628T103000
DTEND;TZID=America/Vancouver:20270628T113000
DTSTAMP:20260422T215054
CREATED:20250618T214701Z
LAST-MODIFIED:20250708T224748Z
UID:10000107-1814178600-1814182200@di2hearts.com
SUMMARY:Lakewood YMCA Gentle Yoga
DESCRIPTION:
URL:https://di2hearts.com/event/gentle-yoga/2027-06-28/
LOCATION:Lakewood YMCA
END:VEVENT
BEGIN:VEVENT
DTSTART;TZID=America/Vancouver:20270629T123000
DTEND;TZID=America/Vancouver:20270629T131500
DTSTAMP:20260422T215054
CREATED:20250709T163741Z
LAST-MODIFIED:20250709T164250Z
UID:10001148-1814272200-1814274900@di2hearts.com
SUMMARY:Pearl St YMCA Chair Yin Yoga Class
DESCRIPTION:
URL:https://di2hearts.com/event/pearl-st-ymca-chair-yin-or-mat-yoga-class/2027-06-29/
END:VEVENT
BEGIN:VEVENT
DTSTART;TZID=America/Vancouver:20270630T093000
DTEND;TZID=America/Vancouver:20270630T103000
DTSTAMP:20260422T215054
CREATED:20260315T234958Z
LAST-MODIFIED:20260315T234958Z
UID:10001873-1814347800-1814351400@di2hearts.com
SUMMARY:Lakewood YMCA Chair Yin Yoga (or on your mat)
DESCRIPTION:
URL:https://di2hearts.com/event/lakewood-ymca-chair-yin-yoga-or-on-your-mat/2027-06-30/
END:VEVENT
BEGIN:VEVENT
DTSTART;TZID=America/Vancouver:20270630T113000
DTEND;TZID=America/Vancouver:20270630T121500
DTSTAMP:20260422T215054
CREATED:20250709T164030Z
LAST-MODIFIED:20250709T164030Z
UID:10001409-1814355000-1814357700@di2hearts.com
SUMMARY:Pearl St. YMCA Chair Yoga Class
DESCRIPTION:
URL:https://di2hearts.com/event/pearl-st-ymca-chair-yoga-class/2027-06-30/
END:VEVENT
END:VCALENDAR