BEGIN:VCALENDAR
VERSION:2.0
PRODID:-//Di2hearts - ECPv6.15.20//NONSGML v1.0//EN
CALSCALE:GREGORIAN
METHOD:PUBLISH
X-ORIGINAL-URL:https://di2hearts.com
X-WR-CALDESC:Events for Di2hearts
REFRESH-INTERVAL;VALUE=DURATION:PT1H
X-Robots-Tag:noindex
X-PUBLISHED-TTL:PT1H
BEGIN:VTIMEZONE
TZID:America/Vancouver
BEGIN:DAYLIGHT
TZOFFSETFROM:-0800
TZOFFSETTO:-0700
TZNAME:PDT
DTSTART:20260308T100000
END:DAYLIGHT
BEGIN:STANDARD
TZOFFSETFROM:-0700
TZOFFSETTO:-0800
TZNAME:PST
DTSTART:20261101T090000
END:STANDARD
BEGIN:DAYLIGHT
TZOFFSETFROM:-0800
TZOFFSETTO:-0700
TZNAME:PDT
DTSTART:20270314T100000
END:DAYLIGHT
BEGIN:STANDARD
TZOFFSETFROM:-0700
TZOFFSETTO:-0800
TZNAME:PST
DTSTART:20271107T090000
END:STANDARD
BEGIN:DAYLIGHT
TZOFFSETFROM:-0800
TZOFFSETTO:-0700
TZNAME:PDT
DTSTART:20280312T100000
END:DAYLIGHT
BEGIN:STANDARD
TZOFFSETFROM:-0700
TZOFFSETTO:-0800
TZNAME:PST
DTSTART:20281105T090000
END:STANDARD
END:VTIMEZONE
BEGIN:VEVENT
DTSTART;TZID=America/Vancouver:20270704T100000
DTEND;TZID=America/Vancouver:20270704T110000
DTSTAMP:20260422T234403
CREATED:20250708T225415Z
LAST-MODIFIED:20250708T225415Z
UID:10000368-1814695200-1814698800@di2hearts.com
SUMMARY:Tacoma Center YMCA Gentle Yoga Class
DESCRIPTION:
URL:https://di2hearts.com/event/tacoma-center-ymca-gentle-yoga-class/2027-07-04/
END:VEVENT
BEGIN:VEVENT
DTSTART;TZID=America/Vancouver:20270704T111500
DTEND;TZID=America/Vancouver:20270704T121500
DTSTAMP:20260422T234403
CREATED:20250708T225731Z
LAST-MODIFIED:20250709T163055Z
UID:10000628-1814699700-1814703300@di2hearts.com
SUMMARY:Tacoma Center YMCA Yin Yoga Class
DESCRIPTION:
URL:https://di2hearts.com/event/tacoma-center-ymca-yin-yoga-class/2027-07-04/
END:VEVENT
BEGIN:VEVENT
DTSTART;TZID=America/Vancouver:20270705T103000
DTEND;TZID=America/Vancouver:20270705T113000
DTSTAMP:20260422T234403
CREATED:20250618T214701Z
LAST-MODIFIED:20250708T224748Z
UID:10000108-1814783400-1814787000@di2hearts.com
SUMMARY:Lakewood YMCA Gentle Yoga
DESCRIPTION:
URL:https://di2hearts.com/event/gentle-yoga/2027-07-05/
LOCATION:Lakewood YMCA
END:VEVENT
BEGIN:VEVENT
DTSTART;TZID=America/Vancouver:20270706T123000
DTEND;TZID=America/Vancouver:20270706T131500
DTSTAMP:20260422T234403
CREATED:20250709T163741Z
LAST-MODIFIED:20250709T164250Z
UID:10001149-1814877000-1814879700@di2hearts.com
SUMMARY:Pearl St YMCA Chair Yin Yoga Class
DESCRIPTION:
URL:https://di2hearts.com/event/pearl-st-ymca-chair-yin-or-mat-yoga-class/2027-07-06/
END:VEVENT
BEGIN:VEVENT
DTSTART;TZID=America/Vancouver:20270707T093000
DTEND;TZID=America/Vancouver:20270707T103000
DTSTAMP:20260422T234403
CREATED:20260315T234958Z
LAST-MODIFIED:20260315T234958Z
UID:10001874-1814952600-1814956200@di2hearts.com
SUMMARY:Lakewood YMCA Chair Yin Yoga (or on your mat)
DESCRIPTION:
URL:https://di2hearts.com/event/lakewood-ymca-chair-yin-yoga-or-on-your-mat/2027-07-07/
END:VEVENT
BEGIN:VEVENT
DTSTART;TZID=America/Vancouver:20270707T113000
DTEND;TZID=America/Vancouver:20270707T121500
DTSTAMP:20260422T234403
CREATED:20250709T164030Z
LAST-MODIFIED:20250709T164030Z
UID:10001410-1814959800-1814962500@di2hearts.com
SUMMARY:Pearl St. YMCA Chair Yoga Class
DESCRIPTION:
URL:https://di2hearts.com/event/pearl-st-ymca-chair-yoga-class/2027-07-07/
END:VEVENT
BEGIN:VEVENT
DTSTART;TZID=America/Vancouver:20270711T100000
DTEND;TZID=America/Vancouver:20270711T110000
DTSTAMP:20260422T234403
CREATED:20250708T225415Z
LAST-MODIFIED:20250708T225415Z
UID:10000369-1815300000-1815303600@di2hearts.com
SUMMARY:Tacoma Center YMCA Gentle Yoga Class
DESCRIPTION:
URL:https://di2hearts.com/event/tacoma-center-ymca-gentle-yoga-class/2027-07-11/
END:VEVENT
BEGIN:VEVENT
DTSTART;TZID=America/Vancouver:20270711T111500
DTEND;TZID=America/Vancouver:20270711T121500
DTSTAMP:20260422T234403
CREATED:20250708T225731Z
LAST-MODIFIED:20250709T163055Z
UID:10000629-1815304500-1815308100@di2hearts.com
SUMMARY:Tacoma Center YMCA Yin Yoga Class
DESCRIPTION:
URL:https://di2hearts.com/event/tacoma-center-ymca-yin-yoga-class/2027-07-11/
END:VEVENT
BEGIN:VEVENT
DTSTART;TZID=America/Vancouver:20270712T103000
DTEND;TZID=America/Vancouver:20270712T113000
DTSTAMP:20260422T234403
CREATED:20250618T214701Z
LAST-MODIFIED:20250708T224748Z
UID:10000109-1815388200-1815391800@di2hearts.com
SUMMARY:Lakewood YMCA Gentle Yoga
DESCRIPTION:
URL:https://di2hearts.com/event/gentle-yoga/2027-07-12/
LOCATION:Lakewood YMCA
END:VEVENT
BEGIN:VEVENT
DTSTART;TZID=America/Vancouver:20270713T123000
DTEND;TZID=America/Vancouver:20270713T131500
DTSTAMP:20260422T234403
CREATED:20250709T163741Z
LAST-MODIFIED:20250709T164250Z
UID:10001150-1815481800-1815484500@di2hearts.com
SUMMARY:Pearl St YMCA Chair Yin Yoga Class
DESCRIPTION:
URL:https://di2hearts.com/event/pearl-st-ymca-chair-yin-or-mat-yoga-class/2027-07-13/
END:VEVENT
BEGIN:VEVENT
DTSTART;TZID=America/Vancouver:20270714T093000
DTEND;TZID=America/Vancouver:20270714T103000
DTSTAMP:20260422T234403
CREATED:20260315T234958Z
LAST-MODIFIED:20260315T234958Z
UID:10001875-1815557400-1815561000@di2hearts.com
SUMMARY:Lakewood YMCA Chair Yin Yoga (or on your mat)
DESCRIPTION:
URL:https://di2hearts.com/event/lakewood-ymca-chair-yin-yoga-or-on-your-mat/2027-07-14/
END:VEVENT
BEGIN:VEVENT
DTSTART;TZID=America/Vancouver:20270714T113000
DTEND;TZID=America/Vancouver:20270714T121500
DTSTAMP:20260422T234403
CREATED:20250709T164030Z
LAST-MODIFIED:20250709T164030Z
UID:10001411-1815564600-1815567300@di2hearts.com
SUMMARY:Pearl St. YMCA Chair Yoga Class
DESCRIPTION:
URL:https://di2hearts.com/event/pearl-st-ymca-chair-yoga-class/2027-07-14/
END:VEVENT
BEGIN:VEVENT
DTSTART;TZID=America/Vancouver:20270718T100000
DTEND;TZID=America/Vancouver:20270718T110000
DTSTAMP:20260422T234403
CREATED:20250708T225415Z
LAST-MODIFIED:20250708T225415Z
UID:10000370-1815904800-1815908400@di2hearts.com
SUMMARY:Tacoma Center YMCA Gentle Yoga Class
DESCRIPTION:
URL:https://di2hearts.com/event/tacoma-center-ymca-gentle-yoga-class/2027-07-18/
END:VEVENT
BEGIN:VEVENT
DTSTART;TZID=America/Vancouver:20270718T111500
DTEND;TZID=America/Vancouver:20270718T121500
DTSTAMP:20260422T234403
CREATED:20250708T225731Z
LAST-MODIFIED:20250709T163055Z
UID:10000630-1815909300-1815912900@di2hearts.com
SUMMARY:Tacoma Center YMCA Yin Yoga Class
DESCRIPTION:
URL:https://di2hearts.com/event/tacoma-center-ymca-yin-yoga-class/2027-07-18/
END:VEVENT
BEGIN:VEVENT
DTSTART;TZID=America/Vancouver:20270719T103000
DTEND;TZID=America/Vancouver:20270719T113000
DTSTAMP:20260422T234403
CREATED:20250618T214701Z
LAST-MODIFIED:20250708T224748Z
UID:10000110-1815993000-1815996600@di2hearts.com
SUMMARY:Lakewood YMCA Gentle Yoga
DESCRIPTION:
URL:https://di2hearts.com/event/gentle-yoga/2027-07-19/
LOCATION:Lakewood YMCA
END:VEVENT
BEGIN:VEVENT
DTSTART;TZID=America/Vancouver:20270720T123000
DTEND;TZID=America/Vancouver:20270720T131500
DTSTAMP:20260422T234403
CREATED:20250709T163741Z
LAST-MODIFIED:20250709T164250Z
UID:10001151-1816086600-1816089300@di2hearts.com
SUMMARY:Pearl St YMCA Chair Yin Yoga Class
DESCRIPTION:
URL:https://di2hearts.com/event/pearl-st-ymca-chair-yin-or-mat-yoga-class/2027-07-20/
END:VEVENT
BEGIN:VEVENT
DTSTART;TZID=America/Vancouver:20270721T093000
DTEND;TZID=America/Vancouver:20270721T103000
DTSTAMP:20260422T234403
CREATED:20260315T234958Z
LAST-MODIFIED:20260315T234958Z
UID:10001876-1816162200-1816165800@di2hearts.com
SUMMARY:Lakewood YMCA Chair Yin Yoga (or on your mat)
DESCRIPTION:
URL:https://di2hearts.com/event/lakewood-ymca-chair-yin-yoga-or-on-your-mat/2027-07-21/
END:VEVENT
BEGIN:VEVENT
DTSTART;TZID=America/Vancouver:20270721T113000
DTEND;TZID=America/Vancouver:20270721T121500
DTSTAMP:20260422T234403
CREATED:20250709T164030Z
LAST-MODIFIED:20250709T164030Z
UID:10001412-1816169400-1816172100@di2hearts.com
SUMMARY:Pearl St. YMCA Chair Yoga Class
DESCRIPTION:
URL:https://di2hearts.com/event/pearl-st-ymca-chair-yoga-class/2027-07-21/
END:VEVENT
BEGIN:VEVENT
DTSTART;TZID=America/Vancouver:20270725T100000
DTEND;TZID=America/Vancouver:20270725T110000
DTSTAMP:20260422T234403
CREATED:20250708T225415Z
LAST-MODIFIED:20250708T225415Z
UID:10000371-1816509600-1816513200@di2hearts.com
SUMMARY:Tacoma Center YMCA Gentle Yoga Class
DESCRIPTION:
URL:https://di2hearts.com/event/tacoma-center-ymca-gentle-yoga-class/2027-07-25/
END:VEVENT
BEGIN:VEVENT
DTSTART;TZID=America/Vancouver:20270725T111500
DTEND;TZID=America/Vancouver:20270725T121500
DTSTAMP:20260422T234403
CREATED:20250708T225731Z
LAST-MODIFIED:20250709T163055Z
UID:10000631-1816514100-1816517700@di2hearts.com
SUMMARY:Tacoma Center YMCA Yin Yoga Class
DESCRIPTION:
URL:https://di2hearts.com/event/tacoma-center-ymca-yin-yoga-class/2027-07-25/
END:VEVENT
BEGIN:VEVENT
DTSTART;TZID=America/Vancouver:20270726T103000
DTEND;TZID=America/Vancouver:20270726T113000
DTSTAMP:20260422T234403
CREATED:20250618T214701Z
LAST-MODIFIED:20250708T224748Z
UID:10000111-1816597800-1816601400@di2hearts.com
SUMMARY:Lakewood YMCA Gentle Yoga
DESCRIPTION:
URL:https://di2hearts.com/event/gentle-yoga/2027-07-26/
LOCATION:Lakewood YMCA
END:VEVENT
BEGIN:VEVENT
DTSTART;TZID=America/Vancouver:20270727T123000
DTEND;TZID=America/Vancouver:20270727T131500
DTSTAMP:20260422T234403
CREATED:20250709T163741Z
LAST-MODIFIED:20250709T164250Z
UID:10001152-1816691400-1816694100@di2hearts.com
SUMMARY:Pearl St YMCA Chair Yin Yoga Class
DESCRIPTION:
URL:https://di2hearts.com/event/pearl-st-ymca-chair-yin-or-mat-yoga-class/2027-07-27/
END:VEVENT
BEGIN:VEVENT
DTSTART;TZID=America/Vancouver:20270728T093000
DTEND;TZID=America/Vancouver:20270728T103000
DTSTAMP:20260422T234403
CREATED:20260315T234958Z
LAST-MODIFIED:20260315T234958Z
UID:10001877-1816767000-1816770600@di2hearts.com
SUMMARY:Lakewood YMCA Chair Yin Yoga (or on your mat)
DESCRIPTION:
URL:https://di2hearts.com/event/lakewood-ymca-chair-yin-yoga-or-on-your-mat/2027-07-28/
END:VEVENT
BEGIN:VEVENT
DTSTART;TZID=America/Vancouver:20270728T113000
DTEND;TZID=America/Vancouver:20270728T121500
DTSTAMP:20260422T234403
CREATED:20250709T164030Z
LAST-MODIFIED:20250709T164030Z
UID:10001413-1816774200-1816776900@di2hearts.com
SUMMARY:Pearl St. YMCA Chair Yoga Class
DESCRIPTION:
URL:https://di2hearts.com/event/pearl-st-ymca-chair-yoga-class/2027-07-28/
END:VEVENT
END:VCALENDAR