BEGIN:VCALENDAR
VERSION:2.0
PRODID:-//Di2hearts - ECPv6.15.20//NONSGML v1.0//EN
CALSCALE:GREGORIAN
METHOD:PUBLISH
X-WR-CALNAME:Di2hearts
X-ORIGINAL-URL:https://di2hearts.com
X-WR-CALDESC:Events for Di2hearts
REFRESH-INTERVAL;VALUE=DURATION:PT1H
X-Robots-Tag:noindex
X-PUBLISHED-TTL:PT1H
BEGIN:VTIMEZONE
TZID:America/Vancouver
BEGIN:DAYLIGHT
TZOFFSETFROM:-0800
TZOFFSETTO:-0700
TZNAME:PDT
DTSTART:20260308T100000
END:DAYLIGHT
BEGIN:STANDARD
TZOFFSETFROM:-0700
TZOFFSETTO:-0800
TZNAME:PST
DTSTART:20261101T090000
END:STANDARD
BEGIN:DAYLIGHT
TZOFFSETFROM:-0800
TZOFFSETTO:-0700
TZNAME:PDT
DTSTART:20270314T100000
END:DAYLIGHT
BEGIN:STANDARD
TZOFFSETFROM:-0700
TZOFFSETTO:-0800
TZNAME:PST
DTSTART:20271107T090000
END:STANDARD
BEGIN:DAYLIGHT
TZOFFSETFROM:-0800
TZOFFSETTO:-0700
TZNAME:PDT
DTSTART:20280312T100000
END:DAYLIGHT
BEGIN:STANDARD
TZOFFSETFROM:-0700
TZOFFSETTO:-0800
TZNAME:PST
DTSTART:20281105T090000
END:STANDARD
END:VTIMEZONE
BEGIN:VEVENT
DTSTART;TZID=America/Vancouver:20270901T093000
DTEND;TZID=America/Vancouver:20270901T103000
DTSTAMP:20260423T042943
CREATED:20260315T234958Z
LAST-MODIFIED:20260315T234958Z
UID:10001882-1819791000-1819794600@di2hearts.com
SUMMARY:Lakewood YMCA Chair Yin Yoga (or on your mat)
DESCRIPTION:
URL:https://di2hearts.com/event/lakewood-ymca-chair-yin-yoga-or-on-your-mat/2027-09-01/
END:VEVENT
BEGIN:VEVENT
DTSTART;TZID=America/Vancouver:20270901T113000
DTEND;TZID=America/Vancouver:20270901T121500
DTSTAMP:20260423T042943
CREATED:20250709T164030Z
LAST-MODIFIED:20250709T164030Z
UID:10001418-1819798200-1819800900@di2hearts.com
SUMMARY:Pearl St. YMCA Chair Yoga Class
DESCRIPTION:
URL:https://di2hearts.com/event/pearl-st-ymca-chair-yoga-class/2027-09-01/
END:VEVENT
BEGIN:VEVENT
DTSTART;TZID=America/Vancouver:20270905T100000
DTEND;TZID=America/Vancouver:20270905T110000
DTSTAMP:20260423T042943
CREATED:20250708T225415Z
LAST-MODIFIED:20250708T225415Z
UID:10000377-1820138400-1820142000@di2hearts.com
SUMMARY:Tacoma Center YMCA Gentle Yoga Class
DESCRIPTION:
URL:https://di2hearts.com/event/tacoma-center-ymca-gentle-yoga-class/2027-09-05/
END:VEVENT
BEGIN:VEVENT
DTSTART;TZID=America/Vancouver:20270905T111500
DTEND;TZID=America/Vancouver:20270905T121500
DTSTAMP:20260423T042943
CREATED:20250708T225731Z
LAST-MODIFIED:20250709T163055Z
UID:10000637-1820142900-1820146500@di2hearts.com
SUMMARY:Tacoma Center YMCA Yin Yoga Class
DESCRIPTION:
URL:https://di2hearts.com/event/tacoma-center-ymca-yin-yoga-class/2027-09-05/
END:VEVENT
BEGIN:VEVENT
DTSTART;TZID=America/Vancouver:20270906T103000
DTEND;TZID=America/Vancouver:20270906T113000
DTSTAMP:20260423T042943
CREATED:20250618T214701Z
LAST-MODIFIED:20250708T224748Z
UID:10000117-1820226600-1820230200@di2hearts.com
SUMMARY:Lakewood YMCA Gentle Yoga
DESCRIPTION:
URL:https://di2hearts.com/event/gentle-yoga/2027-09-06/
LOCATION:Lakewood YMCA
END:VEVENT
BEGIN:VEVENT
DTSTART;TZID=America/Vancouver:20270907T123000
DTEND;TZID=America/Vancouver:20270907T131500
DTSTAMP:20260423T042943
CREATED:20250709T163741Z
LAST-MODIFIED:20250709T164250Z
UID:10001158-1820320200-1820322900@di2hearts.com
SUMMARY:Pearl St YMCA Chair Yin Yoga Class
DESCRIPTION:
URL:https://di2hearts.com/event/pearl-st-ymca-chair-yin-or-mat-yoga-class/2027-09-07/
END:VEVENT
BEGIN:VEVENT
DTSTART;TZID=America/Vancouver:20270908T093000
DTEND;TZID=America/Vancouver:20270908T103000
DTSTAMP:20260423T042943
CREATED:20260315T234958Z
LAST-MODIFIED:20260315T234958Z
UID:10001883-1820395800-1820399400@di2hearts.com
SUMMARY:Lakewood YMCA Chair Yin Yoga (or on your mat)
DESCRIPTION:
URL:https://di2hearts.com/event/lakewood-ymca-chair-yin-yoga-or-on-your-mat/2027-09-08/
END:VEVENT
BEGIN:VEVENT
DTSTART;TZID=America/Vancouver:20270908T113000
DTEND;TZID=America/Vancouver:20270908T121500
DTSTAMP:20260423T042943
CREATED:20250709T164030Z
LAST-MODIFIED:20250709T164030Z
UID:10001419-1820403000-1820405700@di2hearts.com
SUMMARY:Pearl St. YMCA Chair Yoga Class
DESCRIPTION:
URL:https://di2hearts.com/event/pearl-st-ymca-chair-yoga-class/2027-09-08/
END:VEVENT
BEGIN:VEVENT
DTSTART;TZID=America/Vancouver:20270912T100000
DTEND;TZID=America/Vancouver:20270912T110000
DTSTAMP:20260423T042943
CREATED:20250708T225415Z
LAST-MODIFIED:20250708T225415Z
UID:10000378-1820743200-1820746800@di2hearts.com
SUMMARY:Tacoma Center YMCA Gentle Yoga Class
DESCRIPTION:
URL:https://di2hearts.com/event/tacoma-center-ymca-gentle-yoga-class/2027-09-12/
END:VEVENT
BEGIN:VEVENT
DTSTART;TZID=America/Vancouver:20270912T111500
DTEND;TZID=America/Vancouver:20270912T121500
DTSTAMP:20260423T042943
CREATED:20250708T225731Z
LAST-MODIFIED:20250709T163055Z
UID:10000638-1820747700-1820751300@di2hearts.com
SUMMARY:Tacoma Center YMCA Yin Yoga Class
DESCRIPTION:
URL:https://di2hearts.com/event/tacoma-center-ymca-yin-yoga-class/2027-09-12/
END:VEVENT
BEGIN:VEVENT
DTSTART;TZID=America/Vancouver:20270913T103000
DTEND;TZID=America/Vancouver:20270913T113000
DTSTAMP:20260423T042943
CREATED:20250618T214701Z
LAST-MODIFIED:20250708T224748Z
UID:10000118-1820831400-1820835000@di2hearts.com
SUMMARY:Lakewood YMCA Gentle Yoga
DESCRIPTION:
URL:https://di2hearts.com/event/gentle-yoga/2027-09-13/
LOCATION:Lakewood YMCA
END:VEVENT
BEGIN:VEVENT
DTSTART;TZID=America/Vancouver:20270914T123000
DTEND;TZID=America/Vancouver:20270914T131500
DTSTAMP:20260423T042943
CREATED:20250709T163741Z
LAST-MODIFIED:20250709T164250Z
UID:10001159-1820925000-1820927700@di2hearts.com
SUMMARY:Pearl St YMCA Chair Yin Yoga Class
DESCRIPTION:
URL:https://di2hearts.com/event/pearl-st-ymca-chair-yin-or-mat-yoga-class/2027-09-14/
END:VEVENT
BEGIN:VEVENT
DTSTART;TZID=America/Vancouver:20270915T093000
DTEND;TZID=America/Vancouver:20270915T103000
DTSTAMP:20260423T042943
CREATED:20260315T234958Z
LAST-MODIFIED:20260315T234958Z
UID:10001884-1821000600-1821004200@di2hearts.com
SUMMARY:Lakewood YMCA Chair Yin Yoga (or on your mat)
DESCRIPTION:
URL:https://di2hearts.com/event/lakewood-ymca-chair-yin-yoga-or-on-your-mat/2027-09-15/
END:VEVENT
BEGIN:VEVENT
DTSTART;TZID=America/Vancouver:20270915T113000
DTEND;TZID=America/Vancouver:20270915T121500
DTSTAMP:20260423T042944
CREATED:20250709T164030Z
LAST-MODIFIED:20250709T164030Z
UID:10001420-1821007800-1821010500@di2hearts.com
SUMMARY:Pearl St. YMCA Chair Yoga Class
DESCRIPTION:
URL:https://di2hearts.com/event/pearl-st-ymca-chair-yoga-class/2027-09-15/
END:VEVENT
BEGIN:VEVENT
DTSTART;TZID=America/Vancouver:20270919T100000
DTEND;TZID=America/Vancouver:20270919T110000
DTSTAMP:20260423T042944
CREATED:20250708T225415Z
LAST-MODIFIED:20250708T225415Z
UID:10000379-1821348000-1821351600@di2hearts.com
SUMMARY:Tacoma Center YMCA Gentle Yoga Class
DESCRIPTION:
URL:https://di2hearts.com/event/tacoma-center-ymca-gentle-yoga-class/2027-09-19/
END:VEVENT
BEGIN:VEVENT
DTSTART;TZID=America/Vancouver:20270919T111500
DTEND;TZID=America/Vancouver:20270919T121500
DTSTAMP:20260423T042944
CREATED:20250708T225731Z
LAST-MODIFIED:20250709T163055Z
UID:10000639-1821352500-1821356100@di2hearts.com
SUMMARY:Tacoma Center YMCA Yin Yoga Class
DESCRIPTION:
URL:https://di2hearts.com/event/tacoma-center-ymca-yin-yoga-class/2027-09-19/
END:VEVENT
BEGIN:VEVENT
DTSTART;TZID=America/Vancouver:20270920T103000
DTEND;TZID=America/Vancouver:20270920T113000
DTSTAMP:20260423T042944
CREATED:20250618T214701Z
LAST-MODIFIED:20250708T224748Z
UID:10000119-1821436200-1821439800@di2hearts.com
SUMMARY:Lakewood YMCA Gentle Yoga
DESCRIPTION:
URL:https://di2hearts.com/event/gentle-yoga/2027-09-20/
LOCATION:Lakewood YMCA
END:VEVENT
BEGIN:VEVENT
DTSTART;TZID=America/Vancouver:20270921T123000
DTEND;TZID=America/Vancouver:20270921T131500
DTSTAMP:20260423T042944
CREATED:20250709T163741Z
LAST-MODIFIED:20250709T164250Z
UID:10001160-1821529800-1821532500@di2hearts.com
SUMMARY:Pearl St YMCA Chair Yin Yoga Class
DESCRIPTION:
URL:https://di2hearts.com/event/pearl-st-ymca-chair-yin-or-mat-yoga-class/2027-09-21/
END:VEVENT
BEGIN:VEVENT
DTSTART;TZID=America/Vancouver:20270922T093000
DTEND;TZID=America/Vancouver:20270922T103000
DTSTAMP:20260423T042944
CREATED:20260315T234958Z
LAST-MODIFIED:20260315T234958Z
UID:10001885-1821605400-1821609000@di2hearts.com
SUMMARY:Lakewood YMCA Chair Yin Yoga (or on your mat)
DESCRIPTION:
URL:https://di2hearts.com/event/lakewood-ymca-chair-yin-yoga-or-on-your-mat/2027-09-22/
END:VEVENT
BEGIN:VEVENT
DTSTART;TZID=America/Vancouver:20270922T113000
DTEND;TZID=America/Vancouver:20270922T121500
DTSTAMP:20260423T042944
CREATED:20250709T164030Z
LAST-MODIFIED:20250709T164030Z
UID:10001421-1821612600-1821615300@di2hearts.com
SUMMARY:Pearl St. YMCA Chair Yoga Class
DESCRIPTION:
URL:https://di2hearts.com/event/pearl-st-ymca-chair-yoga-class/2027-09-22/
END:VEVENT
BEGIN:VEVENT
DTSTART;TZID=America/Vancouver:20270926T100000
DTEND;TZID=America/Vancouver:20270926T110000
DTSTAMP:20260423T042944
CREATED:20250708T225415Z
LAST-MODIFIED:20250708T225415Z
UID:10000380-1821952800-1821956400@di2hearts.com
SUMMARY:Tacoma Center YMCA Gentle Yoga Class
DESCRIPTION:
URL:https://di2hearts.com/event/tacoma-center-ymca-gentle-yoga-class/2027-09-26/
END:VEVENT
BEGIN:VEVENT
DTSTART;TZID=America/Vancouver:20270926T111500
DTEND;TZID=America/Vancouver:20270926T121500
DTSTAMP:20260423T042944
CREATED:20250708T225731Z
LAST-MODIFIED:20250709T163055Z
UID:10000640-1821957300-1821960900@di2hearts.com
SUMMARY:Tacoma Center YMCA Yin Yoga Class
DESCRIPTION:
URL:https://di2hearts.com/event/tacoma-center-ymca-yin-yoga-class/2027-09-26/
END:VEVENT
BEGIN:VEVENT
DTSTART;TZID=America/Vancouver:20270927T103000
DTEND;TZID=America/Vancouver:20270927T113000
DTSTAMP:20260423T042944
CREATED:20250618T214701Z
LAST-MODIFIED:20250708T224748Z
UID:10000120-1822041000-1822044600@di2hearts.com
SUMMARY:Lakewood YMCA Gentle Yoga
DESCRIPTION:
URL:https://di2hearts.com/event/gentle-yoga/2027-09-27/
LOCATION:Lakewood YMCA
END:VEVENT
BEGIN:VEVENT
DTSTART;TZID=America/Vancouver:20270928T123000
DTEND;TZID=America/Vancouver:20270928T131500
DTSTAMP:20260423T042944
CREATED:20250709T163741Z
LAST-MODIFIED:20250709T164250Z
UID:10001161-1822134600-1822137300@di2hearts.com
SUMMARY:Pearl St YMCA Chair Yin Yoga Class
DESCRIPTION:
URL:https://di2hearts.com/event/pearl-st-ymca-chair-yin-or-mat-yoga-class/2027-09-28/
END:VEVENT
BEGIN:VEVENT
DTSTART;TZID=America/Vancouver:20270929T093000
DTEND;TZID=America/Vancouver:20270929T103000
DTSTAMP:20260423T042944
CREATED:20260315T234958Z
LAST-MODIFIED:20260315T234958Z
UID:10001886-1822210200-1822213800@di2hearts.com
SUMMARY:Lakewood YMCA Chair Yin Yoga (or on your mat)
DESCRIPTION:
URL:https://di2hearts.com/event/lakewood-ymca-chair-yin-yoga-or-on-your-mat/2027-09-29/
END:VEVENT
BEGIN:VEVENT
DTSTART;TZID=America/Vancouver:20270929T113000
DTEND;TZID=America/Vancouver:20270929T121500
DTSTAMP:20260423T042944
CREATED:20250709T164030Z
LAST-MODIFIED:20250709T164030Z
UID:10001422-1822217400-1822220100@di2hearts.com
SUMMARY:Pearl St. YMCA Chair Yoga Class
DESCRIPTION:
URL:https://di2hearts.com/event/pearl-st-ymca-chair-yoga-class/2027-09-29/
END:VEVENT
END:VCALENDAR