BEGIN:VCALENDAR
VERSION:2.0
PRODID:-//Di2hearts - ECPv6.15.20//NONSGML v1.0//EN
CALSCALE:GREGORIAN
METHOD:PUBLISH
X-WR-CALNAME:Di2hearts
X-ORIGINAL-URL:https://di2hearts.com
X-WR-CALDESC:Events for Di2hearts
REFRESH-INTERVAL;VALUE=DURATION:PT1H
X-Robots-Tag:noindex
X-PUBLISHED-TTL:PT1H
BEGIN:VTIMEZONE
TZID:America/Vancouver
BEGIN:DAYLIGHT
TZOFFSETFROM:-0800
TZOFFSETTO:-0700
TZNAME:PDT
DTSTART:20260308T100000
END:DAYLIGHT
BEGIN:STANDARD
TZOFFSETFROM:-0700
TZOFFSETTO:-0800
TZNAME:PST
DTSTART:20261101T090000
END:STANDARD
BEGIN:DAYLIGHT
TZOFFSETFROM:-0800
TZOFFSETTO:-0700
TZNAME:PDT
DTSTART:20270314T100000
END:DAYLIGHT
BEGIN:STANDARD
TZOFFSETFROM:-0700
TZOFFSETTO:-0800
TZNAME:PST
DTSTART:20271107T090000
END:STANDARD
BEGIN:DAYLIGHT
TZOFFSETFROM:-0800
TZOFFSETTO:-0700
TZNAME:PDT
DTSTART:20280312T100000
END:DAYLIGHT
BEGIN:STANDARD
TZOFFSETFROM:-0700
TZOFFSETTO:-0800
TZNAME:PST
DTSTART:20281105T090000
END:STANDARD
END:VTIMEZONE
BEGIN:VEVENT
DTSTART;TZID=America/Vancouver:20271003T100000
DTEND;TZID=America/Vancouver:20271003T110000
DTSTAMP:20260423T060247
CREATED:20250708T225415Z
LAST-MODIFIED:20250708T225415Z
UID:10000381-1822557600-1822561200@di2hearts.com
SUMMARY:Tacoma Center YMCA Gentle Yoga Class
DESCRIPTION:
URL:https://di2hearts.com/event/tacoma-center-ymca-gentle-yoga-class/2027-10-03/
END:VEVENT
BEGIN:VEVENT
DTSTART;TZID=America/Vancouver:20271003T111500
DTEND;TZID=America/Vancouver:20271003T121500
DTSTAMP:20260423T060247
CREATED:20250708T225731Z
LAST-MODIFIED:20250709T163055Z
UID:10000641-1822562100-1822565700@di2hearts.com
SUMMARY:Tacoma Center YMCA Yin Yoga Class
DESCRIPTION:
URL:https://di2hearts.com/event/tacoma-center-ymca-yin-yoga-class/2027-10-03/
END:VEVENT
BEGIN:VEVENT
DTSTART;TZID=America/Vancouver:20271004T103000
DTEND;TZID=America/Vancouver:20271004T113000
DTSTAMP:20260423T060247
CREATED:20250618T214701Z
LAST-MODIFIED:20250708T224748Z
UID:10000121-1822645800-1822649400@di2hearts.com
SUMMARY:Lakewood YMCA Gentle Yoga
DESCRIPTION:
URL:https://di2hearts.com/event/gentle-yoga/2027-10-04/
LOCATION:Lakewood YMCA
END:VEVENT
BEGIN:VEVENT
DTSTART;TZID=America/Vancouver:20271005T123000
DTEND;TZID=America/Vancouver:20271005T131500
DTSTAMP:20260423T060247
CREATED:20250709T163741Z
LAST-MODIFIED:20250709T164250Z
UID:10001162-1822739400-1822742100@di2hearts.com
SUMMARY:Pearl St YMCA Chair Yin Yoga Class
DESCRIPTION:
URL:https://di2hearts.com/event/pearl-st-ymca-chair-yin-or-mat-yoga-class/2027-10-05/
END:VEVENT
BEGIN:VEVENT
DTSTART;TZID=America/Vancouver:20271006T093000
DTEND;TZID=America/Vancouver:20271006T103000
DTSTAMP:20260423T060247
CREATED:20260315T234958Z
LAST-MODIFIED:20260315T234958Z
UID:10001887-1822815000-1822818600@di2hearts.com
SUMMARY:Lakewood YMCA Chair Yin Yoga (or on your mat)
DESCRIPTION:
URL:https://di2hearts.com/event/lakewood-ymca-chair-yin-yoga-or-on-your-mat/2027-10-06/
END:VEVENT
BEGIN:VEVENT
DTSTART;TZID=America/Vancouver:20271006T113000
DTEND;TZID=America/Vancouver:20271006T121500
DTSTAMP:20260423T060247
CREATED:20250709T164030Z
LAST-MODIFIED:20250709T164030Z
UID:10001423-1822822200-1822824900@di2hearts.com
SUMMARY:Pearl St. YMCA Chair Yoga Class
DESCRIPTION:
URL:https://di2hearts.com/event/pearl-st-ymca-chair-yoga-class/2027-10-06/
END:VEVENT
BEGIN:VEVENT
DTSTART;TZID=America/Vancouver:20271010T100000
DTEND;TZID=America/Vancouver:20271010T110000
DTSTAMP:20260423T060247
CREATED:20250708T225415Z
LAST-MODIFIED:20250708T225415Z
UID:10000382-1823162400-1823166000@di2hearts.com
SUMMARY:Tacoma Center YMCA Gentle Yoga Class
DESCRIPTION:
URL:https://di2hearts.com/event/tacoma-center-ymca-gentle-yoga-class/2027-10-10/
END:VEVENT
BEGIN:VEVENT
DTSTART;TZID=America/Vancouver:20271010T111500
DTEND;TZID=America/Vancouver:20271010T121500
DTSTAMP:20260423T060247
CREATED:20250708T225731Z
LAST-MODIFIED:20250709T163055Z
UID:10000642-1823166900-1823170500@di2hearts.com
SUMMARY:Tacoma Center YMCA Yin Yoga Class
DESCRIPTION:
URL:https://di2hearts.com/event/tacoma-center-ymca-yin-yoga-class/2027-10-10/
END:VEVENT
BEGIN:VEVENT
DTSTART;TZID=America/Vancouver:20271011T103000
DTEND;TZID=America/Vancouver:20271011T113000
DTSTAMP:20260423T060247
CREATED:20250618T214701Z
LAST-MODIFIED:20250708T224748Z
UID:10000122-1823250600-1823254200@di2hearts.com
SUMMARY:Lakewood YMCA Gentle Yoga
DESCRIPTION:
URL:https://di2hearts.com/event/gentle-yoga/2027-10-11/
LOCATION:Lakewood YMCA
END:VEVENT
BEGIN:VEVENT
DTSTART;TZID=America/Vancouver:20271012T123000
DTEND;TZID=America/Vancouver:20271012T131500
DTSTAMP:20260423T060247
CREATED:20250709T163741Z
LAST-MODIFIED:20250709T164250Z
UID:10001163-1823344200-1823346900@di2hearts.com
SUMMARY:Pearl St YMCA Chair Yin Yoga Class
DESCRIPTION:
URL:https://di2hearts.com/event/pearl-st-ymca-chair-yin-or-mat-yoga-class/2027-10-12/
END:VEVENT
BEGIN:VEVENT
DTSTART;TZID=America/Vancouver:20271013T093000
DTEND;TZID=America/Vancouver:20271013T103000
DTSTAMP:20260423T060247
CREATED:20260315T234958Z
LAST-MODIFIED:20260315T234958Z
UID:10001888-1823419800-1823423400@di2hearts.com
SUMMARY:Lakewood YMCA Chair Yin Yoga (or on your mat)
DESCRIPTION:
URL:https://di2hearts.com/event/lakewood-ymca-chair-yin-yoga-or-on-your-mat/2027-10-13/
END:VEVENT
BEGIN:VEVENT
DTSTART;TZID=America/Vancouver:20271013T113000
DTEND;TZID=America/Vancouver:20271013T121500
DTSTAMP:20260423T060247
CREATED:20250709T164030Z
LAST-MODIFIED:20250709T164030Z
UID:10001424-1823427000-1823429700@di2hearts.com
SUMMARY:Pearl St. YMCA Chair Yoga Class
DESCRIPTION:
URL:https://di2hearts.com/event/pearl-st-ymca-chair-yoga-class/2027-10-13/
END:VEVENT
BEGIN:VEVENT
DTSTART;TZID=America/Vancouver:20271017T100000
DTEND;TZID=America/Vancouver:20271017T110000
DTSTAMP:20260423T060247
CREATED:20250708T225415Z
LAST-MODIFIED:20250708T225415Z
UID:10000383-1823767200-1823770800@di2hearts.com
SUMMARY:Tacoma Center YMCA Gentle Yoga Class
DESCRIPTION:
URL:https://di2hearts.com/event/tacoma-center-ymca-gentle-yoga-class/2027-10-17/
END:VEVENT
BEGIN:VEVENT
DTSTART;TZID=America/Vancouver:20271017T111500
DTEND;TZID=America/Vancouver:20271017T121500
DTSTAMP:20260423T060247
CREATED:20250708T225731Z
LAST-MODIFIED:20250709T163055Z
UID:10000643-1823771700-1823775300@di2hearts.com
SUMMARY:Tacoma Center YMCA Yin Yoga Class
DESCRIPTION:
URL:https://di2hearts.com/event/tacoma-center-ymca-yin-yoga-class/2027-10-17/
END:VEVENT
BEGIN:VEVENT
DTSTART;TZID=America/Vancouver:20271018T103000
DTEND;TZID=America/Vancouver:20271018T113000
DTSTAMP:20260423T060247
CREATED:20250618T214701Z
LAST-MODIFIED:20250708T224748Z
UID:10000123-1823855400-1823859000@di2hearts.com
SUMMARY:Lakewood YMCA Gentle Yoga
DESCRIPTION:
URL:https://di2hearts.com/event/gentle-yoga/2027-10-18/
LOCATION:Lakewood YMCA
END:VEVENT
BEGIN:VEVENT
DTSTART;TZID=America/Vancouver:20271019T123000
DTEND;TZID=America/Vancouver:20271019T131500
DTSTAMP:20260423T060247
CREATED:20250709T163741Z
LAST-MODIFIED:20250709T164250Z
UID:10001164-1823949000-1823951700@di2hearts.com
SUMMARY:Pearl St YMCA Chair Yin Yoga Class
DESCRIPTION:
URL:https://di2hearts.com/event/pearl-st-ymca-chair-yin-or-mat-yoga-class/2027-10-19/
END:VEVENT
BEGIN:VEVENT
DTSTART;TZID=America/Vancouver:20271020T093000
DTEND;TZID=America/Vancouver:20271020T103000
DTSTAMP:20260423T060247
CREATED:20260315T234958Z
LAST-MODIFIED:20260315T234958Z
UID:10001889-1824024600-1824028200@di2hearts.com
SUMMARY:Lakewood YMCA Chair Yin Yoga (or on your mat)
DESCRIPTION:
URL:https://di2hearts.com/event/lakewood-ymca-chair-yin-yoga-or-on-your-mat/2027-10-20/
END:VEVENT
BEGIN:VEVENT
DTSTART;TZID=America/Vancouver:20271020T113000
DTEND;TZID=America/Vancouver:20271020T121500
DTSTAMP:20260423T060247
CREATED:20250709T164030Z
LAST-MODIFIED:20250709T164030Z
UID:10001425-1824031800-1824034500@di2hearts.com
SUMMARY:Pearl St. YMCA Chair Yoga Class
DESCRIPTION:
URL:https://di2hearts.com/event/pearl-st-ymca-chair-yoga-class/2027-10-20/
END:VEVENT
BEGIN:VEVENT
DTSTART;TZID=America/Vancouver:20271024T100000
DTEND;TZID=America/Vancouver:20271024T110000
DTSTAMP:20260423T060247
CREATED:20250708T225415Z
LAST-MODIFIED:20250708T225415Z
UID:10000384-1824372000-1824375600@di2hearts.com
SUMMARY:Tacoma Center YMCA Gentle Yoga Class
DESCRIPTION:
URL:https://di2hearts.com/event/tacoma-center-ymca-gentle-yoga-class/2027-10-24/
END:VEVENT
BEGIN:VEVENT
DTSTART;TZID=America/Vancouver:20271024T111500
DTEND;TZID=America/Vancouver:20271024T121500
DTSTAMP:20260423T060247
CREATED:20250708T225731Z
LAST-MODIFIED:20250709T163055Z
UID:10000644-1824376500-1824380100@di2hearts.com
SUMMARY:Tacoma Center YMCA Yin Yoga Class
DESCRIPTION:
URL:https://di2hearts.com/event/tacoma-center-ymca-yin-yoga-class/2027-10-24/
END:VEVENT
BEGIN:VEVENT
DTSTART;TZID=America/Vancouver:20271025T103000
DTEND;TZID=America/Vancouver:20271025T113000
DTSTAMP:20260423T060247
CREATED:20250618T214701Z
LAST-MODIFIED:20250708T224748Z
UID:10000124-1824460200-1824463800@di2hearts.com
SUMMARY:Lakewood YMCA Gentle Yoga
DESCRIPTION:
URL:https://di2hearts.com/event/gentle-yoga/2027-10-25/
LOCATION:Lakewood YMCA
END:VEVENT
BEGIN:VEVENT
DTSTART;TZID=America/Vancouver:20271026T123000
DTEND;TZID=America/Vancouver:20271026T131500
DTSTAMP:20260423T060247
CREATED:20250709T163741Z
LAST-MODIFIED:20250709T164250Z
UID:10001165-1824553800-1824556500@di2hearts.com
SUMMARY:Pearl St YMCA Chair Yin Yoga Class
DESCRIPTION:
URL:https://di2hearts.com/event/pearl-st-ymca-chair-yin-or-mat-yoga-class/2027-10-26/
END:VEVENT
BEGIN:VEVENT
DTSTART;TZID=America/Vancouver:20271027T093000
DTEND;TZID=America/Vancouver:20271027T103000
DTSTAMP:20260423T060247
CREATED:20260315T234958Z
LAST-MODIFIED:20260315T234958Z
UID:10001890-1824629400-1824633000@di2hearts.com
SUMMARY:Lakewood YMCA Chair Yin Yoga (or on your mat)
DESCRIPTION:
URL:https://di2hearts.com/event/lakewood-ymca-chair-yin-yoga-or-on-your-mat/2027-10-27/
END:VEVENT
BEGIN:VEVENT
DTSTART;TZID=America/Vancouver:20271027T113000
DTEND;TZID=America/Vancouver:20271027T121500
DTSTAMP:20260423T060247
CREATED:20250709T164030Z
LAST-MODIFIED:20250709T164030Z
UID:10001426-1824636600-1824639300@di2hearts.com
SUMMARY:Pearl St. YMCA Chair Yoga Class
DESCRIPTION:
URL:https://di2hearts.com/event/pearl-st-ymca-chair-yoga-class/2027-10-27/
END:VEVENT
BEGIN:VEVENT
DTSTART;TZID=America/Vancouver:20271031T100000
DTEND;TZID=America/Vancouver:20271031T110000
DTSTAMP:20260423T060247
CREATED:20250708T225415Z
LAST-MODIFIED:20250708T225415Z
UID:10000385-1824976800-1824980400@di2hearts.com
SUMMARY:Tacoma Center YMCA Gentle Yoga Class
DESCRIPTION:
URL:https://di2hearts.com/event/tacoma-center-ymca-gentle-yoga-class/2027-10-31/
END:VEVENT
BEGIN:VEVENT
DTSTART;TZID=America/Vancouver:20271031T111500
DTEND;TZID=America/Vancouver:20271031T121500
DTSTAMP:20260423T060247
CREATED:20250708T225731Z
LAST-MODIFIED:20250709T163055Z
UID:10000645-1824981300-1824984900@di2hearts.com
SUMMARY:Tacoma Center YMCA Yin Yoga Class
DESCRIPTION:
URL:https://di2hearts.com/event/tacoma-center-ymca-yin-yoga-class/2027-10-31/
END:VEVENT
END:VCALENDAR