BEGIN:VCALENDAR
VERSION:2.0
PRODID:-//Di2hearts - ECPv6.15.20//NONSGML v1.0//EN
CALSCALE:GREGORIAN
METHOD:PUBLISH
X-ORIGINAL-URL:https://di2hearts.com
X-WR-CALDESC:Events for Di2hearts
REFRESH-INTERVAL;VALUE=DURATION:PT1H
X-Robots-Tag:noindex
X-PUBLISHED-TTL:PT1H
BEGIN:VTIMEZONE
TZID:America/Vancouver
BEGIN:DAYLIGHT
TZOFFSETFROM:-0800
TZOFFSETTO:-0700
TZNAME:PDT
DTSTART:20260308T100000
END:DAYLIGHT
BEGIN:STANDARD
TZOFFSETFROM:-0700
TZOFFSETTO:-0800
TZNAME:PST
DTSTART:20261101T090000
END:STANDARD
BEGIN:DAYLIGHT
TZOFFSETFROM:-0800
TZOFFSETTO:-0700
TZNAME:PDT
DTSTART:20270314T100000
END:DAYLIGHT
BEGIN:STANDARD
TZOFFSETFROM:-0700
TZOFFSETTO:-0800
TZNAME:PST
DTSTART:20271107T090000
END:STANDARD
BEGIN:DAYLIGHT
TZOFFSETFROM:-0800
TZOFFSETTO:-0700
TZNAME:PDT
DTSTART:20280312T100000
END:DAYLIGHT
BEGIN:STANDARD
TZOFFSETFROM:-0700
TZOFFSETTO:-0800
TZNAME:PST
DTSTART:20281105T090000
END:STANDARD
END:VTIMEZONE
BEGIN:VEVENT
DTSTART;TZID=America/Vancouver:20271101T103000
DTEND;TZID=America/Vancouver:20271101T113000
DTSTAMP:20260423T075016
CREATED:20250618T214701Z
LAST-MODIFIED:20250708T224748Z
UID:10000125-1825065000-1825068600@di2hearts.com
SUMMARY:Lakewood YMCA Gentle Yoga
DESCRIPTION:
URL:https://di2hearts.com/event/gentle-yoga/2027-11-01/
LOCATION:Lakewood YMCA
END:VEVENT
BEGIN:VEVENT
DTSTART;TZID=America/Vancouver:20271102T123000
DTEND;TZID=America/Vancouver:20271102T131500
DTSTAMP:20260423T075016
CREATED:20250709T163741Z
LAST-MODIFIED:20250709T164250Z
UID:10001166-1825158600-1825161300@di2hearts.com
SUMMARY:Pearl St YMCA Chair Yin Yoga Class
DESCRIPTION:
URL:https://di2hearts.com/event/pearl-st-ymca-chair-yin-or-mat-yoga-class/2027-11-02/
END:VEVENT
BEGIN:VEVENT
DTSTART;TZID=America/Vancouver:20271103T093000
DTEND;TZID=America/Vancouver:20271103T103000
DTSTAMP:20260423T075016
CREATED:20260315T234958Z
LAST-MODIFIED:20260315T234958Z
UID:10001891-1825234200-1825237800@di2hearts.com
SUMMARY:Lakewood YMCA Chair Yin Yoga (or on your mat)
DESCRIPTION:
URL:https://di2hearts.com/event/lakewood-ymca-chair-yin-yoga-or-on-your-mat/2027-11-03/
END:VEVENT
BEGIN:VEVENT
DTSTART;TZID=America/Vancouver:20271103T113000
DTEND;TZID=America/Vancouver:20271103T121500
DTSTAMP:20260423T075016
CREATED:20250709T164030Z
LAST-MODIFIED:20250709T164030Z
UID:10001427-1825241400-1825244100@di2hearts.com
SUMMARY:Pearl St. YMCA Chair Yoga Class
DESCRIPTION:
URL:https://di2hearts.com/event/pearl-st-ymca-chair-yoga-class/2027-11-03/
END:VEVENT
BEGIN:VEVENT
DTSTART;TZID=America/Vancouver:20271107T100000
DTEND;TZID=America/Vancouver:20271107T110000
DTSTAMP:20260423T075016
CREATED:20250708T225415Z
LAST-MODIFIED:20250708T225415Z
UID:10000386-1825581600-1825585200@di2hearts.com
SUMMARY:Tacoma Center YMCA Gentle Yoga Class
DESCRIPTION:
URL:https://di2hearts.com/event/tacoma-center-ymca-gentle-yoga-class/2027-11-07/
END:VEVENT
BEGIN:VEVENT
DTSTART;TZID=America/Vancouver:20271107T111500
DTEND;TZID=America/Vancouver:20271107T121500
DTSTAMP:20260423T075016
CREATED:20250708T225731Z
LAST-MODIFIED:20250709T163055Z
UID:10000646-1825586100-1825589700@di2hearts.com
SUMMARY:Tacoma Center YMCA Yin Yoga Class
DESCRIPTION:
URL:https://di2hearts.com/event/tacoma-center-ymca-yin-yoga-class/2027-11-07/
END:VEVENT
BEGIN:VEVENT
DTSTART;TZID=America/Vancouver:20271108T103000
DTEND;TZID=America/Vancouver:20271108T113000
DTSTAMP:20260423T075016
CREATED:20250618T214701Z
LAST-MODIFIED:20250708T224748Z
UID:10000126-1825669800-1825673400@di2hearts.com
SUMMARY:Lakewood YMCA Gentle Yoga
DESCRIPTION:
URL:https://di2hearts.com/event/gentle-yoga/2027-11-08/
LOCATION:Lakewood YMCA
END:VEVENT
BEGIN:VEVENT
DTSTART;TZID=America/Vancouver:20271109T123000
DTEND;TZID=America/Vancouver:20271109T131500
DTSTAMP:20260423T075016
CREATED:20250709T163741Z
LAST-MODIFIED:20250709T164250Z
UID:10001167-1825763400-1825766100@di2hearts.com
SUMMARY:Pearl St YMCA Chair Yin Yoga Class
DESCRIPTION:
URL:https://di2hearts.com/event/pearl-st-ymca-chair-yin-or-mat-yoga-class/2027-11-09/
END:VEVENT
BEGIN:VEVENT
DTSTART;TZID=America/Vancouver:20271110T093000
DTEND;TZID=America/Vancouver:20271110T103000
DTSTAMP:20260423T075016
CREATED:20260315T234958Z
LAST-MODIFIED:20260315T234958Z
UID:10001892-1825839000-1825842600@di2hearts.com
SUMMARY:Lakewood YMCA Chair Yin Yoga (or on your mat)
DESCRIPTION:
URL:https://di2hearts.com/event/lakewood-ymca-chair-yin-yoga-or-on-your-mat/2027-11-10/
END:VEVENT
BEGIN:VEVENT
DTSTART;TZID=America/Vancouver:20271110T113000
DTEND;TZID=America/Vancouver:20271110T121500
DTSTAMP:20260423T075016
CREATED:20250709T164030Z
LAST-MODIFIED:20250709T164030Z
UID:10001428-1825846200-1825848900@di2hearts.com
SUMMARY:Pearl St. YMCA Chair Yoga Class
DESCRIPTION:
URL:https://di2hearts.com/event/pearl-st-ymca-chair-yoga-class/2027-11-10/
END:VEVENT
BEGIN:VEVENT
DTSTART;TZID=America/Vancouver:20271114T100000
DTEND;TZID=America/Vancouver:20271114T110000
DTSTAMP:20260423T075016
CREATED:20250708T225415Z
LAST-MODIFIED:20250708T225415Z
UID:10000387-1826186400-1826190000@di2hearts.com
SUMMARY:Tacoma Center YMCA Gentle Yoga Class
DESCRIPTION:
URL:https://di2hearts.com/event/tacoma-center-ymca-gentle-yoga-class/2027-11-14/
END:VEVENT
BEGIN:VEVENT
DTSTART;TZID=America/Vancouver:20271114T111500
DTEND;TZID=America/Vancouver:20271114T121500
DTSTAMP:20260423T075016
CREATED:20250708T225731Z
LAST-MODIFIED:20250709T163055Z
UID:10000647-1826190900-1826194500@di2hearts.com
SUMMARY:Tacoma Center YMCA Yin Yoga Class
DESCRIPTION:
URL:https://di2hearts.com/event/tacoma-center-ymca-yin-yoga-class/2027-11-14/
END:VEVENT
BEGIN:VEVENT
DTSTART;TZID=America/Vancouver:20271115T103000
DTEND;TZID=America/Vancouver:20271115T113000
DTSTAMP:20260423T075016
CREATED:20250618T214701Z
LAST-MODIFIED:20250708T224748Z
UID:10000127-1826274600-1826278200@di2hearts.com
SUMMARY:Lakewood YMCA Gentle Yoga
DESCRIPTION:
URL:https://di2hearts.com/event/gentle-yoga/2027-11-15/
LOCATION:Lakewood YMCA
END:VEVENT
BEGIN:VEVENT
DTSTART;TZID=America/Vancouver:20271116T123000
DTEND;TZID=America/Vancouver:20271116T131500
DTSTAMP:20260423T075016
CREATED:20250709T163741Z
LAST-MODIFIED:20250709T164250Z
UID:10001168-1826368200-1826370900@di2hearts.com
SUMMARY:Pearl St YMCA Chair Yin Yoga Class
DESCRIPTION:
URL:https://di2hearts.com/event/pearl-st-ymca-chair-yin-or-mat-yoga-class/2027-11-16/
END:VEVENT
BEGIN:VEVENT
DTSTART;TZID=America/Vancouver:20271117T093000
DTEND;TZID=America/Vancouver:20271117T103000
DTSTAMP:20260423T075016
CREATED:20260315T234958Z
LAST-MODIFIED:20260315T234958Z
UID:10001893-1826443800-1826447400@di2hearts.com
SUMMARY:Lakewood YMCA Chair Yin Yoga (or on your mat)
DESCRIPTION:
URL:https://di2hearts.com/event/lakewood-ymca-chair-yin-yoga-or-on-your-mat/2027-11-17/
END:VEVENT
BEGIN:VEVENT
DTSTART;TZID=America/Vancouver:20271117T113000
DTEND;TZID=America/Vancouver:20271117T121500
DTSTAMP:20260423T075016
CREATED:20250709T164030Z
LAST-MODIFIED:20250709T164030Z
UID:10001429-1826451000-1826453700@di2hearts.com
SUMMARY:Pearl St. YMCA Chair Yoga Class
DESCRIPTION:
URL:https://di2hearts.com/event/pearl-st-ymca-chair-yoga-class/2027-11-17/
END:VEVENT
BEGIN:VEVENT
DTSTART;TZID=America/Vancouver:20271121T100000
DTEND;TZID=America/Vancouver:20271121T110000
DTSTAMP:20260423T075016
CREATED:20250708T225415Z
LAST-MODIFIED:20250708T225415Z
UID:10000388-1826791200-1826794800@di2hearts.com
SUMMARY:Tacoma Center YMCA Gentle Yoga Class
DESCRIPTION:
URL:https://di2hearts.com/event/tacoma-center-ymca-gentle-yoga-class/2027-11-21/
END:VEVENT
BEGIN:VEVENT
DTSTART;TZID=America/Vancouver:20271121T111500
DTEND;TZID=America/Vancouver:20271121T121500
DTSTAMP:20260423T075016
CREATED:20250708T225731Z
LAST-MODIFIED:20250709T163055Z
UID:10000648-1826795700-1826799300@di2hearts.com
SUMMARY:Tacoma Center YMCA Yin Yoga Class
DESCRIPTION:
URL:https://di2hearts.com/event/tacoma-center-ymca-yin-yoga-class/2027-11-21/
END:VEVENT
BEGIN:VEVENT
DTSTART;TZID=America/Vancouver:20271122T103000
DTEND;TZID=America/Vancouver:20271122T113000
DTSTAMP:20260423T075016
CREATED:20250618T214701Z
LAST-MODIFIED:20250708T224748Z
UID:10000128-1826879400-1826883000@di2hearts.com
SUMMARY:Lakewood YMCA Gentle Yoga
DESCRIPTION:
URL:https://di2hearts.com/event/gentle-yoga/2027-11-22/
LOCATION:Lakewood YMCA
END:VEVENT
BEGIN:VEVENT
DTSTART;TZID=America/Vancouver:20271123T123000
DTEND;TZID=America/Vancouver:20271123T131500
DTSTAMP:20260423T075016
CREATED:20250709T163741Z
LAST-MODIFIED:20250709T164250Z
UID:10001169-1826973000-1826975700@di2hearts.com
SUMMARY:Pearl St YMCA Chair Yin Yoga Class
DESCRIPTION:
URL:https://di2hearts.com/event/pearl-st-ymca-chair-yin-or-mat-yoga-class/2027-11-23/
END:VEVENT
BEGIN:VEVENT
DTSTART;TZID=America/Vancouver:20271124T093000
DTEND;TZID=America/Vancouver:20271124T103000
DTSTAMP:20260423T075016
CREATED:20260315T234958Z
LAST-MODIFIED:20260315T234958Z
UID:10001894-1827048600-1827052200@di2hearts.com
SUMMARY:Lakewood YMCA Chair Yin Yoga (or on your mat)
DESCRIPTION:
URL:https://di2hearts.com/event/lakewood-ymca-chair-yin-yoga-or-on-your-mat/2027-11-24/
END:VEVENT
BEGIN:VEVENT
DTSTART;TZID=America/Vancouver:20271124T113000
DTEND;TZID=America/Vancouver:20271124T121500
DTSTAMP:20260423T075016
CREATED:20250709T164030Z
LAST-MODIFIED:20250709T164030Z
UID:10001430-1827055800-1827058500@di2hearts.com
SUMMARY:Pearl St. YMCA Chair Yoga Class
DESCRIPTION:
URL:https://di2hearts.com/event/pearl-st-ymca-chair-yoga-class/2027-11-24/
END:VEVENT
BEGIN:VEVENT
DTSTART;TZID=America/Vancouver:20271128T100000
DTEND;TZID=America/Vancouver:20271128T110000
DTSTAMP:20260423T075016
CREATED:20250708T225415Z
LAST-MODIFIED:20250708T225415Z
UID:10000389-1827396000-1827399600@di2hearts.com
SUMMARY:Tacoma Center YMCA Gentle Yoga Class
DESCRIPTION:
URL:https://di2hearts.com/event/tacoma-center-ymca-gentle-yoga-class/2027-11-28/
END:VEVENT
BEGIN:VEVENT
DTSTART;TZID=America/Vancouver:20271128T111500
DTEND;TZID=America/Vancouver:20271128T121500
DTSTAMP:20260423T075016
CREATED:20250708T225731Z
LAST-MODIFIED:20250709T163055Z
UID:10000649-1827400500-1827404100@di2hearts.com
SUMMARY:Tacoma Center YMCA Yin Yoga Class
DESCRIPTION:
URL:https://di2hearts.com/event/tacoma-center-ymca-yin-yoga-class/2027-11-28/
END:VEVENT
BEGIN:VEVENT
DTSTART;TZID=America/Vancouver:20271129T103000
DTEND;TZID=America/Vancouver:20271129T113000
DTSTAMP:20260423T075016
CREATED:20250618T214701Z
LAST-MODIFIED:20250708T224748Z
UID:10000129-1827484200-1827487800@di2hearts.com
SUMMARY:Lakewood YMCA Gentle Yoga
DESCRIPTION:
URL:https://di2hearts.com/event/gentle-yoga/2027-11-29/
LOCATION:Lakewood YMCA
END:VEVENT
BEGIN:VEVENT
DTSTART;TZID=America/Vancouver:20271130T123000
DTEND;TZID=America/Vancouver:20271130T131500
DTSTAMP:20260423T075016
CREATED:20250709T163741Z
LAST-MODIFIED:20250709T164250Z
UID:10001170-1827577800-1827580500@di2hearts.com
SUMMARY:Pearl St YMCA Chair Yin Yoga Class
DESCRIPTION:
URL:https://di2hearts.com/event/pearl-st-ymca-chair-yin-or-mat-yoga-class/2027-11-30/
END:VEVENT
END:VCALENDAR