BEGIN:VCALENDAR
VERSION:2.0
PRODID:-//Di2hearts - ECPv6.15.20//NONSGML v1.0//EN
CALSCALE:GREGORIAN
METHOD:PUBLISH
X-ORIGINAL-URL:https://di2hearts.com
X-WR-CALDESC:Events for Di2hearts
REFRESH-INTERVAL;VALUE=DURATION:PT1H
X-Robots-Tag:noindex
X-PUBLISHED-TTL:PT1H
BEGIN:VTIMEZONE
TZID:America/Vancouver
BEGIN:DAYLIGHT
TZOFFSETFROM:-0800
TZOFFSETTO:-0700
TZNAME:PDT
DTSTART:20270314T100000
END:DAYLIGHT
BEGIN:STANDARD
TZOFFSETFROM:-0700
TZOFFSETTO:-0800
TZNAME:PST
DTSTART:20271107T090000
END:STANDARD
BEGIN:DAYLIGHT
TZOFFSETFROM:-0800
TZOFFSETTO:-0700
TZNAME:PDT
DTSTART:20280312T100000
END:DAYLIGHT
BEGIN:STANDARD
TZOFFSETFROM:-0700
TZOFFSETTO:-0800
TZNAME:PST
DTSTART:20281105T090000
END:STANDARD
BEGIN:DAYLIGHT
TZOFFSETFROM:-0800
TZOFFSETTO:-0700
TZNAME:PDT
DTSTART:20290311T100000
END:DAYLIGHT
BEGIN:STANDARD
TZOFFSETFROM:-0700
TZOFFSETTO:-0800
TZNAME:PST
DTSTART:20291104T090000
END:STANDARD
END:VTIMEZONE
BEGIN:VEVENT
DTSTART;TZID=America/Vancouver:20280102T100000
DTEND;TZID=America/Vancouver:20280102T110000
DTSTAMP:20260423T105346
CREATED:20250708T225415Z
LAST-MODIFIED:20250708T225415Z
UID:10000394-1830420000-1830423600@di2hearts.com
SUMMARY:Tacoma Center YMCA Gentle Yoga Class
DESCRIPTION:
URL:https://di2hearts.com/event/tacoma-center-ymca-gentle-yoga-class/2028-01-02/
END:VEVENT
BEGIN:VEVENT
DTSTART;TZID=America/Vancouver:20280102T111500
DTEND;TZID=America/Vancouver:20280102T121500
DTSTAMP:20260423T105346
CREATED:20250708T225731Z
LAST-MODIFIED:20250709T163055Z
UID:10000654-1830424500-1830428100@di2hearts.com
SUMMARY:Tacoma Center YMCA Yin Yoga Class
DESCRIPTION:
URL:https://di2hearts.com/event/tacoma-center-ymca-yin-yoga-class/2028-01-02/
END:VEVENT
BEGIN:VEVENT
DTSTART;TZID=America/Vancouver:20280103T103000
DTEND;TZID=America/Vancouver:20280103T113000
DTSTAMP:20260423T105346
CREATED:20250618T214701Z
LAST-MODIFIED:20250708T224748Z
UID:10000134-1830508200-1830511800@di2hearts.com
SUMMARY:Lakewood YMCA Gentle Yoga
DESCRIPTION:
URL:https://di2hearts.com/event/gentle-yoga/2028-01-03/
LOCATION:Lakewood YMCA
END:VEVENT
BEGIN:VEVENT
DTSTART;TZID=America/Vancouver:20280104T123000
DTEND;TZID=America/Vancouver:20280104T131500
DTSTAMP:20260423T105346
CREATED:20250709T163741Z
LAST-MODIFIED:20250709T164250Z
UID:10001175-1830601800-1830604500@di2hearts.com
SUMMARY:Pearl St YMCA Chair Yin Yoga Class
DESCRIPTION:
URL:https://di2hearts.com/event/pearl-st-ymca-chair-yin-or-mat-yoga-class/2028-01-04/
END:VEVENT
BEGIN:VEVENT
DTSTART;TZID=America/Vancouver:20280105T093000
DTEND;TZID=America/Vancouver:20280105T103000
DTSTAMP:20260423T105346
CREATED:20260315T234958Z
LAST-MODIFIED:20260315T234958Z
UID:10001900-1830677400-1830681000@di2hearts.com
SUMMARY:Lakewood YMCA Chair Yin Yoga (or on your mat)
DESCRIPTION:
URL:https://di2hearts.com/event/lakewood-ymca-chair-yin-yoga-or-on-your-mat/2028-01-05/
END:VEVENT
BEGIN:VEVENT
DTSTART;TZID=America/Vancouver:20280105T113000
DTEND;TZID=America/Vancouver:20280105T121500
DTSTAMP:20260423T105346
CREATED:20250709T164030Z
LAST-MODIFIED:20250709T164030Z
UID:10001436-1830684600-1830687300@di2hearts.com
SUMMARY:Pearl St. YMCA Chair Yoga Class
DESCRIPTION:
URL:https://di2hearts.com/event/pearl-st-ymca-chair-yoga-class/2028-01-05/
END:VEVENT
BEGIN:VEVENT
DTSTART;TZID=America/Vancouver:20280109T100000
DTEND;TZID=America/Vancouver:20280109T110000
DTSTAMP:20260423T105346
CREATED:20250708T225415Z
LAST-MODIFIED:20250708T225415Z
UID:10000395-1831024800-1831028400@di2hearts.com
SUMMARY:Tacoma Center YMCA Gentle Yoga Class
DESCRIPTION:
URL:https://di2hearts.com/event/tacoma-center-ymca-gentle-yoga-class/2028-01-09/
END:VEVENT
BEGIN:VEVENT
DTSTART;TZID=America/Vancouver:20280109T111500
DTEND;TZID=America/Vancouver:20280109T121500
DTSTAMP:20260423T105346
CREATED:20250708T225731Z
LAST-MODIFIED:20250709T163055Z
UID:10000655-1831029300-1831032900@di2hearts.com
SUMMARY:Tacoma Center YMCA Yin Yoga Class
DESCRIPTION:
URL:https://di2hearts.com/event/tacoma-center-ymca-yin-yoga-class/2028-01-09/
END:VEVENT
BEGIN:VEVENT
DTSTART;TZID=America/Vancouver:20280110T103000
DTEND;TZID=America/Vancouver:20280110T113000
DTSTAMP:20260423T105346
CREATED:20250618T214701Z
LAST-MODIFIED:20250708T224748Z
UID:10000135-1831113000-1831116600@di2hearts.com
SUMMARY:Lakewood YMCA Gentle Yoga
DESCRIPTION:
URL:https://di2hearts.com/event/gentle-yoga/2028-01-10/
LOCATION:Lakewood YMCA
END:VEVENT
BEGIN:VEVENT
DTSTART;TZID=America/Vancouver:20280111T123000
DTEND;TZID=America/Vancouver:20280111T131500
DTSTAMP:20260423T105346
CREATED:20250709T163741Z
LAST-MODIFIED:20250709T164250Z
UID:10001176-1831206600-1831209300@di2hearts.com
SUMMARY:Pearl St YMCA Chair Yin Yoga Class
DESCRIPTION:
URL:https://di2hearts.com/event/pearl-st-ymca-chair-yin-or-mat-yoga-class/2028-01-11/
END:VEVENT
BEGIN:VEVENT
DTSTART;TZID=America/Vancouver:20280112T093000
DTEND;TZID=America/Vancouver:20280112T103000
DTSTAMP:20260423T105346
CREATED:20260315T234958Z
LAST-MODIFIED:20260315T234958Z
UID:10001901-1831282200-1831285800@di2hearts.com
SUMMARY:Lakewood YMCA Chair Yin Yoga (or on your mat)
DESCRIPTION:
URL:https://di2hearts.com/event/lakewood-ymca-chair-yin-yoga-or-on-your-mat/2028-01-12/
END:VEVENT
BEGIN:VEVENT
DTSTART;TZID=America/Vancouver:20280112T113000
DTEND;TZID=America/Vancouver:20280112T121500
DTSTAMP:20260423T105346
CREATED:20250709T164030Z
LAST-MODIFIED:20250709T164030Z
UID:10001437-1831289400-1831292100@di2hearts.com
SUMMARY:Pearl St. YMCA Chair Yoga Class
DESCRIPTION:
URL:https://di2hearts.com/event/pearl-st-ymca-chair-yoga-class/2028-01-12/
END:VEVENT
BEGIN:VEVENT
DTSTART;TZID=America/Vancouver:20280116T100000
DTEND;TZID=America/Vancouver:20280116T110000
DTSTAMP:20260423T105346
CREATED:20250708T225415Z
LAST-MODIFIED:20250708T225415Z
UID:10000396-1831629600-1831633200@di2hearts.com
SUMMARY:Tacoma Center YMCA Gentle Yoga Class
DESCRIPTION:
URL:https://di2hearts.com/event/tacoma-center-ymca-gentle-yoga-class/2028-01-16/
END:VEVENT
BEGIN:VEVENT
DTSTART;TZID=America/Vancouver:20280116T111500
DTEND;TZID=America/Vancouver:20280116T121500
DTSTAMP:20260423T105346
CREATED:20250708T225731Z
LAST-MODIFIED:20250709T163055Z
UID:10000656-1831634100-1831637700@di2hearts.com
SUMMARY:Tacoma Center YMCA Yin Yoga Class
DESCRIPTION:
URL:https://di2hearts.com/event/tacoma-center-ymca-yin-yoga-class/2028-01-16/
END:VEVENT
BEGIN:VEVENT
DTSTART;TZID=America/Vancouver:20280117T103000
DTEND;TZID=America/Vancouver:20280117T113000
DTSTAMP:20260423T105347
CREATED:20250618T214701Z
LAST-MODIFIED:20250708T224748Z
UID:10000136-1831717800-1831721400@di2hearts.com
SUMMARY:Lakewood YMCA Gentle Yoga
DESCRIPTION:
URL:https://di2hearts.com/event/gentle-yoga/2028-01-17/
LOCATION:Lakewood YMCA
END:VEVENT
BEGIN:VEVENT
DTSTART;TZID=America/Vancouver:20280118T123000
DTEND;TZID=America/Vancouver:20280118T131500
DTSTAMP:20260423T105347
CREATED:20250709T163741Z
LAST-MODIFIED:20250709T164250Z
UID:10001177-1831811400-1831814100@di2hearts.com
SUMMARY:Pearl St YMCA Chair Yin Yoga Class
DESCRIPTION:
URL:https://di2hearts.com/event/pearl-st-ymca-chair-yin-or-mat-yoga-class/2028-01-18/
END:VEVENT
BEGIN:VEVENT
DTSTART;TZID=America/Vancouver:20280119T093000
DTEND;TZID=America/Vancouver:20280119T103000
DTSTAMP:20260423T105347
CREATED:20260315T234958Z
LAST-MODIFIED:20260315T234958Z
UID:10001902-1831887000-1831890600@di2hearts.com
SUMMARY:Lakewood YMCA Chair Yin Yoga (or on your mat)
DESCRIPTION:
URL:https://di2hearts.com/event/lakewood-ymca-chair-yin-yoga-or-on-your-mat/2028-01-19/
END:VEVENT
BEGIN:VEVENT
DTSTART;TZID=America/Vancouver:20280119T113000
DTEND;TZID=America/Vancouver:20280119T121500
DTSTAMP:20260423T105347
CREATED:20250709T164030Z
LAST-MODIFIED:20250709T164030Z
UID:10001438-1831894200-1831896900@di2hearts.com
SUMMARY:Pearl St. YMCA Chair Yoga Class
DESCRIPTION:
URL:https://di2hearts.com/event/pearl-st-ymca-chair-yoga-class/2028-01-19/
END:VEVENT
BEGIN:VEVENT
DTSTART;TZID=America/Vancouver:20280123T100000
DTEND;TZID=America/Vancouver:20280123T110000
DTSTAMP:20260423T105347
CREATED:20250708T225415Z
LAST-MODIFIED:20250708T225415Z
UID:10000397-1832234400-1832238000@di2hearts.com
SUMMARY:Tacoma Center YMCA Gentle Yoga Class
DESCRIPTION:
URL:https://di2hearts.com/event/tacoma-center-ymca-gentle-yoga-class/2028-01-23/
END:VEVENT
BEGIN:VEVENT
DTSTART;TZID=America/Vancouver:20280123T111500
DTEND;TZID=America/Vancouver:20280123T121500
DTSTAMP:20260423T105347
CREATED:20250708T225731Z
LAST-MODIFIED:20250709T163055Z
UID:10000657-1832238900-1832242500@di2hearts.com
SUMMARY:Tacoma Center YMCA Yin Yoga Class
DESCRIPTION:
URL:https://di2hearts.com/event/tacoma-center-ymca-yin-yoga-class/2028-01-23/
END:VEVENT
BEGIN:VEVENT
DTSTART;TZID=America/Vancouver:20280124T103000
DTEND;TZID=America/Vancouver:20280124T113000
DTSTAMP:20260423T105347
CREATED:20250618T214701Z
LAST-MODIFIED:20250708T224748Z
UID:10000137-1832322600-1832326200@di2hearts.com
SUMMARY:Lakewood YMCA Gentle Yoga
DESCRIPTION:
URL:https://di2hearts.com/event/gentle-yoga/2028-01-24/
LOCATION:Lakewood YMCA
END:VEVENT
BEGIN:VEVENT
DTSTART;TZID=America/Vancouver:20280125T123000
DTEND;TZID=America/Vancouver:20280125T131500
DTSTAMP:20260423T105347
CREATED:20250709T163741Z
LAST-MODIFIED:20250709T164250Z
UID:10001178-1832416200-1832418900@di2hearts.com
SUMMARY:Pearl St YMCA Chair Yin Yoga Class
DESCRIPTION:
URL:https://di2hearts.com/event/pearl-st-ymca-chair-yin-or-mat-yoga-class/2028-01-25/
END:VEVENT
BEGIN:VEVENT
DTSTART;TZID=America/Vancouver:20280126T093000
DTEND;TZID=America/Vancouver:20280126T103000
DTSTAMP:20260423T105347
CREATED:20260315T234958Z
LAST-MODIFIED:20260315T234958Z
UID:10001903-1832491800-1832495400@di2hearts.com
SUMMARY:Lakewood YMCA Chair Yin Yoga (or on your mat)
DESCRIPTION:
URL:https://di2hearts.com/event/lakewood-ymca-chair-yin-yoga-or-on-your-mat/2028-01-26/
END:VEVENT
BEGIN:VEVENT
DTSTART;TZID=America/Vancouver:20280126T113000
DTEND;TZID=America/Vancouver:20280126T121500
DTSTAMP:20260423T105347
CREATED:20250709T164030Z
LAST-MODIFIED:20250709T164030Z
UID:10001439-1832499000-1832501700@di2hearts.com
SUMMARY:Pearl St. YMCA Chair Yoga Class
DESCRIPTION:
URL:https://di2hearts.com/event/pearl-st-ymca-chair-yoga-class/2028-01-26/
END:VEVENT
BEGIN:VEVENT
DTSTART;TZID=America/Vancouver:20280130T100000
DTEND;TZID=America/Vancouver:20280130T110000
DTSTAMP:20260423T105347
CREATED:20250708T225415Z
LAST-MODIFIED:20250708T225415Z
UID:10000398-1832839200-1832842800@di2hearts.com
SUMMARY:Tacoma Center YMCA Gentle Yoga Class
DESCRIPTION:
URL:https://di2hearts.com/event/tacoma-center-ymca-gentle-yoga-class/2028-01-30/
END:VEVENT
BEGIN:VEVENT
DTSTART;TZID=America/Vancouver:20280130T111500
DTEND;TZID=America/Vancouver:20280130T121500
DTSTAMP:20260423T105347
CREATED:20250708T225731Z
LAST-MODIFIED:20250709T163055Z
UID:10000658-1832843700-1832847300@di2hearts.com
SUMMARY:Tacoma Center YMCA Yin Yoga Class
DESCRIPTION:
URL:https://di2hearts.com/event/tacoma-center-ymca-yin-yoga-class/2028-01-30/
END:VEVENT
BEGIN:VEVENT
DTSTART;TZID=America/Vancouver:20280131T103000
DTEND;TZID=America/Vancouver:20280131T113000
DTSTAMP:20260423T105347
CREATED:20250618T214701Z
LAST-MODIFIED:20250708T224748Z
UID:10000138-1832927400-1832931000@di2hearts.com
SUMMARY:Lakewood YMCA Gentle Yoga
DESCRIPTION:
URL:https://di2hearts.com/event/gentle-yoga/2028-01-31/
LOCATION:Lakewood YMCA
END:VEVENT
END:VCALENDAR