BEGIN:VCALENDAR
VERSION:2.0
PRODID:-//Di2hearts - ECPv6.15.20//NONSGML v1.0//EN
CALSCALE:GREGORIAN
METHOD:PUBLISH
X-ORIGINAL-URL:https://di2hearts.com
X-WR-CALDESC:Events for Di2hearts
REFRESH-INTERVAL;VALUE=DURATION:PT1H
X-Robots-Tag:noindex
X-PUBLISHED-TTL:PT1H
BEGIN:VTIMEZONE
TZID:America/Vancouver
BEGIN:DAYLIGHT
TZOFFSETFROM:-0800
TZOFFSETTO:-0700
TZNAME:PDT
DTSTART:20270314T100000
END:DAYLIGHT
BEGIN:STANDARD
TZOFFSETFROM:-0700
TZOFFSETTO:-0800
TZNAME:PST
DTSTART:20271107T090000
END:STANDARD
BEGIN:DAYLIGHT
TZOFFSETFROM:-0800
TZOFFSETTO:-0700
TZNAME:PDT
DTSTART:20280312T100000
END:DAYLIGHT
BEGIN:STANDARD
TZOFFSETFROM:-0700
TZOFFSETTO:-0800
TZNAME:PST
DTSTART:20281105T090000
END:STANDARD
BEGIN:DAYLIGHT
TZOFFSETFROM:-0800
TZOFFSETTO:-0700
TZNAME:PDT
DTSTART:20290311T100000
END:DAYLIGHT
BEGIN:STANDARD
TZOFFSETFROM:-0700
TZOFFSETTO:-0800
TZNAME:PST
DTSTART:20291104T090000
END:STANDARD
END:VTIMEZONE
BEGIN:VEVENT
DTSTART;TZID=America/Vancouver:20280201T123000
DTEND;TZID=America/Vancouver:20280201T131500
DTSTAMP:20260423T123503
CREATED:20250709T163741Z
LAST-MODIFIED:20250709T164250Z
UID:10001179-1833021000-1833023700@di2hearts.com
SUMMARY:Pearl St YMCA Chair Yin Yoga Class
DESCRIPTION:
URL:https://di2hearts.com/event/pearl-st-ymca-chair-yin-or-mat-yoga-class/2028-02-01/
END:VEVENT
BEGIN:VEVENT
DTSTART;TZID=America/Vancouver:20280202T093000
DTEND;TZID=America/Vancouver:20280202T103000
DTSTAMP:20260423T123503
CREATED:20260315T234958Z
LAST-MODIFIED:20260315T234958Z
UID:10001904-1833096600-1833100200@di2hearts.com
SUMMARY:Lakewood YMCA Chair Yin Yoga (or on your mat)
DESCRIPTION:
URL:https://di2hearts.com/event/lakewood-ymca-chair-yin-yoga-or-on-your-mat/2028-02-02/
END:VEVENT
BEGIN:VEVENT
DTSTART;TZID=America/Vancouver:20280202T113000
DTEND;TZID=America/Vancouver:20280202T121500
DTSTAMP:20260423T123503
CREATED:20250709T164030Z
LAST-MODIFIED:20250709T164030Z
UID:10001440-1833103800-1833106500@di2hearts.com
SUMMARY:Pearl St. YMCA Chair Yoga Class
DESCRIPTION:
URL:https://di2hearts.com/event/pearl-st-ymca-chair-yoga-class/2028-02-02/
END:VEVENT
BEGIN:VEVENT
DTSTART;TZID=America/Vancouver:20280206T100000
DTEND;TZID=America/Vancouver:20280206T110000
DTSTAMP:20260423T123503
CREATED:20250708T225415Z
LAST-MODIFIED:20250708T225415Z
UID:10000399-1833444000-1833447600@di2hearts.com
SUMMARY:Tacoma Center YMCA Gentle Yoga Class
DESCRIPTION:
URL:https://di2hearts.com/event/tacoma-center-ymca-gentle-yoga-class/2028-02-06/
END:VEVENT
BEGIN:VEVENT
DTSTART;TZID=America/Vancouver:20280206T111500
DTEND;TZID=America/Vancouver:20280206T121500
DTSTAMP:20260423T123503
CREATED:20250708T225731Z
LAST-MODIFIED:20250709T163055Z
UID:10000659-1833448500-1833452100@di2hearts.com
SUMMARY:Tacoma Center YMCA Yin Yoga Class
DESCRIPTION:
URL:https://di2hearts.com/event/tacoma-center-ymca-yin-yoga-class/2028-02-06/
END:VEVENT
BEGIN:VEVENT
DTSTART;TZID=America/Vancouver:20280207T103000
DTEND;TZID=America/Vancouver:20280207T113000
DTSTAMP:20260423T123503
CREATED:20250618T214701Z
LAST-MODIFIED:20250708T224748Z
UID:10000139-1833532200-1833535800@di2hearts.com
SUMMARY:Lakewood YMCA Gentle Yoga
DESCRIPTION:
URL:https://di2hearts.com/event/gentle-yoga/2028-02-07/
LOCATION:Lakewood YMCA
END:VEVENT
BEGIN:VEVENT
DTSTART;TZID=America/Vancouver:20280208T123000
DTEND;TZID=America/Vancouver:20280208T131500
DTSTAMP:20260423T123503
CREATED:20250709T163741Z
LAST-MODIFIED:20250709T164250Z
UID:10001180-1833625800-1833628500@di2hearts.com
SUMMARY:Pearl St YMCA Chair Yin Yoga Class
DESCRIPTION:
URL:https://di2hearts.com/event/pearl-st-ymca-chair-yin-or-mat-yoga-class/2028-02-08/
END:VEVENT
BEGIN:VEVENT
DTSTART;TZID=America/Vancouver:20280209T093000
DTEND;TZID=America/Vancouver:20280209T103000
DTSTAMP:20260423T123503
CREATED:20260315T234958Z
LAST-MODIFIED:20260315T234958Z
UID:10001905-1833701400-1833705000@di2hearts.com
SUMMARY:Lakewood YMCA Chair Yin Yoga (or on your mat)
DESCRIPTION:
URL:https://di2hearts.com/event/lakewood-ymca-chair-yin-yoga-or-on-your-mat/2028-02-09/
END:VEVENT
BEGIN:VEVENT
DTSTART;TZID=America/Vancouver:20280209T113000
DTEND;TZID=America/Vancouver:20280209T121500
DTSTAMP:20260423T123503
CREATED:20250709T164030Z
LAST-MODIFIED:20250709T164030Z
UID:10001441-1833708600-1833711300@di2hearts.com
SUMMARY:Pearl St. YMCA Chair Yoga Class
DESCRIPTION:
URL:https://di2hearts.com/event/pearl-st-ymca-chair-yoga-class/2028-02-09/
END:VEVENT
BEGIN:VEVENT
DTSTART;TZID=America/Vancouver:20280213T100000
DTEND;TZID=America/Vancouver:20280213T110000
DTSTAMP:20260423T123503
CREATED:20250708T225415Z
LAST-MODIFIED:20250708T225415Z
UID:10000400-1834048800-1834052400@di2hearts.com
SUMMARY:Tacoma Center YMCA Gentle Yoga Class
DESCRIPTION:
URL:https://di2hearts.com/event/tacoma-center-ymca-gentle-yoga-class/2028-02-13/
END:VEVENT
BEGIN:VEVENT
DTSTART;TZID=America/Vancouver:20280213T111500
DTEND;TZID=America/Vancouver:20280213T121500
DTSTAMP:20260423T123503
CREATED:20250708T225731Z
LAST-MODIFIED:20250709T163055Z
UID:10000660-1834053300-1834056900@di2hearts.com
SUMMARY:Tacoma Center YMCA Yin Yoga Class
DESCRIPTION:
URL:https://di2hearts.com/event/tacoma-center-ymca-yin-yoga-class/2028-02-13/
END:VEVENT
BEGIN:VEVENT
DTSTART;TZID=America/Vancouver:20280214T103000
DTEND;TZID=America/Vancouver:20280214T113000
DTSTAMP:20260423T123503
CREATED:20250618T214701Z
LAST-MODIFIED:20250708T224748Z
UID:10000140-1834137000-1834140600@di2hearts.com
SUMMARY:Lakewood YMCA Gentle Yoga
DESCRIPTION:
URL:https://di2hearts.com/event/gentle-yoga/2028-02-14/
LOCATION:Lakewood YMCA
END:VEVENT
BEGIN:VEVENT
DTSTART;TZID=America/Vancouver:20280215T123000
DTEND;TZID=America/Vancouver:20280215T131500
DTSTAMP:20260423T123503
CREATED:20250709T163741Z
LAST-MODIFIED:20250709T164250Z
UID:10001181-1834230600-1834233300@di2hearts.com
SUMMARY:Pearl St YMCA Chair Yin Yoga Class
DESCRIPTION:
URL:https://di2hearts.com/event/pearl-st-ymca-chair-yin-or-mat-yoga-class/2028-02-15/
END:VEVENT
BEGIN:VEVENT
DTSTART;TZID=America/Vancouver:20280216T093000
DTEND;TZID=America/Vancouver:20280216T103000
DTSTAMP:20260423T123503
CREATED:20260315T234958Z
LAST-MODIFIED:20260315T234958Z
UID:10001906-1834306200-1834309800@di2hearts.com
SUMMARY:Lakewood YMCA Chair Yin Yoga (or on your mat)
DESCRIPTION:
URL:https://di2hearts.com/event/lakewood-ymca-chair-yin-yoga-or-on-your-mat/2028-02-16/
END:VEVENT
BEGIN:VEVENT
DTSTART;TZID=America/Vancouver:20280216T113000
DTEND;TZID=America/Vancouver:20280216T121500
DTSTAMP:20260423T123503
CREATED:20250709T164030Z
LAST-MODIFIED:20250709T164030Z
UID:10001442-1834313400-1834316100@di2hearts.com
SUMMARY:Pearl St. YMCA Chair Yoga Class
DESCRIPTION:
URL:https://di2hearts.com/event/pearl-st-ymca-chair-yoga-class/2028-02-16/
END:VEVENT
BEGIN:VEVENT
DTSTART;TZID=America/Vancouver:20280220T100000
DTEND;TZID=America/Vancouver:20280220T110000
DTSTAMP:20260423T123503
CREATED:20250708T225415Z
LAST-MODIFIED:20250708T225415Z
UID:10000401-1834653600-1834657200@di2hearts.com
SUMMARY:Tacoma Center YMCA Gentle Yoga Class
DESCRIPTION:
URL:https://di2hearts.com/event/tacoma-center-ymca-gentle-yoga-class/2028-02-20/
END:VEVENT
BEGIN:VEVENT
DTSTART;TZID=America/Vancouver:20280220T111500
DTEND;TZID=America/Vancouver:20280220T121500
DTSTAMP:20260423T123503
CREATED:20250708T225731Z
LAST-MODIFIED:20250709T163055Z
UID:10000661-1834658100-1834661700@di2hearts.com
SUMMARY:Tacoma Center YMCA Yin Yoga Class
DESCRIPTION:
URL:https://di2hearts.com/event/tacoma-center-ymca-yin-yoga-class/2028-02-20/
END:VEVENT
BEGIN:VEVENT
DTSTART;TZID=America/Vancouver:20280221T103000
DTEND;TZID=America/Vancouver:20280221T113000
DTSTAMP:20260423T123503
CREATED:20250618T214701Z
LAST-MODIFIED:20250708T224748Z
UID:10000141-1834741800-1834745400@di2hearts.com
SUMMARY:Lakewood YMCA Gentle Yoga
DESCRIPTION:
URL:https://di2hearts.com/event/gentle-yoga/2028-02-21/
LOCATION:Lakewood YMCA
END:VEVENT
BEGIN:VEVENT
DTSTART;TZID=America/Vancouver:20280222T123000
DTEND;TZID=America/Vancouver:20280222T131500
DTSTAMP:20260423T123503
CREATED:20250709T163741Z
LAST-MODIFIED:20250709T164250Z
UID:10001182-1834835400-1834838100@di2hearts.com
SUMMARY:Pearl St YMCA Chair Yin Yoga Class
DESCRIPTION:
URL:https://di2hearts.com/event/pearl-st-ymca-chair-yin-or-mat-yoga-class/2028-02-22/
END:VEVENT
BEGIN:VEVENT
DTSTART;TZID=America/Vancouver:20280223T093000
DTEND;TZID=America/Vancouver:20280223T103000
DTSTAMP:20260423T123503
CREATED:20260315T234958Z
LAST-MODIFIED:20260315T234958Z
UID:10001907-1834911000-1834914600@di2hearts.com
SUMMARY:Lakewood YMCA Chair Yin Yoga (or on your mat)
DESCRIPTION:
URL:https://di2hearts.com/event/lakewood-ymca-chair-yin-yoga-or-on-your-mat/2028-02-23/
END:VEVENT
BEGIN:VEVENT
DTSTART;TZID=America/Vancouver:20280223T113000
DTEND;TZID=America/Vancouver:20280223T121500
DTSTAMP:20260423T123503
CREATED:20250709T164030Z
LAST-MODIFIED:20250709T164030Z
UID:10001443-1834918200-1834920900@di2hearts.com
SUMMARY:Pearl St. YMCA Chair Yoga Class
DESCRIPTION:
URL:https://di2hearts.com/event/pearl-st-ymca-chair-yoga-class/2028-02-23/
END:VEVENT
BEGIN:VEVENT
DTSTART;TZID=America/Vancouver:20280227T100000
DTEND;TZID=America/Vancouver:20280227T110000
DTSTAMP:20260423T123504
CREATED:20250708T225415Z
LAST-MODIFIED:20250708T225415Z
UID:10000402-1835258400-1835262000@di2hearts.com
SUMMARY:Tacoma Center YMCA Gentle Yoga Class
DESCRIPTION:
URL:https://di2hearts.com/event/tacoma-center-ymca-gentle-yoga-class/2028-02-27/
END:VEVENT
BEGIN:VEVENT
DTSTART;TZID=America/Vancouver:20280227T111500
DTEND;TZID=America/Vancouver:20280227T121500
DTSTAMP:20260423T123504
CREATED:20250708T225731Z
LAST-MODIFIED:20250709T163055Z
UID:10000662-1835262900-1835266500@di2hearts.com
SUMMARY:Tacoma Center YMCA Yin Yoga Class
DESCRIPTION:
URL:https://di2hearts.com/event/tacoma-center-ymca-yin-yoga-class/2028-02-27/
END:VEVENT
BEGIN:VEVENT
DTSTART;TZID=America/Vancouver:20280228T103000
DTEND;TZID=America/Vancouver:20280228T113000
DTSTAMP:20260423T123504
CREATED:20250618T214701Z
LAST-MODIFIED:20250708T224748Z
UID:10000142-1835346600-1835350200@di2hearts.com
SUMMARY:Lakewood YMCA Gentle Yoga
DESCRIPTION:
URL:https://di2hearts.com/event/gentle-yoga/2028-02-28/
LOCATION:Lakewood YMCA
END:VEVENT
BEGIN:VEVENT
DTSTART;TZID=America/Vancouver:20280229T123000
DTEND;TZID=America/Vancouver:20280229T131500
DTSTAMP:20260423T123504
CREATED:20250709T163741Z
LAST-MODIFIED:20250709T164250Z
UID:10001183-1835440200-1835442900@di2hearts.com
SUMMARY:Pearl St YMCA Chair Yin Yoga Class
DESCRIPTION:
URL:https://di2hearts.com/event/pearl-st-ymca-chair-yin-or-mat-yoga-class/2028-02-29/
END:VEVENT
END:VCALENDAR