BEGIN:VCALENDAR
VERSION:2.0
PRODID:-//Di2hearts - ECPv6.15.20//NONSGML v1.0//EN
CALSCALE:GREGORIAN
METHOD:PUBLISH
X-ORIGINAL-URL:https://di2hearts.com
X-WR-CALDESC:Events for Di2hearts
REFRESH-INTERVAL;VALUE=DURATION:PT1H
X-Robots-Tag:noindex
X-PUBLISHED-TTL:PT1H
BEGIN:VTIMEZONE
TZID:America/Vancouver
BEGIN:DAYLIGHT
TZOFFSETFROM:-0800
TZOFFSETTO:-0700
TZNAME:PDT
DTSTART:20270314T100000
END:DAYLIGHT
BEGIN:STANDARD
TZOFFSETFROM:-0700
TZOFFSETTO:-0800
TZNAME:PST
DTSTART:20271107T090000
END:STANDARD
BEGIN:DAYLIGHT
TZOFFSETFROM:-0800
TZOFFSETTO:-0700
TZNAME:PDT
DTSTART:20280312T100000
END:DAYLIGHT
BEGIN:STANDARD
TZOFFSETFROM:-0700
TZOFFSETTO:-0800
TZNAME:PST
DTSTART:20281105T090000
END:STANDARD
BEGIN:DAYLIGHT
TZOFFSETFROM:-0800
TZOFFSETTO:-0700
TZNAME:PDT
DTSTART:20290311T100000
END:DAYLIGHT
BEGIN:STANDARD
TZOFFSETFROM:-0700
TZOFFSETTO:-0800
TZNAME:PST
DTSTART:20291104T090000
END:STANDARD
END:VTIMEZONE
BEGIN:VEVENT
DTSTART;TZID=America/Vancouver:20280604T100000
DTEND;TZID=America/Vancouver:20280604T110000
DTSTAMP:20260423T182725
CREATED:20250708T225415Z
LAST-MODIFIED:20250708T225415Z
UID:10000416-1843725600-1843729200@di2hearts.com
SUMMARY:Tacoma Center YMCA Gentle Yoga Class
DESCRIPTION:
URL:https://di2hearts.com/event/tacoma-center-ymca-gentle-yoga-class/2028-06-04/
END:VEVENT
BEGIN:VEVENT
DTSTART;TZID=America/Vancouver:20280604T111500
DTEND;TZID=America/Vancouver:20280604T121500
DTSTAMP:20260423T182725
CREATED:20250708T225731Z
LAST-MODIFIED:20250709T163055Z
UID:10000676-1843730100-1843733700@di2hearts.com
SUMMARY:Tacoma Center YMCA Yin Yoga Class
DESCRIPTION:
URL:https://di2hearts.com/event/tacoma-center-ymca-yin-yoga-class/2028-06-04/
END:VEVENT
BEGIN:VEVENT
DTSTART;TZID=America/Vancouver:20280605T103000
DTEND;TZID=America/Vancouver:20280605T113000
DTSTAMP:20260423T182725
CREATED:20250618T214701Z
LAST-MODIFIED:20250708T224748Z
UID:10000156-1843813800-1843817400@di2hearts.com
SUMMARY:Lakewood YMCA Gentle Yoga
DESCRIPTION:
URL:https://di2hearts.com/event/gentle-yoga/2028-06-05/
LOCATION:Lakewood YMCA
END:VEVENT
BEGIN:VEVENT
DTSTART;TZID=America/Vancouver:20280606T123000
DTEND;TZID=America/Vancouver:20280606T131500
DTSTAMP:20260423T182725
CREATED:20250709T163741Z
LAST-MODIFIED:20250709T164250Z
UID:10001197-1843907400-1843910100@di2hearts.com
SUMMARY:Pearl St YMCA Chair Yin Yoga Class
DESCRIPTION:
URL:https://di2hearts.com/event/pearl-st-ymca-chair-yin-or-mat-yoga-class/2028-06-06/
END:VEVENT
BEGIN:VEVENT
DTSTART;TZID=America/Vancouver:20280607T093000
DTEND;TZID=America/Vancouver:20280607T103000
DTSTAMP:20260423T182725
CREATED:20260315T234958Z
LAST-MODIFIED:20260315T234958Z
UID:10001922-1843983000-1843986600@di2hearts.com
SUMMARY:Lakewood YMCA Chair Yin Yoga (or on your mat)
DESCRIPTION:
URL:https://di2hearts.com/event/lakewood-ymca-chair-yin-yoga-or-on-your-mat/2028-06-07/
END:VEVENT
BEGIN:VEVENT
DTSTART;TZID=America/Vancouver:20280607T113000
DTEND;TZID=America/Vancouver:20280607T121500
DTSTAMP:20260423T182725
CREATED:20250709T164030Z
LAST-MODIFIED:20250709T164030Z
UID:10001458-1843990200-1843992900@di2hearts.com
SUMMARY:Pearl St. YMCA Chair Yoga Class
DESCRIPTION:
URL:https://di2hearts.com/event/pearl-st-ymca-chair-yoga-class/2028-06-07/
END:VEVENT
BEGIN:VEVENT
DTSTART;TZID=America/Vancouver:20280611T100000
DTEND;TZID=America/Vancouver:20280611T110000
DTSTAMP:20260423T182725
CREATED:20250708T225415Z
LAST-MODIFIED:20250708T225415Z
UID:10000417-1844330400-1844334000@di2hearts.com
SUMMARY:Tacoma Center YMCA Gentle Yoga Class
DESCRIPTION:
URL:https://di2hearts.com/event/tacoma-center-ymca-gentle-yoga-class/2028-06-11/
END:VEVENT
BEGIN:VEVENT
DTSTART;TZID=America/Vancouver:20280611T111500
DTEND;TZID=America/Vancouver:20280611T121500
DTSTAMP:20260423T182725
CREATED:20250708T225731Z
LAST-MODIFIED:20250709T163055Z
UID:10000677-1844334900-1844338500@di2hearts.com
SUMMARY:Tacoma Center YMCA Yin Yoga Class
DESCRIPTION:
URL:https://di2hearts.com/event/tacoma-center-ymca-yin-yoga-class/2028-06-11/
END:VEVENT
BEGIN:VEVENT
DTSTART;TZID=America/Vancouver:20280612T103000
DTEND;TZID=America/Vancouver:20280612T113000
DTSTAMP:20260423T182725
CREATED:20250618T214701Z
LAST-MODIFIED:20250708T224748Z
UID:10000157-1844418600-1844422200@di2hearts.com
SUMMARY:Lakewood YMCA Gentle Yoga
DESCRIPTION:
URL:https://di2hearts.com/event/gentle-yoga/2028-06-12/
LOCATION:Lakewood YMCA
END:VEVENT
BEGIN:VEVENT
DTSTART;TZID=America/Vancouver:20280613T123000
DTEND;TZID=America/Vancouver:20280613T131500
DTSTAMP:20260423T182725
CREATED:20250709T163741Z
LAST-MODIFIED:20250709T164250Z
UID:10001198-1844512200-1844514900@di2hearts.com
SUMMARY:Pearl St YMCA Chair Yin Yoga Class
DESCRIPTION:
URL:https://di2hearts.com/event/pearl-st-ymca-chair-yin-or-mat-yoga-class/2028-06-13/
END:VEVENT
BEGIN:VEVENT
DTSTART;TZID=America/Vancouver:20280614T093000
DTEND;TZID=America/Vancouver:20280614T103000
DTSTAMP:20260423T182725
CREATED:20260315T234958Z
LAST-MODIFIED:20260315T234958Z
UID:10001923-1844587800-1844591400@di2hearts.com
SUMMARY:Lakewood YMCA Chair Yin Yoga (or on your mat)
DESCRIPTION:
URL:https://di2hearts.com/event/lakewood-ymca-chair-yin-yoga-or-on-your-mat/2028-06-14/
END:VEVENT
BEGIN:VEVENT
DTSTART;TZID=America/Vancouver:20280614T113000
DTEND;TZID=America/Vancouver:20280614T121500
DTSTAMP:20260423T182725
CREATED:20250709T164030Z
LAST-MODIFIED:20250709T164030Z
UID:10001459-1844595000-1844597700@di2hearts.com
SUMMARY:Pearl St. YMCA Chair Yoga Class
DESCRIPTION:
URL:https://di2hearts.com/event/pearl-st-ymca-chair-yoga-class/2028-06-14/
END:VEVENT
BEGIN:VEVENT
DTSTART;TZID=America/Vancouver:20280618T100000
DTEND;TZID=America/Vancouver:20280618T110000
DTSTAMP:20260423T182725
CREATED:20250708T225415Z
LAST-MODIFIED:20250708T225415Z
UID:10000418-1844935200-1844938800@di2hearts.com
SUMMARY:Tacoma Center YMCA Gentle Yoga Class
DESCRIPTION:
URL:https://di2hearts.com/event/tacoma-center-ymca-gentle-yoga-class/2028-06-18/
END:VEVENT
BEGIN:VEVENT
DTSTART;TZID=America/Vancouver:20280618T111500
DTEND;TZID=America/Vancouver:20280618T121500
DTSTAMP:20260423T182725
CREATED:20250708T225731Z
LAST-MODIFIED:20250709T163055Z
UID:10000678-1844939700-1844943300@di2hearts.com
SUMMARY:Tacoma Center YMCA Yin Yoga Class
DESCRIPTION:
URL:https://di2hearts.com/event/tacoma-center-ymca-yin-yoga-class/2028-06-18/
END:VEVENT
BEGIN:VEVENT
DTSTART;TZID=America/Vancouver:20280619T103000
DTEND;TZID=America/Vancouver:20280619T113000
DTSTAMP:20260423T182725
CREATED:20250618T214701Z
LAST-MODIFIED:20250708T224748Z
UID:10000158-1845023400-1845027000@di2hearts.com
SUMMARY:Lakewood YMCA Gentle Yoga
DESCRIPTION:
URL:https://di2hearts.com/event/gentle-yoga/2028-06-19/
LOCATION:Lakewood YMCA
END:VEVENT
BEGIN:VEVENT
DTSTART;TZID=America/Vancouver:20280620T123000
DTEND;TZID=America/Vancouver:20280620T131500
DTSTAMP:20260423T182725
CREATED:20250709T163741Z
LAST-MODIFIED:20250709T164250Z
UID:10001199-1845117000-1845119700@di2hearts.com
SUMMARY:Pearl St YMCA Chair Yin Yoga Class
DESCRIPTION:
URL:https://di2hearts.com/event/pearl-st-ymca-chair-yin-or-mat-yoga-class/2028-06-20/
END:VEVENT
BEGIN:VEVENT
DTSTART;TZID=America/Vancouver:20280621T093000
DTEND;TZID=America/Vancouver:20280621T103000
DTSTAMP:20260423T182725
CREATED:20260315T234958Z
LAST-MODIFIED:20260315T234958Z
UID:10001924-1845192600-1845196200@di2hearts.com
SUMMARY:Lakewood YMCA Chair Yin Yoga (or on your mat)
DESCRIPTION:
URL:https://di2hearts.com/event/lakewood-ymca-chair-yin-yoga-or-on-your-mat/2028-06-21/
END:VEVENT
BEGIN:VEVENT
DTSTART;TZID=America/Vancouver:20280621T113000
DTEND;TZID=America/Vancouver:20280621T121500
DTSTAMP:20260423T182725
CREATED:20250709T164030Z
LAST-MODIFIED:20250709T164030Z
UID:10001460-1845199800-1845202500@di2hearts.com
SUMMARY:Pearl St. YMCA Chair Yoga Class
DESCRIPTION:
URL:https://di2hearts.com/event/pearl-st-ymca-chair-yoga-class/2028-06-21/
END:VEVENT
BEGIN:VEVENT
DTSTART;TZID=America/Vancouver:20280625T100000
DTEND;TZID=America/Vancouver:20280625T110000
DTSTAMP:20260423T182725
CREATED:20250708T225415Z
LAST-MODIFIED:20250708T225415Z
UID:10000419-1845540000-1845543600@di2hearts.com
SUMMARY:Tacoma Center YMCA Gentle Yoga Class
DESCRIPTION:
URL:https://di2hearts.com/event/tacoma-center-ymca-gentle-yoga-class/2028-06-25/
END:VEVENT
BEGIN:VEVENT
DTSTART;TZID=America/Vancouver:20280625T111500
DTEND;TZID=America/Vancouver:20280625T121500
DTSTAMP:20260423T182725
CREATED:20250708T225731Z
LAST-MODIFIED:20250709T163055Z
UID:10000679-1845544500-1845548100@di2hearts.com
SUMMARY:Tacoma Center YMCA Yin Yoga Class
DESCRIPTION:
URL:https://di2hearts.com/event/tacoma-center-ymca-yin-yoga-class/2028-06-25/
END:VEVENT
BEGIN:VEVENT
DTSTART;TZID=America/Vancouver:20280626T103000
DTEND;TZID=America/Vancouver:20280626T113000
DTSTAMP:20260423T182725
CREATED:20250618T214701Z
LAST-MODIFIED:20250708T224748Z
UID:10000159-1845628200-1845631800@di2hearts.com
SUMMARY:Lakewood YMCA Gentle Yoga
DESCRIPTION:
URL:https://di2hearts.com/event/gentle-yoga/2028-06-26/
LOCATION:Lakewood YMCA
END:VEVENT
BEGIN:VEVENT
DTSTART;TZID=America/Vancouver:20280627T123000
DTEND;TZID=America/Vancouver:20280627T131500
DTSTAMP:20260423T182725
CREATED:20250709T163741Z
LAST-MODIFIED:20250709T164250Z
UID:10001200-1845721800-1845724500@di2hearts.com
SUMMARY:Pearl St YMCA Chair Yin Yoga Class
DESCRIPTION:
URL:https://di2hearts.com/event/pearl-st-ymca-chair-yin-or-mat-yoga-class/2028-06-27/
END:VEVENT
BEGIN:VEVENT
DTSTART;TZID=America/Vancouver:20280628T093000
DTEND;TZID=America/Vancouver:20280628T103000
DTSTAMP:20260423T182725
CREATED:20260315T234958Z
LAST-MODIFIED:20260315T234958Z
UID:10001925-1845797400-1845801000@di2hearts.com
SUMMARY:Lakewood YMCA Chair Yin Yoga (or on your mat)
DESCRIPTION:
URL:https://di2hearts.com/event/lakewood-ymca-chair-yin-yoga-or-on-your-mat/2028-06-28/
END:VEVENT
BEGIN:VEVENT
DTSTART;TZID=America/Vancouver:20280628T113000
DTEND;TZID=America/Vancouver:20280628T121500
DTSTAMP:20260423T182725
CREATED:20250709T164030Z
LAST-MODIFIED:20250709T164030Z
UID:10001461-1845804600-1845807300@di2hearts.com
SUMMARY:Pearl St. YMCA Chair Yoga Class
DESCRIPTION:
URL:https://di2hearts.com/event/pearl-st-ymca-chair-yoga-class/2028-06-28/
END:VEVENT
END:VCALENDAR