BEGIN:VCALENDAR
VERSION:2.0
PRODID:-//Di2hearts - ECPv6.15.20//NONSGML v1.0//EN
CALSCALE:GREGORIAN
METHOD:PUBLISH
X-ORIGINAL-URL:https://di2hearts.com
X-WR-CALDESC:Events for Di2hearts
REFRESH-INTERVAL;VALUE=DURATION:PT1H
X-Robots-Tag:noindex
X-PUBLISHED-TTL:PT1H
BEGIN:VTIMEZONE
TZID:America/Vancouver
BEGIN:DAYLIGHT
TZOFFSETFROM:-0800
TZOFFSETTO:-0700
TZNAME:PDT
DTSTART:20270314T100000
END:DAYLIGHT
BEGIN:STANDARD
TZOFFSETFROM:-0700
TZOFFSETTO:-0800
TZNAME:PST
DTSTART:20271107T090000
END:STANDARD
BEGIN:DAYLIGHT
TZOFFSETFROM:-0800
TZOFFSETTO:-0700
TZNAME:PDT
DTSTART:20280312T100000
END:DAYLIGHT
BEGIN:STANDARD
TZOFFSETFROM:-0700
TZOFFSETTO:-0800
TZNAME:PST
DTSTART:20281105T090000
END:STANDARD
BEGIN:DAYLIGHT
TZOFFSETFROM:-0800
TZOFFSETTO:-0700
TZNAME:PDT
DTSTART:20290311T100000
END:DAYLIGHT
BEGIN:STANDARD
TZOFFSETFROM:-0700
TZOFFSETTO:-0800
TZNAME:PST
DTSTART:20291104T090000
END:STANDARD
END:VTIMEZONE
BEGIN:VEVENT
DTSTART;TZID=America/Vancouver:20280702T100000
DTEND;TZID=America/Vancouver:20280702T110000
DTSTAMP:20260423T195827
CREATED:20250708T225415Z
LAST-MODIFIED:20250708T225415Z
UID:10000420-1846144800-1846148400@di2hearts.com
SUMMARY:Tacoma Center YMCA Gentle Yoga Class
DESCRIPTION:
URL:https://di2hearts.com/event/tacoma-center-ymca-gentle-yoga-class/2028-07-02/
END:VEVENT
BEGIN:VEVENT
DTSTART;TZID=America/Vancouver:20280702T111500
DTEND;TZID=America/Vancouver:20280702T121500
DTSTAMP:20260423T195827
CREATED:20250708T225731Z
LAST-MODIFIED:20250709T163055Z
UID:10000680-1846149300-1846152900@di2hearts.com
SUMMARY:Tacoma Center YMCA Yin Yoga Class
DESCRIPTION:
URL:https://di2hearts.com/event/tacoma-center-ymca-yin-yoga-class/2028-07-02/
END:VEVENT
BEGIN:VEVENT
DTSTART;TZID=America/Vancouver:20280703T103000
DTEND;TZID=America/Vancouver:20280703T113000
DTSTAMP:20260423T195827
CREATED:20250618T214701Z
LAST-MODIFIED:20250708T224748Z
UID:10000160-1846233000-1846236600@di2hearts.com
SUMMARY:Lakewood YMCA Gentle Yoga
DESCRIPTION:
URL:https://di2hearts.com/event/gentle-yoga/2028-07-03/
LOCATION:Lakewood YMCA
END:VEVENT
BEGIN:VEVENT
DTSTART;TZID=America/Vancouver:20280704T123000
DTEND;TZID=America/Vancouver:20280704T131500
DTSTAMP:20260423T195827
CREATED:20250709T163741Z
LAST-MODIFIED:20250709T164250Z
UID:10001201-1846326600-1846329300@di2hearts.com
SUMMARY:Pearl St YMCA Chair Yin Yoga Class
DESCRIPTION:
URL:https://di2hearts.com/event/pearl-st-ymca-chair-yin-or-mat-yoga-class/2028-07-04/
END:VEVENT
BEGIN:VEVENT
DTSTART;TZID=America/Vancouver:20280705T093000
DTEND;TZID=America/Vancouver:20280705T103000
DTSTAMP:20260423T195827
CREATED:20260315T234958Z
LAST-MODIFIED:20260315T234958Z
UID:10001926-1846402200-1846405800@di2hearts.com
SUMMARY:Lakewood YMCA Chair Yin Yoga (or on your mat)
DESCRIPTION:
URL:https://di2hearts.com/event/lakewood-ymca-chair-yin-yoga-or-on-your-mat/2028-07-05/
END:VEVENT
BEGIN:VEVENT
DTSTART;TZID=America/Vancouver:20280705T113000
DTEND;TZID=America/Vancouver:20280705T121500
DTSTAMP:20260423T195827
CREATED:20250709T164030Z
LAST-MODIFIED:20250709T164030Z
UID:10001462-1846409400-1846412100@di2hearts.com
SUMMARY:Pearl St. YMCA Chair Yoga Class
DESCRIPTION:
URL:https://di2hearts.com/event/pearl-st-ymca-chair-yoga-class/2028-07-05/
END:VEVENT
BEGIN:VEVENT
DTSTART;TZID=America/Vancouver:20280709T100000
DTEND;TZID=America/Vancouver:20280709T110000
DTSTAMP:20260423T195827
CREATED:20250708T225415Z
LAST-MODIFIED:20250708T225415Z
UID:10000421-1846749600-1846753200@di2hearts.com
SUMMARY:Tacoma Center YMCA Gentle Yoga Class
DESCRIPTION:
URL:https://di2hearts.com/event/tacoma-center-ymca-gentle-yoga-class/2028-07-09/
END:VEVENT
BEGIN:VEVENT
DTSTART;TZID=America/Vancouver:20280709T111500
DTEND;TZID=America/Vancouver:20280709T121500
DTSTAMP:20260423T195827
CREATED:20250708T225731Z
LAST-MODIFIED:20250709T163055Z
UID:10000681-1846754100-1846757700@di2hearts.com
SUMMARY:Tacoma Center YMCA Yin Yoga Class
DESCRIPTION:
URL:https://di2hearts.com/event/tacoma-center-ymca-yin-yoga-class/2028-07-09/
END:VEVENT
BEGIN:VEVENT
DTSTART;TZID=America/Vancouver:20280710T103000
DTEND;TZID=America/Vancouver:20280710T113000
DTSTAMP:20260423T195827
CREATED:20250618T214701Z
LAST-MODIFIED:20250708T224748Z
UID:10000161-1846837800-1846841400@di2hearts.com
SUMMARY:Lakewood YMCA Gentle Yoga
DESCRIPTION:
URL:https://di2hearts.com/event/gentle-yoga/2028-07-10/
LOCATION:Lakewood YMCA
END:VEVENT
BEGIN:VEVENT
DTSTART;TZID=America/Vancouver:20280711T123000
DTEND;TZID=America/Vancouver:20280711T131500
DTSTAMP:20260423T195827
CREATED:20250709T163741Z
LAST-MODIFIED:20250709T164250Z
UID:10001202-1846931400-1846934100@di2hearts.com
SUMMARY:Pearl St YMCA Chair Yin Yoga Class
DESCRIPTION:
URL:https://di2hearts.com/event/pearl-st-ymca-chair-yin-or-mat-yoga-class/2028-07-11/
END:VEVENT
BEGIN:VEVENT
DTSTART;TZID=America/Vancouver:20280712T093000
DTEND;TZID=America/Vancouver:20280712T103000
DTSTAMP:20260423T195827
CREATED:20260315T234958Z
LAST-MODIFIED:20260315T234958Z
UID:10001927-1847007000-1847010600@di2hearts.com
SUMMARY:Lakewood YMCA Chair Yin Yoga (or on your mat)
DESCRIPTION:
URL:https://di2hearts.com/event/lakewood-ymca-chair-yin-yoga-or-on-your-mat/2028-07-12/
END:VEVENT
BEGIN:VEVENT
DTSTART;TZID=America/Vancouver:20280712T113000
DTEND;TZID=America/Vancouver:20280712T121500
DTSTAMP:20260423T195827
CREATED:20250709T164030Z
LAST-MODIFIED:20250709T164030Z
UID:10001463-1847014200-1847016900@di2hearts.com
SUMMARY:Pearl St. YMCA Chair Yoga Class
DESCRIPTION:
URL:https://di2hearts.com/event/pearl-st-ymca-chair-yoga-class/2028-07-12/
END:VEVENT
BEGIN:VEVENT
DTSTART;TZID=America/Vancouver:20280716T100000
DTEND;TZID=America/Vancouver:20280716T110000
DTSTAMP:20260423T195827
CREATED:20250708T225415Z
LAST-MODIFIED:20250708T225415Z
UID:10000422-1847354400-1847358000@di2hearts.com
SUMMARY:Tacoma Center YMCA Gentle Yoga Class
DESCRIPTION:
URL:https://di2hearts.com/event/tacoma-center-ymca-gentle-yoga-class/2028-07-16/
END:VEVENT
BEGIN:VEVENT
DTSTART;TZID=America/Vancouver:20280716T111500
DTEND;TZID=America/Vancouver:20280716T121500
DTSTAMP:20260423T195827
CREATED:20250708T225731Z
LAST-MODIFIED:20250709T163055Z
UID:10000682-1847358900-1847362500@di2hearts.com
SUMMARY:Tacoma Center YMCA Yin Yoga Class
DESCRIPTION:
URL:https://di2hearts.com/event/tacoma-center-ymca-yin-yoga-class/2028-07-16/
END:VEVENT
BEGIN:VEVENT
DTSTART;TZID=America/Vancouver:20280717T103000
DTEND;TZID=America/Vancouver:20280717T113000
DTSTAMP:20260423T195827
CREATED:20250618T214701Z
LAST-MODIFIED:20250708T224748Z
UID:10000162-1847442600-1847446200@di2hearts.com
SUMMARY:Lakewood YMCA Gentle Yoga
DESCRIPTION:
URL:https://di2hearts.com/event/gentle-yoga/2028-07-17/
LOCATION:Lakewood YMCA
END:VEVENT
BEGIN:VEVENT
DTSTART;TZID=America/Vancouver:20280718T123000
DTEND;TZID=America/Vancouver:20280718T131500
DTSTAMP:20260423T195827
CREATED:20250709T163741Z
LAST-MODIFIED:20250709T164250Z
UID:10001203-1847536200-1847538900@di2hearts.com
SUMMARY:Pearl St YMCA Chair Yin Yoga Class
DESCRIPTION:
URL:https://di2hearts.com/event/pearl-st-ymca-chair-yin-or-mat-yoga-class/2028-07-18/
END:VEVENT
BEGIN:VEVENT
DTSTART;TZID=America/Vancouver:20280719T093000
DTEND;TZID=America/Vancouver:20280719T103000
DTSTAMP:20260423T195827
CREATED:20260315T234958Z
LAST-MODIFIED:20260315T234958Z
UID:10001928-1847611800-1847615400@di2hearts.com
SUMMARY:Lakewood YMCA Chair Yin Yoga (or on your mat)
DESCRIPTION:
URL:https://di2hearts.com/event/lakewood-ymca-chair-yin-yoga-or-on-your-mat/2028-07-19/
END:VEVENT
BEGIN:VEVENT
DTSTART;TZID=America/Vancouver:20280719T113000
DTEND;TZID=America/Vancouver:20280719T121500
DTSTAMP:20260423T195827
CREATED:20250709T164030Z
LAST-MODIFIED:20250709T164030Z
UID:10001464-1847619000-1847621700@di2hearts.com
SUMMARY:Pearl St. YMCA Chair Yoga Class
DESCRIPTION:
URL:https://di2hearts.com/event/pearl-st-ymca-chair-yoga-class/2028-07-19/
END:VEVENT
BEGIN:VEVENT
DTSTART;TZID=America/Vancouver:20280723T100000
DTEND;TZID=America/Vancouver:20280723T110000
DTSTAMP:20260423T195827
CREATED:20250708T225415Z
LAST-MODIFIED:20250708T225415Z
UID:10000423-1847959200-1847962800@di2hearts.com
SUMMARY:Tacoma Center YMCA Gentle Yoga Class
DESCRIPTION:
URL:https://di2hearts.com/event/tacoma-center-ymca-gentle-yoga-class/2028-07-23/
END:VEVENT
BEGIN:VEVENT
DTSTART;TZID=America/Vancouver:20280723T111500
DTEND;TZID=America/Vancouver:20280723T121500
DTSTAMP:20260423T195827
CREATED:20250708T225731Z
LAST-MODIFIED:20250709T163055Z
UID:10000683-1847963700-1847967300@di2hearts.com
SUMMARY:Tacoma Center YMCA Yin Yoga Class
DESCRIPTION:
URL:https://di2hearts.com/event/tacoma-center-ymca-yin-yoga-class/2028-07-23/
END:VEVENT
BEGIN:VEVENT
DTSTART;TZID=America/Vancouver:20280724T103000
DTEND;TZID=America/Vancouver:20280724T113000
DTSTAMP:20260423T195827
CREATED:20250618T214701Z
LAST-MODIFIED:20250708T224748Z
UID:10000163-1848047400-1848051000@di2hearts.com
SUMMARY:Lakewood YMCA Gentle Yoga
DESCRIPTION:
URL:https://di2hearts.com/event/gentle-yoga/2028-07-24/
LOCATION:Lakewood YMCA
END:VEVENT
BEGIN:VEVENT
DTSTART;TZID=America/Vancouver:20280725T123000
DTEND;TZID=America/Vancouver:20280725T131500
DTSTAMP:20260423T195827
CREATED:20250709T163741Z
LAST-MODIFIED:20250709T164250Z
UID:10001204-1848141000-1848143700@di2hearts.com
SUMMARY:Pearl St YMCA Chair Yin Yoga Class
DESCRIPTION:
URL:https://di2hearts.com/event/pearl-st-ymca-chair-yin-or-mat-yoga-class/2028-07-25/
END:VEVENT
BEGIN:VEVENT
DTSTART;TZID=America/Vancouver:20280726T093000
DTEND;TZID=America/Vancouver:20280726T103000
DTSTAMP:20260423T195827
CREATED:20260315T234958Z
LAST-MODIFIED:20260315T234958Z
UID:10001929-1848216600-1848220200@di2hearts.com
SUMMARY:Lakewood YMCA Chair Yin Yoga (or on your mat)
DESCRIPTION:
URL:https://di2hearts.com/event/lakewood-ymca-chair-yin-yoga-or-on-your-mat/2028-07-26/
END:VEVENT
BEGIN:VEVENT
DTSTART;TZID=America/Vancouver:20280726T113000
DTEND;TZID=America/Vancouver:20280726T121500
DTSTAMP:20260423T195827
CREATED:20250709T164030Z
LAST-MODIFIED:20250709T164030Z
UID:10001465-1848223800-1848226500@di2hearts.com
SUMMARY:Pearl St. YMCA Chair Yoga Class
DESCRIPTION:
URL:https://di2hearts.com/event/pearl-st-ymca-chair-yoga-class/2028-07-26/
END:VEVENT
BEGIN:VEVENT
DTSTART;TZID=America/Vancouver:20280730T100000
DTEND;TZID=America/Vancouver:20280730T110000
DTSTAMP:20260423T195827
CREATED:20250708T225415Z
LAST-MODIFIED:20250708T225415Z
UID:10000424-1848564000-1848567600@di2hearts.com
SUMMARY:Tacoma Center YMCA Gentle Yoga Class
DESCRIPTION:
URL:https://di2hearts.com/event/tacoma-center-ymca-gentle-yoga-class/2028-07-30/
END:VEVENT
BEGIN:VEVENT
DTSTART;TZID=America/Vancouver:20280730T111500
DTEND;TZID=America/Vancouver:20280730T121500
DTSTAMP:20260423T195827
CREATED:20250708T225731Z
LAST-MODIFIED:20250709T163055Z
UID:10000684-1848568500-1848572100@di2hearts.com
SUMMARY:Tacoma Center YMCA Yin Yoga Class
DESCRIPTION:
URL:https://di2hearts.com/event/tacoma-center-ymca-yin-yoga-class/2028-07-30/
END:VEVENT
BEGIN:VEVENT
DTSTART;TZID=America/Vancouver:20280731T103000
DTEND;TZID=America/Vancouver:20280731T113000
DTSTAMP:20260423T195827
CREATED:20250618T214701Z
LAST-MODIFIED:20250708T224748Z
UID:10000164-1848652200-1848655800@di2hearts.com
SUMMARY:Lakewood YMCA Gentle Yoga
DESCRIPTION:
URL:https://di2hearts.com/event/gentle-yoga/2028-07-31/
LOCATION:Lakewood YMCA
END:VEVENT
END:VCALENDAR