BEGIN:VCALENDAR
VERSION:2.0
PRODID:-//Di2hearts - ECPv6.15.20//NONSGML v1.0//EN
CALSCALE:GREGORIAN
METHOD:PUBLISH
X-WR-CALNAME:Di2hearts
X-ORIGINAL-URL:https://di2hearts.com
X-WR-CALDESC:Events for Di2hearts
REFRESH-INTERVAL;VALUE=DURATION:PT1H
X-Robots-Tag:noindex
X-PUBLISHED-TTL:PT1H
BEGIN:VTIMEZONE
TZID:America/Vancouver
BEGIN:DAYLIGHT
TZOFFSETFROM:-0800
TZOFFSETTO:-0700
TZNAME:PDT
DTSTART:20270314T100000
END:DAYLIGHT
BEGIN:STANDARD
TZOFFSETFROM:-0700
TZOFFSETTO:-0800
TZNAME:PST
DTSTART:20271107T090000
END:STANDARD
BEGIN:DAYLIGHT
TZOFFSETFROM:-0800
TZOFFSETTO:-0700
TZNAME:PDT
DTSTART:20280312T100000
END:DAYLIGHT
BEGIN:STANDARD
TZOFFSETFROM:-0700
TZOFFSETTO:-0800
TZNAME:PST
DTSTART:20281105T090000
END:STANDARD
BEGIN:DAYLIGHT
TZOFFSETFROM:-0800
TZOFFSETTO:-0700
TZNAME:PDT
DTSTART:20290311T100000
END:DAYLIGHT
BEGIN:STANDARD
TZOFFSETFROM:-0700
TZOFFSETTO:-0800
TZNAME:PST
DTSTART:20291104T090000
END:STANDARD
END:VTIMEZONE
BEGIN:VEVENT
DTSTART;TZID=America/Vancouver:20280903T100000
DTEND;TZID=America/Vancouver:20280903T110000
DTSTAMP:20260423T230946
CREATED:20250708T225415Z
LAST-MODIFIED:20250708T225415Z
UID:10000429-1851588000-1851591600@di2hearts.com
SUMMARY:Tacoma Center YMCA Gentle Yoga Class
DESCRIPTION:
URL:https://di2hearts.com/event/tacoma-center-ymca-gentle-yoga-class/2028-09-03/
END:VEVENT
BEGIN:VEVENT
DTSTART;TZID=America/Vancouver:20280903T111500
DTEND;TZID=America/Vancouver:20280903T121500
DTSTAMP:20260423T230946
CREATED:20250708T225731Z
LAST-MODIFIED:20250709T163055Z
UID:10000689-1851592500-1851596100@di2hearts.com
SUMMARY:Tacoma Center YMCA Yin Yoga Class
DESCRIPTION:
URL:https://di2hearts.com/event/tacoma-center-ymca-yin-yoga-class/2028-09-03/
END:VEVENT
BEGIN:VEVENT
DTSTART;TZID=America/Vancouver:20280904T103000
DTEND;TZID=America/Vancouver:20280904T113000
DTSTAMP:20260423T230946
CREATED:20250618T214701Z
LAST-MODIFIED:20250708T224748Z
UID:10000169-1851676200-1851679800@di2hearts.com
SUMMARY:Lakewood YMCA Gentle Yoga
DESCRIPTION:
URL:https://di2hearts.com/event/gentle-yoga/2028-09-04/
LOCATION:Lakewood YMCA
END:VEVENT
BEGIN:VEVENT
DTSTART;TZID=America/Vancouver:20280905T123000
DTEND;TZID=America/Vancouver:20280905T131500
DTSTAMP:20260423T230946
CREATED:20250709T163741Z
LAST-MODIFIED:20250709T164250Z
UID:10001210-1851769800-1851772500@di2hearts.com
SUMMARY:Pearl St YMCA Chair Yin Yoga Class
DESCRIPTION:
URL:https://di2hearts.com/event/pearl-st-ymca-chair-yin-or-mat-yoga-class/2028-09-05/
END:VEVENT
BEGIN:VEVENT
DTSTART;TZID=America/Vancouver:20280906T093000
DTEND;TZID=America/Vancouver:20280906T103000
DTSTAMP:20260423T230946
CREATED:20260315T234958Z
LAST-MODIFIED:20260315T234958Z
UID:10001935-1851845400-1851849000@di2hearts.com
SUMMARY:Lakewood YMCA Chair Yin Yoga (or on your mat)
DESCRIPTION:
URL:https://di2hearts.com/event/lakewood-ymca-chair-yin-yoga-or-on-your-mat/2028-09-06/
END:VEVENT
BEGIN:VEVENT
DTSTART;TZID=America/Vancouver:20280906T113000
DTEND;TZID=America/Vancouver:20280906T121500
DTSTAMP:20260423T230946
CREATED:20250709T164030Z
LAST-MODIFIED:20250709T164030Z
UID:10001471-1851852600-1851855300@di2hearts.com
SUMMARY:Pearl St. YMCA Chair Yoga Class
DESCRIPTION:
URL:https://di2hearts.com/event/pearl-st-ymca-chair-yoga-class/2028-09-06/
END:VEVENT
BEGIN:VEVENT
DTSTART;TZID=America/Vancouver:20280910T100000
DTEND;TZID=America/Vancouver:20280910T110000
DTSTAMP:20260423T230946
CREATED:20250708T225415Z
LAST-MODIFIED:20250708T225415Z
UID:10000430-1852192800-1852196400@di2hearts.com
SUMMARY:Tacoma Center YMCA Gentle Yoga Class
DESCRIPTION:
URL:https://di2hearts.com/event/tacoma-center-ymca-gentle-yoga-class/2028-09-10/
END:VEVENT
BEGIN:VEVENT
DTSTART;TZID=America/Vancouver:20280910T111500
DTEND;TZID=America/Vancouver:20280910T121500
DTSTAMP:20260423T230946
CREATED:20250708T225731Z
LAST-MODIFIED:20250709T163055Z
UID:10000690-1852197300-1852200900@di2hearts.com
SUMMARY:Tacoma Center YMCA Yin Yoga Class
DESCRIPTION:
URL:https://di2hearts.com/event/tacoma-center-ymca-yin-yoga-class/2028-09-10/
END:VEVENT
BEGIN:VEVENT
DTSTART;TZID=America/Vancouver:20280911T103000
DTEND;TZID=America/Vancouver:20280911T113000
DTSTAMP:20260423T230946
CREATED:20250618T214701Z
LAST-MODIFIED:20250708T224748Z
UID:10000170-1852281000-1852284600@di2hearts.com
SUMMARY:Lakewood YMCA Gentle Yoga
DESCRIPTION:
URL:https://di2hearts.com/event/gentle-yoga/2028-09-11/
LOCATION:Lakewood YMCA
END:VEVENT
BEGIN:VEVENT
DTSTART;TZID=America/Vancouver:20280912T123000
DTEND;TZID=America/Vancouver:20280912T131500
DTSTAMP:20260423T230946
CREATED:20250709T163741Z
LAST-MODIFIED:20250709T164250Z
UID:10001211-1852374600-1852377300@di2hearts.com
SUMMARY:Pearl St YMCA Chair Yin Yoga Class
DESCRIPTION:
URL:https://di2hearts.com/event/pearl-st-ymca-chair-yin-or-mat-yoga-class/2028-09-12/
END:VEVENT
BEGIN:VEVENT
DTSTART;TZID=America/Vancouver:20280913T093000
DTEND;TZID=America/Vancouver:20280913T103000
DTSTAMP:20260423T230946
CREATED:20260315T234958Z
LAST-MODIFIED:20260315T234958Z
UID:10001936-1852450200-1852453800@di2hearts.com
SUMMARY:Lakewood YMCA Chair Yin Yoga (or on your mat)
DESCRIPTION:
URL:https://di2hearts.com/event/lakewood-ymca-chair-yin-yoga-or-on-your-mat/2028-09-13/
END:VEVENT
BEGIN:VEVENT
DTSTART;TZID=America/Vancouver:20280913T113000
DTEND;TZID=America/Vancouver:20280913T121500
DTSTAMP:20260423T230946
CREATED:20250709T164030Z
LAST-MODIFIED:20250709T164030Z
UID:10001472-1852457400-1852460100@di2hearts.com
SUMMARY:Pearl St. YMCA Chair Yoga Class
DESCRIPTION:
URL:https://di2hearts.com/event/pearl-st-ymca-chair-yoga-class/2028-09-13/
END:VEVENT
BEGIN:VEVENT
DTSTART;TZID=America/Vancouver:20280917T100000
DTEND;TZID=America/Vancouver:20280917T110000
DTSTAMP:20260423T230946
CREATED:20250708T225415Z
LAST-MODIFIED:20250708T225415Z
UID:10000431-1852797600-1852801200@di2hearts.com
SUMMARY:Tacoma Center YMCA Gentle Yoga Class
DESCRIPTION:
URL:https://di2hearts.com/event/tacoma-center-ymca-gentle-yoga-class/2028-09-17/
END:VEVENT
BEGIN:VEVENT
DTSTART;TZID=America/Vancouver:20280917T111500
DTEND;TZID=America/Vancouver:20280917T121500
DTSTAMP:20260423T230946
CREATED:20250708T225731Z
LAST-MODIFIED:20250709T163055Z
UID:10000691-1852802100-1852805700@di2hearts.com
SUMMARY:Tacoma Center YMCA Yin Yoga Class
DESCRIPTION:
URL:https://di2hearts.com/event/tacoma-center-ymca-yin-yoga-class/2028-09-17/
END:VEVENT
BEGIN:VEVENT
DTSTART;TZID=America/Vancouver:20280918T103000
DTEND;TZID=America/Vancouver:20280918T113000
DTSTAMP:20260423T230946
CREATED:20250618T214701Z
LAST-MODIFIED:20250708T224748Z
UID:10000171-1852885800-1852889400@di2hearts.com
SUMMARY:Lakewood YMCA Gentle Yoga
DESCRIPTION:
URL:https://di2hearts.com/event/gentle-yoga/2028-09-18/
LOCATION:Lakewood YMCA
END:VEVENT
BEGIN:VEVENT
DTSTART;TZID=America/Vancouver:20280919T123000
DTEND;TZID=America/Vancouver:20280919T131500
DTSTAMP:20260423T230946
CREATED:20250709T163741Z
LAST-MODIFIED:20250709T164250Z
UID:10001212-1852979400-1852982100@di2hearts.com
SUMMARY:Pearl St YMCA Chair Yin Yoga Class
DESCRIPTION:
URL:https://di2hearts.com/event/pearl-st-ymca-chair-yin-or-mat-yoga-class/2028-09-19/
END:VEVENT
BEGIN:VEVENT
DTSTART;TZID=America/Vancouver:20280920T093000
DTEND;TZID=America/Vancouver:20280920T103000
DTSTAMP:20260423T230946
CREATED:20260315T234958Z
LAST-MODIFIED:20260315T234958Z
UID:10001937-1853055000-1853058600@di2hearts.com
SUMMARY:Lakewood YMCA Chair Yin Yoga (or on your mat)
DESCRIPTION:
URL:https://di2hearts.com/event/lakewood-ymca-chair-yin-yoga-or-on-your-mat/2028-09-20/
END:VEVENT
BEGIN:VEVENT
DTSTART;TZID=America/Vancouver:20280920T113000
DTEND;TZID=America/Vancouver:20280920T121500
DTSTAMP:20260423T230946
CREATED:20250709T164030Z
LAST-MODIFIED:20250709T164030Z
UID:10001473-1853062200-1853064900@di2hearts.com
SUMMARY:Pearl St. YMCA Chair Yoga Class
DESCRIPTION:
URL:https://di2hearts.com/event/pearl-st-ymca-chair-yoga-class/2028-09-20/
END:VEVENT
BEGIN:VEVENT
DTSTART;TZID=America/Vancouver:20280924T100000
DTEND;TZID=America/Vancouver:20280924T110000
DTSTAMP:20260423T230946
CREATED:20250708T225415Z
LAST-MODIFIED:20250708T225415Z
UID:10000432-1853402400-1853406000@di2hearts.com
SUMMARY:Tacoma Center YMCA Gentle Yoga Class
DESCRIPTION:
URL:https://di2hearts.com/event/tacoma-center-ymca-gentle-yoga-class/2028-09-24/
END:VEVENT
BEGIN:VEVENT
DTSTART;TZID=America/Vancouver:20280924T111500
DTEND;TZID=America/Vancouver:20280924T121500
DTSTAMP:20260423T230946
CREATED:20250708T225731Z
LAST-MODIFIED:20250709T163055Z
UID:10000692-1853406900-1853410500@di2hearts.com
SUMMARY:Tacoma Center YMCA Yin Yoga Class
DESCRIPTION:
URL:https://di2hearts.com/event/tacoma-center-ymca-yin-yoga-class/2028-09-24/
END:VEVENT
BEGIN:VEVENT
DTSTART;TZID=America/Vancouver:20280925T103000
DTEND;TZID=America/Vancouver:20280925T113000
DTSTAMP:20260423T230946
CREATED:20250618T214701Z
LAST-MODIFIED:20250708T224748Z
UID:10000172-1853490600-1853494200@di2hearts.com
SUMMARY:Lakewood YMCA Gentle Yoga
DESCRIPTION:
URL:https://di2hearts.com/event/gentle-yoga/2028-09-25/
LOCATION:Lakewood YMCA
END:VEVENT
BEGIN:VEVENT
DTSTART;TZID=America/Vancouver:20280926T123000
DTEND;TZID=America/Vancouver:20280926T131500
DTSTAMP:20260423T230946
CREATED:20250709T163741Z
LAST-MODIFIED:20250709T164250Z
UID:10001213-1853584200-1853586900@di2hearts.com
SUMMARY:Pearl St YMCA Chair Yin Yoga Class
DESCRIPTION:
URL:https://di2hearts.com/event/pearl-st-ymca-chair-yin-or-mat-yoga-class/2028-09-26/
END:VEVENT
BEGIN:VEVENT
DTSTART;TZID=America/Vancouver:20280927T093000
DTEND;TZID=America/Vancouver:20280927T103000
DTSTAMP:20260423T230946
CREATED:20260315T234958Z
LAST-MODIFIED:20260315T234958Z
UID:10001938-1853659800-1853663400@di2hearts.com
SUMMARY:Lakewood YMCA Chair Yin Yoga (or on your mat)
DESCRIPTION:
URL:https://di2hearts.com/event/lakewood-ymca-chair-yin-yoga-or-on-your-mat/2028-09-27/
END:VEVENT
BEGIN:VEVENT
DTSTART;TZID=America/Vancouver:20280927T113000
DTEND;TZID=America/Vancouver:20280927T121500
DTSTAMP:20260423T230946
CREATED:20250709T164030Z
LAST-MODIFIED:20250709T164030Z
UID:10001474-1853667000-1853669700@di2hearts.com
SUMMARY:Pearl St. YMCA Chair Yoga Class
DESCRIPTION:
URL:https://di2hearts.com/event/pearl-st-ymca-chair-yoga-class/2028-09-27/
END:VEVENT
END:VCALENDAR