BEGIN:VCALENDAR
VERSION:2.0
PRODID:-//Di2hearts - ECPv6.15.20//NONSGML v1.0//EN
CALSCALE:GREGORIAN
METHOD:PUBLISH
X-ORIGINAL-URL:https://di2hearts.com
X-WR-CALDESC:Events for Di2hearts
REFRESH-INTERVAL;VALUE=DURATION:PT1H
X-Robots-Tag:noindex
X-PUBLISHED-TTL:PT1H
BEGIN:VTIMEZONE
TZID:America/Vancouver
BEGIN:DAYLIGHT
TZOFFSETFROM:-0800
TZOFFSETTO:-0700
TZNAME:PDT
DTSTART:20270314T100000
END:DAYLIGHT
BEGIN:STANDARD
TZOFFSETFROM:-0700
TZOFFSETTO:-0800
TZNAME:PST
DTSTART:20271107T090000
END:STANDARD
BEGIN:DAYLIGHT
TZOFFSETFROM:-0800
TZOFFSETTO:-0700
TZNAME:PDT
DTSTART:20280312T100000
END:DAYLIGHT
BEGIN:STANDARD
TZOFFSETFROM:-0700
TZOFFSETTO:-0800
TZNAME:PST
DTSTART:20281105T090000
END:STANDARD
BEGIN:DAYLIGHT
TZOFFSETFROM:-0800
TZOFFSETTO:-0700
TZNAME:PDT
DTSTART:20290311T100000
END:DAYLIGHT
BEGIN:STANDARD
TZOFFSETFROM:-0700
TZOFFSETTO:-0800
TZNAME:PST
DTSTART:20291104T090000
END:STANDARD
END:VTIMEZONE
BEGIN:VEVENT
DTSTART;TZID=America/Vancouver:20281001T100000
DTEND;TZID=America/Vancouver:20281001T110000
DTSTAMP:20260424T004111
CREATED:20250708T225415Z
LAST-MODIFIED:20250708T225415Z
UID:10000433-1854007200-1854010800@di2hearts.com
SUMMARY:Tacoma Center YMCA Gentle Yoga Class
DESCRIPTION:
URL:https://di2hearts.com/event/tacoma-center-ymca-gentle-yoga-class/2028-10-01/
END:VEVENT
BEGIN:VEVENT
DTSTART;TZID=America/Vancouver:20281001T111500
DTEND;TZID=America/Vancouver:20281001T121500
DTSTAMP:20260424T004111
CREATED:20250708T225731Z
LAST-MODIFIED:20250709T163055Z
UID:10000693-1854011700-1854015300@di2hearts.com
SUMMARY:Tacoma Center YMCA Yin Yoga Class
DESCRIPTION:
URL:https://di2hearts.com/event/tacoma-center-ymca-yin-yoga-class/2028-10-01/
END:VEVENT
BEGIN:VEVENT
DTSTART;TZID=America/Vancouver:20281002T103000
DTEND;TZID=America/Vancouver:20281002T113000
DTSTAMP:20260424T004111
CREATED:20250618T214701Z
LAST-MODIFIED:20250708T224748Z
UID:10000173-1854095400-1854099000@di2hearts.com
SUMMARY:Lakewood YMCA Gentle Yoga
DESCRIPTION:
URL:https://di2hearts.com/event/gentle-yoga/2028-10-02/
LOCATION:Lakewood YMCA
END:VEVENT
BEGIN:VEVENT
DTSTART;TZID=America/Vancouver:20281003T123000
DTEND;TZID=America/Vancouver:20281003T131500
DTSTAMP:20260424T004111
CREATED:20250709T163741Z
LAST-MODIFIED:20250709T164250Z
UID:10001214-1854189000-1854191700@di2hearts.com
SUMMARY:Pearl St YMCA Chair Yin Yoga Class
DESCRIPTION:
URL:https://di2hearts.com/event/pearl-st-ymca-chair-yin-or-mat-yoga-class/2028-10-03/
END:VEVENT
BEGIN:VEVENT
DTSTART;TZID=America/Vancouver:20281004T093000
DTEND;TZID=America/Vancouver:20281004T103000
DTSTAMP:20260424T004111
CREATED:20260315T234958Z
LAST-MODIFIED:20260315T234958Z
UID:10001939-1854264600-1854268200@di2hearts.com
SUMMARY:Lakewood YMCA Chair Yin Yoga (or on your mat)
DESCRIPTION:
URL:https://di2hearts.com/event/lakewood-ymca-chair-yin-yoga-or-on-your-mat/2028-10-04/
END:VEVENT
BEGIN:VEVENT
DTSTART;TZID=America/Vancouver:20281004T113000
DTEND;TZID=America/Vancouver:20281004T121500
DTSTAMP:20260424T004111
CREATED:20250709T164030Z
LAST-MODIFIED:20250709T164030Z
UID:10001475-1854271800-1854274500@di2hearts.com
SUMMARY:Pearl St. YMCA Chair Yoga Class
DESCRIPTION:
URL:https://di2hearts.com/event/pearl-st-ymca-chair-yoga-class/2028-10-04/
END:VEVENT
BEGIN:VEVENT
DTSTART;TZID=America/Vancouver:20281008T100000
DTEND;TZID=America/Vancouver:20281008T110000
DTSTAMP:20260424T004111
CREATED:20250708T225415Z
LAST-MODIFIED:20250708T225415Z
UID:10000434-1854612000-1854615600@di2hearts.com
SUMMARY:Tacoma Center YMCA Gentle Yoga Class
DESCRIPTION:
URL:https://di2hearts.com/event/tacoma-center-ymca-gentle-yoga-class/2028-10-08/
END:VEVENT
BEGIN:VEVENT
DTSTART;TZID=America/Vancouver:20281008T111500
DTEND;TZID=America/Vancouver:20281008T121500
DTSTAMP:20260424T004111
CREATED:20250708T225731Z
LAST-MODIFIED:20250709T163055Z
UID:10000694-1854616500-1854620100@di2hearts.com
SUMMARY:Tacoma Center YMCA Yin Yoga Class
DESCRIPTION:
URL:https://di2hearts.com/event/tacoma-center-ymca-yin-yoga-class/2028-10-08/
END:VEVENT
BEGIN:VEVENT
DTSTART;TZID=America/Vancouver:20281009T103000
DTEND;TZID=America/Vancouver:20281009T113000
DTSTAMP:20260424T004111
CREATED:20250618T214701Z
LAST-MODIFIED:20250708T224748Z
UID:10000174-1854700200-1854703800@di2hearts.com
SUMMARY:Lakewood YMCA Gentle Yoga
DESCRIPTION:
URL:https://di2hearts.com/event/gentle-yoga/2028-10-09/
LOCATION:Lakewood YMCA
END:VEVENT
BEGIN:VEVENT
DTSTART;TZID=America/Vancouver:20281010T123000
DTEND;TZID=America/Vancouver:20281010T131500
DTSTAMP:20260424T004111
CREATED:20250709T163741Z
LAST-MODIFIED:20250709T164250Z
UID:10001215-1854793800-1854796500@di2hearts.com
SUMMARY:Pearl St YMCA Chair Yin Yoga Class
DESCRIPTION:
URL:https://di2hearts.com/event/pearl-st-ymca-chair-yin-or-mat-yoga-class/2028-10-10/
END:VEVENT
BEGIN:VEVENT
DTSTART;TZID=America/Vancouver:20281011T093000
DTEND;TZID=America/Vancouver:20281011T103000
DTSTAMP:20260424T004111
CREATED:20260315T234958Z
LAST-MODIFIED:20260315T234958Z
UID:10001940-1854869400-1854873000@di2hearts.com
SUMMARY:Lakewood YMCA Chair Yin Yoga (or on your mat)
DESCRIPTION:
URL:https://di2hearts.com/event/lakewood-ymca-chair-yin-yoga-or-on-your-mat/2028-10-11/
END:VEVENT
BEGIN:VEVENT
DTSTART;TZID=America/Vancouver:20281011T113000
DTEND;TZID=America/Vancouver:20281011T121500
DTSTAMP:20260424T004111
CREATED:20250709T164030Z
LAST-MODIFIED:20250709T164030Z
UID:10001476-1854876600-1854879300@di2hearts.com
SUMMARY:Pearl St. YMCA Chair Yoga Class
DESCRIPTION:
URL:https://di2hearts.com/event/pearl-st-ymca-chair-yoga-class/2028-10-11/
END:VEVENT
BEGIN:VEVENT
DTSTART;TZID=America/Vancouver:20281015T100000
DTEND;TZID=America/Vancouver:20281015T110000
DTSTAMP:20260424T004111
CREATED:20250708T225415Z
LAST-MODIFIED:20250708T225415Z
UID:10000435-1855216800-1855220400@di2hearts.com
SUMMARY:Tacoma Center YMCA Gentle Yoga Class
DESCRIPTION:
URL:https://di2hearts.com/event/tacoma-center-ymca-gentle-yoga-class/2028-10-15/
END:VEVENT
BEGIN:VEVENT
DTSTART;TZID=America/Vancouver:20281015T111500
DTEND;TZID=America/Vancouver:20281015T121500
DTSTAMP:20260424T004111
CREATED:20250708T225731Z
LAST-MODIFIED:20250709T163055Z
UID:10000695-1855221300-1855224900@di2hearts.com
SUMMARY:Tacoma Center YMCA Yin Yoga Class
DESCRIPTION:
URL:https://di2hearts.com/event/tacoma-center-ymca-yin-yoga-class/2028-10-15/
END:VEVENT
BEGIN:VEVENT
DTSTART;TZID=America/Vancouver:20281016T103000
DTEND;TZID=America/Vancouver:20281016T113000
DTSTAMP:20260424T004111
CREATED:20250618T214701Z
LAST-MODIFIED:20250708T224748Z
UID:10000175-1855305000-1855308600@di2hearts.com
SUMMARY:Lakewood YMCA Gentle Yoga
DESCRIPTION:
URL:https://di2hearts.com/event/gentle-yoga/2028-10-16/
LOCATION:Lakewood YMCA
END:VEVENT
BEGIN:VEVENT
DTSTART;TZID=America/Vancouver:20281017T123000
DTEND;TZID=America/Vancouver:20281017T131500
DTSTAMP:20260424T004111
CREATED:20250709T163741Z
LAST-MODIFIED:20250709T164250Z
UID:10001216-1855398600-1855401300@di2hearts.com
SUMMARY:Pearl St YMCA Chair Yin Yoga Class
DESCRIPTION:
URL:https://di2hearts.com/event/pearl-st-ymca-chair-yin-or-mat-yoga-class/2028-10-17/
END:VEVENT
BEGIN:VEVENT
DTSTART;TZID=America/Vancouver:20281018T093000
DTEND;TZID=America/Vancouver:20281018T103000
DTSTAMP:20260424T004111
CREATED:20260315T234958Z
LAST-MODIFIED:20260315T234958Z
UID:10001941-1855474200-1855477800@di2hearts.com
SUMMARY:Lakewood YMCA Chair Yin Yoga (or on your mat)
DESCRIPTION:
URL:https://di2hearts.com/event/lakewood-ymca-chair-yin-yoga-or-on-your-mat/2028-10-18/
END:VEVENT
BEGIN:VEVENT
DTSTART;TZID=America/Vancouver:20281018T113000
DTEND;TZID=America/Vancouver:20281018T121500
DTSTAMP:20260424T004111
CREATED:20250709T164030Z
LAST-MODIFIED:20250709T164030Z
UID:10001477-1855481400-1855484100@di2hearts.com
SUMMARY:Pearl St. YMCA Chair Yoga Class
DESCRIPTION:
URL:https://di2hearts.com/event/pearl-st-ymca-chair-yoga-class/2028-10-18/
END:VEVENT
BEGIN:VEVENT
DTSTART;TZID=America/Vancouver:20281022T100000
DTEND;TZID=America/Vancouver:20281022T110000
DTSTAMP:20260424T004111
CREATED:20250708T225415Z
LAST-MODIFIED:20250708T225415Z
UID:10000436-1855821600-1855825200@di2hearts.com
SUMMARY:Tacoma Center YMCA Gentle Yoga Class
DESCRIPTION:
URL:https://di2hearts.com/event/tacoma-center-ymca-gentle-yoga-class/2028-10-22/
END:VEVENT
BEGIN:VEVENT
DTSTART;TZID=America/Vancouver:20281022T111500
DTEND;TZID=America/Vancouver:20281022T121500
DTSTAMP:20260424T004111
CREATED:20250708T225731Z
LAST-MODIFIED:20250709T163055Z
UID:10000696-1855826100-1855829700@di2hearts.com
SUMMARY:Tacoma Center YMCA Yin Yoga Class
DESCRIPTION:
URL:https://di2hearts.com/event/tacoma-center-ymca-yin-yoga-class/2028-10-22/
END:VEVENT
BEGIN:VEVENT
DTSTART;TZID=America/Vancouver:20281023T103000
DTEND;TZID=America/Vancouver:20281023T113000
DTSTAMP:20260424T004111
CREATED:20250618T214701Z
LAST-MODIFIED:20250708T224748Z
UID:10000176-1855909800-1855913400@di2hearts.com
SUMMARY:Lakewood YMCA Gentle Yoga
DESCRIPTION:
URL:https://di2hearts.com/event/gentle-yoga/2028-10-23/
LOCATION:Lakewood YMCA
END:VEVENT
BEGIN:VEVENT
DTSTART;TZID=America/Vancouver:20281024T123000
DTEND;TZID=America/Vancouver:20281024T131500
DTSTAMP:20260424T004111
CREATED:20250709T163741Z
LAST-MODIFIED:20250709T164250Z
UID:10001217-1856003400-1856006100@di2hearts.com
SUMMARY:Pearl St YMCA Chair Yin Yoga Class
DESCRIPTION:
URL:https://di2hearts.com/event/pearl-st-ymca-chair-yin-or-mat-yoga-class/2028-10-24/
END:VEVENT
BEGIN:VEVENT
DTSTART;TZID=America/Vancouver:20281025T093000
DTEND;TZID=America/Vancouver:20281025T103000
DTSTAMP:20260424T004111
CREATED:20260315T234958Z
LAST-MODIFIED:20260315T234958Z
UID:10001942-1856079000-1856082600@di2hearts.com
SUMMARY:Lakewood YMCA Chair Yin Yoga (or on your mat)
DESCRIPTION:
URL:https://di2hearts.com/event/lakewood-ymca-chair-yin-yoga-or-on-your-mat/2028-10-25/
END:VEVENT
BEGIN:VEVENT
DTSTART;TZID=America/Vancouver:20281025T113000
DTEND;TZID=America/Vancouver:20281025T121500
DTSTAMP:20260424T004111
CREATED:20250709T164030Z
LAST-MODIFIED:20250709T164030Z
UID:10001478-1856086200-1856088900@di2hearts.com
SUMMARY:Pearl St. YMCA Chair Yoga Class
DESCRIPTION:
URL:https://di2hearts.com/event/pearl-st-ymca-chair-yoga-class/2028-10-25/
END:VEVENT
BEGIN:VEVENT
DTSTART;TZID=America/Vancouver:20281029T100000
DTEND;TZID=America/Vancouver:20281029T110000
DTSTAMP:20260424T004111
CREATED:20250708T225415Z
LAST-MODIFIED:20250708T225415Z
UID:10000437-1856426400-1856430000@di2hearts.com
SUMMARY:Tacoma Center YMCA Gentle Yoga Class
DESCRIPTION:
URL:https://di2hearts.com/event/tacoma-center-ymca-gentle-yoga-class/2028-10-29/
END:VEVENT
BEGIN:VEVENT
DTSTART;TZID=America/Vancouver:20281029T111500
DTEND;TZID=America/Vancouver:20281029T121500
DTSTAMP:20260424T004111
CREATED:20250708T225731Z
LAST-MODIFIED:20250709T163055Z
UID:10000697-1856430900-1856434500@di2hearts.com
SUMMARY:Tacoma Center YMCA Yin Yoga Class
DESCRIPTION:
URL:https://di2hearts.com/event/tacoma-center-ymca-yin-yoga-class/2028-10-29/
END:VEVENT
BEGIN:VEVENT
DTSTART;TZID=America/Vancouver:20281030T103000
DTEND;TZID=America/Vancouver:20281030T113000
DTSTAMP:20260424T004111
CREATED:20250618T214701Z
LAST-MODIFIED:20250708T224748Z
UID:10000177-1856514600-1856518200@di2hearts.com
SUMMARY:Lakewood YMCA Gentle Yoga
DESCRIPTION:
URL:https://di2hearts.com/event/gentle-yoga/2028-10-30/
LOCATION:Lakewood YMCA
END:VEVENT
BEGIN:VEVENT
DTSTART;TZID=America/Vancouver:20281031T123000
DTEND;TZID=America/Vancouver:20281031T131500
DTSTAMP:20260424T004111
CREATED:20250709T163741Z
LAST-MODIFIED:20250709T164250Z
UID:10001218-1856608200-1856610900@di2hearts.com
SUMMARY:Pearl St YMCA Chair Yin Yoga Class
DESCRIPTION:
URL:https://di2hearts.com/event/pearl-st-ymca-chair-yin-or-mat-yoga-class/2028-10-31/
END:VEVENT
END:VCALENDAR