BEGIN:VCALENDAR
VERSION:2.0
PRODID:-//Di2hearts - ECPv6.15.20//NONSGML v1.0//EN
CALSCALE:GREGORIAN
METHOD:PUBLISH
X-WR-CALNAME:Di2hearts
X-ORIGINAL-URL:https://di2hearts.com
X-WR-CALDESC:Events for Di2hearts
REFRESH-INTERVAL;VALUE=DURATION:PT1H
X-Robots-Tag:noindex
X-PUBLISHED-TTL:PT1H
BEGIN:VTIMEZONE
TZID:America/Vancouver
BEGIN:DAYLIGHT
TZOFFSETFROM:-0800
TZOFFSETTO:-0700
TZNAME:PDT
DTSTART:20270314T100000
END:DAYLIGHT
BEGIN:STANDARD
TZOFFSETFROM:-0700
TZOFFSETTO:-0800
TZNAME:PST
DTSTART:20271107T090000
END:STANDARD
BEGIN:DAYLIGHT
TZOFFSETFROM:-0800
TZOFFSETTO:-0700
TZNAME:PDT
DTSTART:20280312T100000
END:DAYLIGHT
BEGIN:STANDARD
TZOFFSETFROM:-0700
TZOFFSETTO:-0800
TZNAME:PST
DTSTART:20281105T090000
END:STANDARD
BEGIN:DAYLIGHT
TZOFFSETFROM:-0800
TZOFFSETTO:-0700
TZNAME:PDT
DTSTART:20290311T100000
END:DAYLIGHT
BEGIN:STANDARD
TZOFFSETFROM:-0700
TZOFFSETTO:-0800
TZNAME:PST
DTSTART:20291104T090000
END:STANDARD
BEGIN:DAYLIGHT
TZOFFSETFROM:-0800
TZOFFSETTO:-0700
TZNAME:PDT
DTSTART:20300310T100000
END:DAYLIGHT
BEGIN:STANDARD
TZOFFSETFROM:-0700
TZOFFSETTO:-0800
TZNAME:PST
DTSTART:20301103T090000
END:STANDARD
END:VTIMEZONE
BEGIN:VEVENT
DTSTART;TZID=America/Vancouver:20280814T103000
DTEND;TZID=America/Vancouver:20280814T113000
DTSTAMP:20260423T064626
CREATED:20250618T214701Z
LAST-MODIFIED:20250708T224748Z
UID:10000166-1849861800-1849865400@di2hearts.com
SUMMARY:Lakewood YMCA Gentle Yoga
DESCRIPTION:
URL:https://di2hearts.com/event/gentle-yoga/2028-08-14/
LOCATION:Lakewood YMCA
END:VEVENT
BEGIN:VEVENT
DTSTART;TZID=America/Vancouver:20280821T103000
DTEND;TZID=America/Vancouver:20280821T113000
DTSTAMP:20260423T064626
CREATED:20250618T214701Z
LAST-MODIFIED:20250708T224748Z
UID:10000167-1850466600-1850470200@di2hearts.com
SUMMARY:Lakewood YMCA Gentle Yoga
DESCRIPTION:
URL:https://di2hearts.com/event/gentle-yoga/2028-08-21/
LOCATION:Lakewood YMCA
END:VEVENT
BEGIN:VEVENT
DTSTART;TZID=America/Vancouver:20280828T103000
DTEND;TZID=America/Vancouver:20280828T113000
DTSTAMP:20260423T064626
CREATED:20250618T214701Z
LAST-MODIFIED:20250708T224748Z
UID:10000168-1851071400-1851075000@di2hearts.com
SUMMARY:Lakewood YMCA Gentle Yoga
DESCRIPTION:
URL:https://di2hearts.com/event/gentle-yoga/2028-08-28/
LOCATION:Lakewood YMCA
END:VEVENT
BEGIN:VEVENT
DTSTART;TZID=America/Vancouver:20280904T103000
DTEND;TZID=America/Vancouver:20280904T113000
DTSTAMP:20260423T064626
CREATED:20250618T214701Z
LAST-MODIFIED:20250708T224748Z
UID:10000169-1851676200-1851679800@di2hearts.com
SUMMARY:Lakewood YMCA Gentle Yoga
DESCRIPTION:
URL:https://di2hearts.com/event/gentle-yoga/2028-09-04/
LOCATION:Lakewood YMCA
END:VEVENT
BEGIN:VEVENT
DTSTART;TZID=America/Vancouver:20280911T103000
DTEND;TZID=America/Vancouver:20280911T113000
DTSTAMP:20260423T064626
CREATED:20250618T214701Z
LAST-MODIFIED:20250708T224748Z
UID:10000170-1852281000-1852284600@di2hearts.com
SUMMARY:Lakewood YMCA Gentle Yoga
DESCRIPTION:
URL:https://di2hearts.com/event/gentle-yoga/2028-09-11/
LOCATION:Lakewood YMCA
END:VEVENT
BEGIN:VEVENT
DTSTART;TZID=America/Vancouver:20280918T103000
DTEND;TZID=America/Vancouver:20280918T113000
DTSTAMP:20260423T064626
CREATED:20250618T214701Z
LAST-MODIFIED:20250708T224748Z
UID:10000171-1852885800-1852889400@di2hearts.com
SUMMARY:Lakewood YMCA Gentle Yoga
DESCRIPTION:
URL:https://di2hearts.com/event/gentle-yoga/2028-09-18/
LOCATION:Lakewood YMCA
END:VEVENT
BEGIN:VEVENT
DTSTART;TZID=America/Vancouver:20280925T103000
DTEND;TZID=America/Vancouver:20280925T113000
DTSTAMP:20260423T064626
CREATED:20250618T214701Z
LAST-MODIFIED:20250708T224748Z
UID:10000172-1853490600-1853494200@di2hearts.com
SUMMARY:Lakewood YMCA Gentle Yoga
DESCRIPTION:
URL:https://di2hearts.com/event/gentle-yoga/2028-09-25/
LOCATION:Lakewood YMCA
END:VEVENT
BEGIN:VEVENT
DTSTART;TZID=America/Vancouver:20281002T103000
DTEND;TZID=America/Vancouver:20281002T113000
DTSTAMP:20260423T064626
CREATED:20250618T214701Z
LAST-MODIFIED:20250708T224748Z
UID:10000173-1854095400-1854099000@di2hearts.com
SUMMARY:Lakewood YMCA Gentle Yoga
DESCRIPTION:
URL:https://di2hearts.com/event/gentle-yoga/2028-10-02/
LOCATION:Lakewood YMCA
END:VEVENT
BEGIN:VEVENT
DTSTART;TZID=America/Vancouver:20281009T103000
DTEND;TZID=America/Vancouver:20281009T113000
DTSTAMP:20260423T064626
CREATED:20250618T214701Z
LAST-MODIFIED:20250708T224748Z
UID:10000174-1854700200-1854703800@di2hearts.com
SUMMARY:Lakewood YMCA Gentle Yoga
DESCRIPTION:
URL:https://di2hearts.com/event/gentle-yoga/2028-10-09/
LOCATION:Lakewood YMCA
END:VEVENT
BEGIN:VEVENT
DTSTART;TZID=America/Vancouver:20281016T103000
DTEND;TZID=America/Vancouver:20281016T113000
DTSTAMP:20260423T064626
CREATED:20250618T214701Z
LAST-MODIFIED:20250708T224748Z
UID:10000175-1855305000-1855308600@di2hearts.com
SUMMARY:Lakewood YMCA Gentle Yoga
DESCRIPTION:
URL:https://di2hearts.com/event/gentle-yoga/2028-10-16/
LOCATION:Lakewood YMCA
END:VEVENT
BEGIN:VEVENT
DTSTART;TZID=America/Vancouver:20281023T103000
DTEND;TZID=America/Vancouver:20281023T113000
DTSTAMP:20260423T064626
CREATED:20250618T214701Z
LAST-MODIFIED:20250708T224748Z
UID:10000176-1855909800-1855913400@di2hearts.com
SUMMARY:Lakewood YMCA Gentle Yoga
DESCRIPTION:
URL:https://di2hearts.com/event/gentle-yoga/2028-10-23/
LOCATION:Lakewood YMCA
END:VEVENT
BEGIN:VEVENT
DTSTART;TZID=America/Vancouver:20281030T103000
DTEND;TZID=America/Vancouver:20281030T113000
DTSTAMP:20260423T064626
CREATED:20250618T214701Z
LAST-MODIFIED:20250708T224748Z
UID:10000177-1856514600-1856518200@di2hearts.com
SUMMARY:Lakewood YMCA Gentle Yoga
DESCRIPTION:
URL:https://di2hearts.com/event/gentle-yoga/2028-10-30/
LOCATION:Lakewood YMCA
END:VEVENT
BEGIN:VEVENT
DTSTART;TZID=America/Vancouver:20281106T103000
DTEND;TZID=America/Vancouver:20281106T113000
DTSTAMP:20260423T064626
CREATED:20250618T214701Z
LAST-MODIFIED:20250708T224748Z
UID:10000178-1857119400-1857123000@di2hearts.com
SUMMARY:Lakewood YMCA Gentle Yoga
DESCRIPTION:
URL:https://di2hearts.com/event/gentle-yoga/2028-11-06/
LOCATION:Lakewood YMCA
END:VEVENT
BEGIN:VEVENT
DTSTART;TZID=America/Vancouver:20281113T103000
DTEND;TZID=America/Vancouver:20281113T113000
DTSTAMP:20260423T064626
CREATED:20250618T214701Z
LAST-MODIFIED:20250708T224748Z
UID:10000179-1857724200-1857727800@di2hearts.com
SUMMARY:Lakewood YMCA Gentle Yoga
DESCRIPTION:
URL:https://di2hearts.com/event/gentle-yoga/2028-11-13/
LOCATION:Lakewood YMCA
END:VEVENT
BEGIN:VEVENT
DTSTART;TZID=America/Vancouver:20281120T103000
DTEND;TZID=America/Vancouver:20281120T113000
DTSTAMP:20260423T064626
CREATED:20250618T214701Z
LAST-MODIFIED:20250708T224748Z
UID:10000180-1858329000-1858332600@di2hearts.com
SUMMARY:Lakewood YMCA Gentle Yoga
DESCRIPTION:
URL:https://di2hearts.com/event/gentle-yoga/2028-11-20/
LOCATION:Lakewood YMCA
END:VEVENT
BEGIN:VEVENT
DTSTART;TZID=America/Vancouver:20281127T103000
DTEND;TZID=America/Vancouver:20281127T113000
DTSTAMP:20260423T064626
CREATED:20250618T214701Z
LAST-MODIFIED:20250708T224748Z
UID:10000181-1858933800-1858937400@di2hearts.com
SUMMARY:Lakewood YMCA Gentle Yoga
DESCRIPTION:
URL:https://di2hearts.com/event/gentle-yoga/2028-11-27/
LOCATION:Lakewood YMCA
END:VEVENT
BEGIN:VEVENT
DTSTART;TZID=America/Vancouver:20281204T103000
DTEND;TZID=America/Vancouver:20281204T113000
DTSTAMP:20260423T064626
CREATED:20250618T214701Z
LAST-MODIFIED:20250708T224748Z
UID:10000182-1859538600-1859542200@di2hearts.com
SUMMARY:Lakewood YMCA Gentle Yoga
DESCRIPTION:
URL:https://di2hearts.com/event/gentle-yoga/2028-12-04/
LOCATION:Lakewood YMCA
END:VEVENT
BEGIN:VEVENT
DTSTART;TZID=America/Vancouver:20281211T103000
DTEND;TZID=America/Vancouver:20281211T113000
DTSTAMP:20260423T064626
CREATED:20250618T214701Z
LAST-MODIFIED:20250708T224748Z
UID:10000183-1860143400-1860147000@di2hearts.com
SUMMARY:Lakewood YMCA Gentle Yoga
DESCRIPTION:
URL:https://di2hearts.com/event/gentle-yoga/2028-12-11/
LOCATION:Lakewood YMCA
END:VEVENT
BEGIN:VEVENT
DTSTART;TZID=America/Vancouver:20281218T103000
DTEND;TZID=America/Vancouver:20281218T113000
DTSTAMP:20260423T064626
CREATED:20250618T214701Z
LAST-MODIFIED:20250708T224748Z
UID:10000184-1860748200-1860751800@di2hearts.com
SUMMARY:Lakewood YMCA Gentle Yoga
DESCRIPTION:
URL:https://di2hearts.com/event/gentle-yoga/2028-12-18/
LOCATION:Lakewood YMCA
END:VEVENT
BEGIN:VEVENT
DTSTART;TZID=America/Vancouver:20281225T103000
DTEND;TZID=America/Vancouver:20281225T113000
DTSTAMP:20260423T064626
CREATED:20250618T214701Z
LAST-MODIFIED:20250708T224748Z
UID:10000185-1861353000-1861356600@di2hearts.com
SUMMARY:Lakewood YMCA Gentle Yoga
DESCRIPTION:
URL:https://di2hearts.com/event/gentle-yoga/2028-12-25/
LOCATION:Lakewood YMCA
END:VEVENT
BEGIN:VEVENT
DTSTART;TZID=America/Vancouver:20290101T103000
DTEND;TZID=America/Vancouver:20290101T113000
DTSTAMP:20260423T064626
CREATED:20250618T214701Z
LAST-MODIFIED:20250708T224748Z
UID:10000186-1861957800-1861961400@di2hearts.com
SUMMARY:Lakewood YMCA Gentle Yoga
DESCRIPTION:
URL:https://di2hearts.com/event/gentle-yoga/2029-01-01/
LOCATION:Lakewood YMCA
END:VEVENT
BEGIN:VEVENT
DTSTART;TZID=America/Vancouver:20290108T103000
DTEND;TZID=America/Vancouver:20290108T113000
DTSTAMP:20260423T064626
CREATED:20250618T214701Z
LAST-MODIFIED:20250708T224748Z
UID:10000187-1862562600-1862566200@di2hearts.com
SUMMARY:Lakewood YMCA Gentle Yoga
DESCRIPTION:
URL:https://di2hearts.com/event/gentle-yoga/2029-01-08/
LOCATION:Lakewood YMCA
END:VEVENT
BEGIN:VEVENT
DTSTART;TZID=America/Vancouver:20290115T103000
DTEND;TZID=America/Vancouver:20290115T113000
DTSTAMP:20260423T064626
CREATED:20250618T214701Z
LAST-MODIFIED:20250708T224748Z
UID:10000188-1863167400-1863171000@di2hearts.com
SUMMARY:Lakewood YMCA Gentle Yoga
DESCRIPTION:
URL:https://di2hearts.com/event/gentle-yoga/2029-01-15/
LOCATION:Lakewood YMCA
END:VEVENT
BEGIN:VEVENT
DTSTART;TZID=America/Vancouver:20290122T103000
DTEND;TZID=America/Vancouver:20290122T113000
DTSTAMP:20260423T064626
CREATED:20250618T214701Z
LAST-MODIFIED:20250708T224748Z
UID:10000189-1863772200-1863775800@di2hearts.com
SUMMARY:Lakewood YMCA Gentle Yoga
DESCRIPTION:
URL:https://di2hearts.com/event/gentle-yoga/2029-01-22/
LOCATION:Lakewood YMCA
END:VEVENT
BEGIN:VEVENT
DTSTART;TZID=America/Vancouver:20290129T103000
DTEND;TZID=America/Vancouver:20290129T113000
DTSTAMP:20260423T064626
CREATED:20250618T214701Z
LAST-MODIFIED:20250708T224748Z
UID:10000190-1864377000-1864380600@di2hearts.com
SUMMARY:Lakewood YMCA Gentle Yoga
DESCRIPTION:
URL:https://di2hearts.com/event/gentle-yoga/2029-01-29/
LOCATION:Lakewood YMCA
END:VEVENT
BEGIN:VEVENT
DTSTART;TZID=America/Vancouver:20290205T103000
DTEND;TZID=America/Vancouver:20290205T113000
DTSTAMP:20260423T064626
CREATED:20250618T214701Z
LAST-MODIFIED:20250708T224748Z
UID:10000191-1864981800-1864985400@di2hearts.com
SUMMARY:Lakewood YMCA Gentle Yoga
DESCRIPTION:
URL:https://di2hearts.com/event/gentle-yoga/2029-02-05/
LOCATION:Lakewood YMCA
END:VEVENT
BEGIN:VEVENT
DTSTART;TZID=America/Vancouver:20290212T103000
DTEND;TZID=America/Vancouver:20290212T113000
DTSTAMP:20260423T064626
CREATED:20250618T214701Z
LAST-MODIFIED:20250708T224748Z
UID:10000192-1865586600-1865590200@di2hearts.com
SUMMARY:Lakewood YMCA Gentle Yoga
DESCRIPTION:
URL:https://di2hearts.com/event/gentle-yoga/2029-02-12/
LOCATION:Lakewood YMCA
END:VEVENT
BEGIN:VEVENT
DTSTART;TZID=America/Vancouver:20290219T103000
DTEND;TZID=America/Vancouver:20290219T113000
DTSTAMP:20260423T064626
CREATED:20250618T214701Z
LAST-MODIFIED:20250708T224748Z
UID:10000193-1866191400-1866195000@di2hearts.com
SUMMARY:Lakewood YMCA Gentle Yoga
DESCRIPTION:
URL:https://di2hearts.com/event/gentle-yoga/2029-02-19/
LOCATION:Lakewood YMCA
END:VEVENT
BEGIN:VEVENT
DTSTART;TZID=America/Vancouver:20290226T103000
DTEND;TZID=America/Vancouver:20290226T113000
DTSTAMP:20260423T064626
CREATED:20250618T214701Z
LAST-MODIFIED:20250708T224748Z
UID:10000194-1866796200-1866799800@di2hearts.com
SUMMARY:Lakewood YMCA Gentle Yoga
DESCRIPTION:
URL:https://di2hearts.com/event/gentle-yoga/2029-02-26/
LOCATION:Lakewood YMCA
END:VEVENT
BEGIN:VEVENT
DTSTART;TZID=America/Vancouver:20290305T103000
DTEND;TZID=America/Vancouver:20290305T113000
DTSTAMP:20260423T064626
CREATED:20250618T214701Z
LAST-MODIFIED:20250708T224748Z
UID:10000195-1867401000-1867404600@di2hearts.com
SUMMARY:Lakewood YMCA Gentle Yoga
DESCRIPTION:
URL:https://di2hearts.com/event/gentle-yoga/2029-03-05/
LOCATION:Lakewood YMCA
END:VEVENT
END:VCALENDAR