BEGIN:VCALENDAR
VERSION:2.0
PRODID:-//Di2hearts - ECPv6.15.20//NONSGML v1.0//EN
CALSCALE:GREGORIAN
METHOD:PUBLISH
X-WR-CALNAME:Di2hearts
X-ORIGINAL-URL:https://di2hearts.com
X-WR-CALDESC:Events for Di2hearts
REFRESH-INTERVAL;VALUE=DURATION:PT1H
X-Robots-Tag:noindex
X-PUBLISHED-TTL:PT1H
BEGIN:VTIMEZONE
TZID:America/Vancouver
BEGIN:DAYLIGHT
TZOFFSETFROM:-0800
TZOFFSETTO:-0700
TZNAME:PDT
DTSTART:20280312T100000
END:DAYLIGHT
BEGIN:STANDARD
TZOFFSETFROM:-0700
TZOFFSETTO:-0800
TZNAME:PST
DTSTART:20281105T090000
END:STANDARD
BEGIN:DAYLIGHT
TZOFFSETFROM:-0800
TZOFFSETTO:-0700
TZNAME:PDT
DTSTART:20290311T100000
END:DAYLIGHT
BEGIN:STANDARD
TZOFFSETFROM:-0700
TZOFFSETTO:-0800
TZNAME:PST
DTSTART:20291104T090000
END:STANDARD
BEGIN:DAYLIGHT
TZOFFSETFROM:-0800
TZOFFSETTO:-0700
TZNAME:PDT
DTSTART:20300310T100000
END:DAYLIGHT
BEGIN:STANDARD
TZOFFSETFROM:-0700
TZOFFSETTO:-0800
TZNAME:PST
DTSTART:20301103T090000
END:STANDARD
END:VTIMEZONE
BEGIN:VEVENT
DTSTART;TZID=America/Vancouver:20290312T103000
DTEND;TZID=America/Vancouver:20290312T113000
DTSTAMP:20260421T080932
CREATED:20250618T214701Z
LAST-MODIFIED:20250708T224748Z
UID:10000196-1868005800-1868009400@di2hearts.com
SUMMARY:Lakewood YMCA Gentle Yoga
DESCRIPTION:
URL:https://di2hearts.com/event/gentle-yoga/2029-03-12/
LOCATION:Lakewood YMCA
END:VEVENT
BEGIN:VEVENT
DTSTART;TZID=America/Vancouver:20290319T103000
DTEND;TZID=America/Vancouver:20290319T113000
DTSTAMP:20260421T080932
CREATED:20250618T214701Z
LAST-MODIFIED:20250708T224748Z
UID:10000197-1868610600-1868614200@di2hearts.com
SUMMARY:Lakewood YMCA Gentle Yoga
DESCRIPTION:
URL:https://di2hearts.com/event/gentle-yoga/2029-03-19/
LOCATION:Lakewood YMCA
END:VEVENT
BEGIN:VEVENT
DTSTART;TZID=America/Vancouver:20290326T103000
DTEND;TZID=America/Vancouver:20290326T113000
DTSTAMP:20260421T080932
CREATED:20250618T214701Z
LAST-MODIFIED:20250708T224748Z
UID:10000198-1869215400-1869219000@di2hearts.com
SUMMARY:Lakewood YMCA Gentle Yoga
DESCRIPTION:
URL:https://di2hearts.com/event/gentle-yoga/2029-03-26/
LOCATION:Lakewood YMCA
END:VEVENT
BEGIN:VEVENT
DTSTART;TZID=America/Vancouver:20290402T103000
DTEND;TZID=America/Vancouver:20290402T113000
DTSTAMP:20260421T080932
CREATED:20250618T214701Z
LAST-MODIFIED:20250708T224748Z
UID:10000199-1869820200-1869823800@di2hearts.com
SUMMARY:Lakewood YMCA Gentle Yoga
DESCRIPTION:
URL:https://di2hearts.com/event/gentle-yoga/2029-04-02/
LOCATION:Lakewood YMCA
END:VEVENT
BEGIN:VEVENT
DTSTART;TZID=America/Vancouver:20290409T103000
DTEND;TZID=America/Vancouver:20290409T113000
DTSTAMP:20260421T080932
CREATED:20250618T214701Z
LAST-MODIFIED:20250708T224748Z
UID:10000200-1870425000-1870428600@di2hearts.com
SUMMARY:Lakewood YMCA Gentle Yoga
DESCRIPTION:
URL:https://di2hearts.com/event/gentle-yoga/2029-04-09/
LOCATION:Lakewood YMCA
END:VEVENT
BEGIN:VEVENT
DTSTART;TZID=America/Vancouver:20290416T103000
DTEND;TZID=America/Vancouver:20290416T113000
DTSTAMP:20260421T080932
CREATED:20250618T214701Z
LAST-MODIFIED:20250708T224748Z
UID:10000201-1871029800-1871033400@di2hearts.com
SUMMARY:Lakewood YMCA Gentle Yoga
DESCRIPTION:
URL:https://di2hearts.com/event/gentle-yoga/2029-04-16/
LOCATION:Lakewood YMCA
END:VEVENT
BEGIN:VEVENT
DTSTART;TZID=America/Vancouver:20290423T103000
DTEND;TZID=America/Vancouver:20290423T113000
DTSTAMP:20260421T080932
CREATED:20250618T214701Z
LAST-MODIFIED:20250708T224748Z
UID:10000202-1871634600-1871638200@di2hearts.com
SUMMARY:Lakewood YMCA Gentle Yoga
DESCRIPTION:
URL:https://di2hearts.com/event/gentle-yoga/2029-04-23/
LOCATION:Lakewood YMCA
END:VEVENT
BEGIN:VEVENT
DTSTART;TZID=America/Vancouver:20290430T103000
DTEND;TZID=America/Vancouver:20290430T113000
DTSTAMP:20260421T080932
CREATED:20250618T214701Z
LAST-MODIFIED:20250708T224748Z
UID:10000203-1872239400-1872243000@di2hearts.com
SUMMARY:Lakewood YMCA Gentle Yoga
DESCRIPTION:
URL:https://di2hearts.com/event/gentle-yoga/2029-04-30/
LOCATION:Lakewood YMCA
END:VEVENT
BEGIN:VEVENT
DTSTART;TZID=America/Vancouver:20290507T103000
DTEND;TZID=America/Vancouver:20290507T113000
DTSTAMP:20260421T080932
CREATED:20250618T214701Z
LAST-MODIFIED:20250708T224748Z
UID:10000204-1872844200-1872847800@di2hearts.com
SUMMARY:Lakewood YMCA Gentle Yoga
DESCRIPTION:
URL:https://di2hearts.com/event/gentle-yoga/2029-05-07/
LOCATION:Lakewood YMCA
END:VEVENT
BEGIN:VEVENT
DTSTART;TZID=America/Vancouver:20290514T103000
DTEND;TZID=America/Vancouver:20290514T113000
DTSTAMP:20260421T080932
CREATED:20250618T214701Z
LAST-MODIFIED:20250708T224748Z
UID:10000205-1873449000-1873452600@di2hearts.com
SUMMARY:Lakewood YMCA Gentle Yoga
DESCRIPTION:
URL:https://di2hearts.com/event/gentle-yoga/2029-05-14/
LOCATION:Lakewood YMCA
END:VEVENT
BEGIN:VEVENT
DTSTART;TZID=America/Vancouver:20290521T103000
DTEND;TZID=America/Vancouver:20290521T113000
DTSTAMP:20260421T080932
CREATED:20250618T214701Z
LAST-MODIFIED:20250708T224748Z
UID:10000206-1874053800-1874057400@di2hearts.com
SUMMARY:Lakewood YMCA Gentle Yoga
DESCRIPTION:
URL:https://di2hearts.com/event/gentle-yoga/2029-05-21/
LOCATION:Lakewood YMCA
END:VEVENT
BEGIN:VEVENT
DTSTART;TZID=America/Vancouver:20290528T103000
DTEND;TZID=America/Vancouver:20290528T113000
DTSTAMP:20260421T080932
CREATED:20250618T214701Z
LAST-MODIFIED:20250708T224748Z
UID:10000207-1874658600-1874662200@di2hearts.com
SUMMARY:Lakewood YMCA Gentle Yoga
DESCRIPTION:
URL:https://di2hearts.com/event/gentle-yoga/2029-05-28/
LOCATION:Lakewood YMCA
END:VEVENT
BEGIN:VEVENT
DTSTART;TZID=America/Vancouver:20290604T103000
DTEND;TZID=America/Vancouver:20290604T113000
DTSTAMP:20260421T080932
CREATED:20250618T214701Z
LAST-MODIFIED:20250708T224748Z
UID:10000208-1875263400-1875267000@di2hearts.com
SUMMARY:Lakewood YMCA Gentle Yoga
DESCRIPTION:
URL:https://di2hearts.com/event/gentle-yoga/2029-06-04/
LOCATION:Lakewood YMCA
END:VEVENT
BEGIN:VEVENT
DTSTART;TZID=America/Vancouver:20290611T103000
DTEND;TZID=America/Vancouver:20290611T113000
DTSTAMP:20260421T080932
CREATED:20250618T214701Z
LAST-MODIFIED:20250708T224748Z
UID:10000209-1875868200-1875871800@di2hearts.com
SUMMARY:Lakewood YMCA Gentle Yoga
DESCRIPTION:
URL:https://di2hearts.com/event/gentle-yoga/2029-06-11/
LOCATION:Lakewood YMCA
END:VEVENT
BEGIN:VEVENT
DTSTART;TZID=America/Vancouver:20290618T103000
DTEND;TZID=America/Vancouver:20290618T113000
DTSTAMP:20260421T080932
CREATED:20250618T214701Z
LAST-MODIFIED:20250708T224748Z
UID:10000210-1876473000-1876476600@di2hearts.com
SUMMARY:Lakewood YMCA Gentle Yoga
DESCRIPTION:
URL:https://di2hearts.com/event/gentle-yoga/2029-06-18/
LOCATION:Lakewood YMCA
END:VEVENT
BEGIN:VEVENT
DTSTART;TZID=America/Vancouver:20290625T103000
DTEND;TZID=America/Vancouver:20290625T113000
DTSTAMP:20260421T080932
CREATED:20250618T214701Z
LAST-MODIFIED:20250708T224748Z
UID:10000211-1877077800-1877081400@di2hearts.com
SUMMARY:Lakewood YMCA Gentle Yoga
DESCRIPTION:
URL:https://di2hearts.com/event/gentle-yoga/2029-06-25/
LOCATION:Lakewood YMCA
END:VEVENT
BEGIN:VEVENT
DTSTART;TZID=America/Vancouver:20290702T103000
DTEND;TZID=America/Vancouver:20290702T113000
DTSTAMP:20260421T080932
CREATED:20250618T214701Z
LAST-MODIFIED:20250708T224748Z
UID:10000212-1877682600-1877686200@di2hearts.com
SUMMARY:Lakewood YMCA Gentle Yoga
DESCRIPTION:
URL:https://di2hearts.com/event/gentle-yoga/2029-07-02/
LOCATION:Lakewood YMCA
END:VEVENT
BEGIN:VEVENT
DTSTART;TZID=America/Vancouver:20290709T103000
DTEND;TZID=America/Vancouver:20290709T113000
DTSTAMP:20260421T080932
CREATED:20250618T214701Z
LAST-MODIFIED:20250708T224748Z
UID:10000213-1878287400-1878291000@di2hearts.com
SUMMARY:Lakewood YMCA Gentle Yoga
DESCRIPTION:
URL:https://di2hearts.com/event/gentle-yoga/2029-07-09/
LOCATION:Lakewood YMCA
END:VEVENT
BEGIN:VEVENT
DTSTART;TZID=America/Vancouver:20290716T103000
DTEND;TZID=America/Vancouver:20290716T113000
DTSTAMP:20260421T080932
CREATED:20250618T214701Z
LAST-MODIFIED:20250708T224748Z
UID:10000214-1878892200-1878895800@di2hearts.com
SUMMARY:Lakewood YMCA Gentle Yoga
DESCRIPTION:
URL:https://di2hearts.com/event/gentle-yoga/2029-07-16/
LOCATION:Lakewood YMCA
END:VEVENT
BEGIN:VEVENT
DTSTART;TZID=America/Vancouver:20290723T103000
DTEND;TZID=America/Vancouver:20290723T113000
DTSTAMP:20260421T080932
CREATED:20250618T214701Z
LAST-MODIFIED:20250708T224748Z
UID:10000215-1879497000-1879500600@di2hearts.com
SUMMARY:Lakewood YMCA Gentle Yoga
DESCRIPTION:
URL:https://di2hearts.com/event/gentle-yoga/2029-07-23/
LOCATION:Lakewood YMCA
END:VEVENT
BEGIN:VEVENT
DTSTART;TZID=America/Vancouver:20290730T103000
DTEND;TZID=America/Vancouver:20290730T113000
DTSTAMP:20260421T080932
CREATED:20250618T214701Z
LAST-MODIFIED:20250708T224748Z
UID:10000216-1880101800-1880105400@di2hearts.com
SUMMARY:Lakewood YMCA Gentle Yoga
DESCRIPTION:
URL:https://di2hearts.com/event/gentle-yoga/2029-07-30/
LOCATION:Lakewood YMCA
END:VEVENT
BEGIN:VEVENT
DTSTART;TZID=America/Vancouver:20290806T103000
DTEND;TZID=America/Vancouver:20290806T113000
DTSTAMP:20260421T080932
CREATED:20250618T214701Z
LAST-MODIFIED:20250708T224748Z
UID:10000217-1880706600-1880710200@di2hearts.com
SUMMARY:Lakewood YMCA Gentle Yoga
DESCRIPTION:
URL:https://di2hearts.com/event/gentle-yoga/2029-08-06/
LOCATION:Lakewood YMCA
END:VEVENT
BEGIN:VEVENT
DTSTART;TZID=America/Vancouver:20290813T103000
DTEND;TZID=America/Vancouver:20290813T113000
DTSTAMP:20260421T080932
CREATED:20250618T214701Z
LAST-MODIFIED:20250708T224748Z
UID:10000218-1881311400-1881315000@di2hearts.com
SUMMARY:Lakewood YMCA Gentle Yoga
DESCRIPTION:
URL:https://di2hearts.com/event/gentle-yoga/2029-08-13/
LOCATION:Lakewood YMCA
END:VEVENT
BEGIN:VEVENT
DTSTART;TZID=America/Vancouver:20290820T103000
DTEND;TZID=America/Vancouver:20290820T113000
DTSTAMP:20260421T080932
CREATED:20250618T214701Z
LAST-MODIFIED:20250708T224748Z
UID:10000219-1881916200-1881919800@di2hearts.com
SUMMARY:Lakewood YMCA Gentle Yoga
DESCRIPTION:
URL:https://di2hearts.com/event/gentle-yoga/2029-08-20/
LOCATION:Lakewood YMCA
END:VEVENT
BEGIN:VEVENT
DTSTART;TZID=America/Vancouver:20290827T103000
DTEND;TZID=America/Vancouver:20290827T113000
DTSTAMP:20260421T080932
CREATED:20250618T214701Z
LAST-MODIFIED:20250708T224748Z
UID:10000220-1882521000-1882524600@di2hearts.com
SUMMARY:Lakewood YMCA Gentle Yoga
DESCRIPTION:
URL:https://di2hearts.com/event/gentle-yoga/2029-08-27/
LOCATION:Lakewood YMCA
END:VEVENT
BEGIN:VEVENT
DTSTART;TZID=America/Vancouver:20290903T103000
DTEND;TZID=America/Vancouver:20290903T113000
DTSTAMP:20260421T080932
CREATED:20250618T214701Z
LAST-MODIFIED:20250708T224748Z
UID:10000221-1883125800-1883129400@di2hearts.com
SUMMARY:Lakewood YMCA Gentle Yoga
DESCRIPTION:
URL:https://di2hearts.com/event/gentle-yoga/2029-09-03/
LOCATION:Lakewood YMCA
END:VEVENT
BEGIN:VEVENT
DTSTART;TZID=America/Vancouver:20290910T103000
DTEND;TZID=America/Vancouver:20290910T113000
DTSTAMP:20260421T080932
CREATED:20250618T214701Z
LAST-MODIFIED:20250708T224748Z
UID:10000222-1883730600-1883734200@di2hearts.com
SUMMARY:Lakewood YMCA Gentle Yoga
DESCRIPTION:
URL:https://di2hearts.com/event/gentle-yoga/2029-09-10/
LOCATION:Lakewood YMCA
END:VEVENT
BEGIN:VEVENT
DTSTART;TZID=America/Vancouver:20290917T103000
DTEND;TZID=America/Vancouver:20290917T113000
DTSTAMP:20260421T080932
CREATED:20250618T214701Z
LAST-MODIFIED:20250708T224748Z
UID:10000223-1884335400-1884339000@di2hearts.com
SUMMARY:Lakewood YMCA Gentle Yoga
DESCRIPTION:
URL:https://di2hearts.com/event/gentle-yoga/2029-09-17/
LOCATION:Lakewood YMCA
END:VEVENT
BEGIN:VEVENT
DTSTART;TZID=America/Vancouver:20290924T103000
DTEND;TZID=America/Vancouver:20290924T113000
DTSTAMP:20260421T080932
CREATED:20250618T214701Z
LAST-MODIFIED:20250708T224748Z
UID:10000224-1884940200-1884943800@di2hearts.com
SUMMARY:Lakewood YMCA Gentle Yoga
DESCRIPTION:
URL:https://di2hearts.com/event/gentle-yoga/2029-09-24/
LOCATION:Lakewood YMCA
END:VEVENT
BEGIN:VEVENT
DTSTART;TZID=America/Vancouver:20291001T103000
DTEND;TZID=America/Vancouver:20291001T113000
DTSTAMP:20260421T080932
CREATED:20250618T214701Z
LAST-MODIFIED:20250708T224748Z
UID:10000225-1885545000-1885548600@di2hearts.com
SUMMARY:Lakewood YMCA Gentle Yoga
DESCRIPTION:
URL:https://di2hearts.com/event/gentle-yoga/2029-10-01/
LOCATION:Lakewood YMCA
END:VEVENT
END:VCALENDAR