BEGIN:VCALENDAR
VERSION:2.0
PRODID:-//Di2hearts - ECPv6.15.20//NONSGML v1.0//EN
CALSCALE:GREGORIAN
METHOD:PUBLISH
X-WR-CALNAME:Di2hearts
X-ORIGINAL-URL:https://di2hearts.com
X-WR-CALDESC:Events for Di2hearts
REFRESH-INTERVAL;VALUE=DURATION:PT1H
X-Robots-Tag:noindex
X-PUBLISHED-TTL:PT1H
BEGIN:VTIMEZONE
TZID:America/Vancouver
BEGIN:DAYLIGHT
TZOFFSETFROM:-0800
TZOFFSETTO:-0700
TZNAME:PDT
DTSTART:20290311T100000
END:DAYLIGHT
BEGIN:STANDARD
TZOFFSETFROM:-0700
TZOFFSETTO:-0800
TZNAME:PST
DTSTART:20291104T090000
END:STANDARD
BEGIN:DAYLIGHT
TZOFFSETFROM:-0800
TZOFFSETTO:-0700
TZNAME:PDT
DTSTART:20300310T100000
END:DAYLIGHT
BEGIN:STANDARD
TZOFFSETFROM:-0700
TZOFFSETTO:-0800
TZNAME:PST
DTSTART:20301103T090000
END:STANDARD
BEGIN:DAYLIGHT
TZOFFSETFROM:-0800
TZOFFSETTO:-0700
TZNAME:PDT
DTSTART:20310309T100000
END:DAYLIGHT
BEGIN:STANDARD
TZOFFSETFROM:-0700
TZOFFSETTO:-0800
TZNAME:PST
DTSTART:20311102T090000
END:STANDARD
END:VTIMEZONE
BEGIN:VEVENT
DTSTART;TZID=America/Vancouver:20300506T103000
DTEND;TZID=America/Vancouver:20300506T113000
DTSTAMP:20260421T151357
CREATED:20250618T214701Z
LAST-MODIFIED:20250708T224748Z
UID:10000256-1904293800-1904297400@di2hearts.com
SUMMARY:Lakewood YMCA Gentle Yoga
DESCRIPTION:
URL:https://di2hearts.com/event/gentle-yoga/2030-05-06/
LOCATION:Lakewood YMCA
END:VEVENT
BEGIN:VEVENT
DTSTART;TZID=America/Vancouver:20300513T103000
DTEND;TZID=America/Vancouver:20300513T113000
DTSTAMP:20260421T151357
CREATED:20250618T214701Z
LAST-MODIFIED:20250708T224748Z
UID:10000257-1904898600-1904902200@di2hearts.com
SUMMARY:Lakewood YMCA Gentle Yoga
DESCRIPTION:
URL:https://di2hearts.com/event/gentle-yoga/2030-05-13/
LOCATION:Lakewood YMCA
END:VEVENT
BEGIN:VEVENT
DTSTART;TZID=America/Vancouver:20300520T103000
DTEND;TZID=America/Vancouver:20300520T113000
DTSTAMP:20260421T151357
CREATED:20250618T214701Z
LAST-MODIFIED:20250708T224748Z
UID:10000258-1905503400-1905507000@di2hearts.com
SUMMARY:Lakewood YMCA Gentle Yoga
DESCRIPTION:
URL:https://di2hearts.com/event/gentle-yoga/2030-05-20/
LOCATION:Lakewood YMCA
END:VEVENT
BEGIN:VEVENT
DTSTART;TZID=America/Vancouver:20300527T103000
DTEND;TZID=America/Vancouver:20300527T113000
DTSTAMP:20260421T151357
CREATED:20250618T214701Z
LAST-MODIFIED:20250708T224748Z
UID:10000259-1906108200-1906111800@di2hearts.com
SUMMARY:Lakewood YMCA Gentle Yoga
DESCRIPTION:
URL:https://di2hearts.com/event/gentle-yoga/2030-05-27/
LOCATION:Lakewood YMCA
END:VEVENT
BEGIN:VEVENT
DTSTART;TZID=America/Vancouver:20300603T103000
DTEND;TZID=America/Vancouver:20300603T113000
DTSTAMP:20260421T151357
CREATED:20250618T214701Z
LAST-MODIFIED:20250708T224748Z
UID:10000260-1906713000-1906716600@di2hearts.com
SUMMARY:Lakewood YMCA Gentle Yoga
DESCRIPTION:
URL:https://di2hearts.com/event/gentle-yoga/2030-06-03/
LOCATION:Lakewood YMCA
END:VEVENT
BEGIN:VEVENT
DTSTART;TZID=America/Vancouver:20300610T103000
DTEND;TZID=America/Vancouver:20300610T113000
DTSTAMP:20260421T151357
CREATED:20250618T214701Z
LAST-MODIFIED:20250708T224748Z
UID:10000261-1907317800-1907321400@di2hearts.com
SUMMARY:Lakewood YMCA Gentle Yoga
DESCRIPTION:
URL:https://di2hearts.com/event/gentle-yoga/2030-06-10/
LOCATION:Lakewood YMCA
END:VEVENT
BEGIN:VEVENT
DTSTART;TZID=America/Vancouver:20300617T103000
DTEND;TZID=America/Vancouver:20300617T113000
DTSTAMP:20260421T151357
CREATED:20250618T214701Z
LAST-MODIFIED:20250708T224748Z
UID:10000262-1907922600-1907926200@di2hearts.com
SUMMARY:Lakewood YMCA Gentle Yoga
DESCRIPTION:
URL:https://di2hearts.com/event/gentle-yoga/2030-06-17/
LOCATION:Lakewood YMCA
END:VEVENT
BEGIN:VEVENT
DTSTART;TZID=America/Vancouver:20300624T103000
DTEND;TZID=America/Vancouver:20300624T113000
DTSTAMP:20260421T151357
CREATED:20250618T214701Z
LAST-MODIFIED:20250708T224748Z
UID:10000263-1908527400-1908531000@di2hearts.com
SUMMARY:Lakewood YMCA Gentle Yoga
DESCRIPTION:
URL:https://di2hearts.com/event/gentle-yoga/2030-06-24/
LOCATION:Lakewood YMCA
END:VEVENT
BEGIN:VEVENT
DTSTART;TZID=America/Vancouver:20300701T103000
DTEND;TZID=America/Vancouver:20300701T113000
DTSTAMP:20260421T151357
CREATED:20250618T214701Z
LAST-MODIFIED:20250708T224748Z
UID:10000264-1909132200-1909135800@di2hearts.com
SUMMARY:Lakewood YMCA Gentle Yoga
DESCRIPTION:
URL:https://di2hearts.com/event/gentle-yoga/2030-07-01/
LOCATION:Lakewood YMCA
END:VEVENT
BEGIN:VEVENT
DTSTART;TZID=America/Vancouver:20300708T103000
DTEND;TZID=America/Vancouver:20300708T113000
DTSTAMP:20260421T151357
CREATED:20250618T214701Z
LAST-MODIFIED:20250708T224748Z
UID:10000265-1909737000-1909740600@di2hearts.com
SUMMARY:Lakewood YMCA Gentle Yoga
DESCRIPTION:
URL:https://di2hearts.com/event/gentle-yoga/2030-07-08/
LOCATION:Lakewood YMCA
END:VEVENT
BEGIN:VEVENT
DTSTART;TZID=America/Vancouver:20300715T103000
DTEND;TZID=America/Vancouver:20300715T113000
DTSTAMP:20260421T151357
CREATED:20250618T214701Z
LAST-MODIFIED:20250708T224748Z
UID:10001669-1910341800-1910345400@di2hearts.com
SUMMARY:Lakewood YMCA Gentle Yoga
DESCRIPTION:
URL:https://di2hearts.com/event/gentle-yoga/2030-07-15/
LOCATION:Lakewood YMCA
END:VEVENT
BEGIN:VEVENT
DTSTART;TZID=America/Vancouver:20300722T103000
DTEND;TZID=America/Vancouver:20300722T113000
DTSTAMP:20260421T151357
CREATED:20250618T214701Z
LAST-MODIFIED:20250708T224748Z
UID:10001670-1910946600-1910950200@di2hearts.com
SUMMARY:Lakewood YMCA Gentle Yoga
DESCRIPTION:
URL:https://di2hearts.com/event/gentle-yoga/2030-07-22/
LOCATION:Lakewood YMCA
END:VEVENT
BEGIN:VEVENT
DTSTART;TZID=America/Vancouver:20300729T103000
DTEND;TZID=America/Vancouver:20300729T113000
DTSTAMP:20260421T151357
CREATED:20250618T214701Z
LAST-MODIFIED:20250708T224748Z
UID:10001671-1911551400-1911555000@di2hearts.com
SUMMARY:Lakewood YMCA Gentle Yoga
DESCRIPTION:
URL:https://di2hearts.com/event/gentle-yoga/2030-07-29/
LOCATION:Lakewood YMCA
END:VEVENT
BEGIN:VEVENT
DTSTART;TZID=America/Vancouver:20300805T103000
DTEND;TZID=America/Vancouver:20300805T113000
DTSTAMP:20260421T151357
CREATED:20250618T214701Z
LAST-MODIFIED:20250708T224748Z
UID:10001672-1912156200-1912159800@di2hearts.com
SUMMARY:Lakewood YMCA Gentle Yoga
DESCRIPTION:
URL:https://di2hearts.com/event/gentle-yoga/2030-08-05/
LOCATION:Lakewood YMCA
END:VEVENT
BEGIN:VEVENT
DTSTART;TZID=America/Vancouver:20300812T103000
DTEND;TZID=America/Vancouver:20300812T113000
DTSTAMP:20260421T151357
CREATED:20250618T214701Z
LAST-MODIFIED:20250708T224748Z
UID:10001673-1912761000-1912764600@di2hearts.com
SUMMARY:Lakewood YMCA Gentle Yoga
DESCRIPTION:
URL:https://di2hearts.com/event/gentle-yoga/2030-08-12/
LOCATION:Lakewood YMCA
END:VEVENT
BEGIN:VEVENT
DTSTART;TZID=America/Vancouver:20300819T103000
DTEND;TZID=America/Vancouver:20300819T113000
DTSTAMP:20260421T151357
CREATED:20250618T214701Z
LAST-MODIFIED:20250708T224748Z
UID:10001674-1913365800-1913369400@di2hearts.com
SUMMARY:Lakewood YMCA Gentle Yoga
DESCRIPTION:
URL:https://di2hearts.com/event/gentle-yoga/2030-08-19/
LOCATION:Lakewood YMCA
END:VEVENT
BEGIN:VEVENT
DTSTART;TZID=America/Vancouver:20300826T103000
DTEND;TZID=America/Vancouver:20300826T113000
DTSTAMP:20260421T151358
CREATED:20250618T214701Z
LAST-MODIFIED:20250708T224748Z
UID:10001675-1913970600-1913974200@di2hearts.com
SUMMARY:Lakewood YMCA Gentle Yoga
DESCRIPTION:
URL:https://di2hearts.com/event/gentle-yoga/2030-08-26/
LOCATION:Lakewood YMCA
END:VEVENT
BEGIN:VEVENT
DTSTART;TZID=America/Vancouver:20300902T103000
DTEND;TZID=America/Vancouver:20300902T113000
DTSTAMP:20260421T151358
CREATED:20250618T214701Z
LAST-MODIFIED:20250708T224748Z
UID:10001676-1914575400-1914579000@di2hearts.com
SUMMARY:Lakewood YMCA Gentle Yoga
DESCRIPTION:
URL:https://di2hearts.com/event/gentle-yoga/2030-09-02/
LOCATION:Lakewood YMCA
END:VEVENT
BEGIN:VEVENT
DTSTART;TZID=America/Vancouver:20300909T103000
DTEND;TZID=America/Vancouver:20300909T113000
DTSTAMP:20260421T151358
CREATED:20250618T214701Z
LAST-MODIFIED:20250708T224748Z
UID:10001677-1915180200-1915183800@di2hearts.com
SUMMARY:Lakewood YMCA Gentle Yoga
DESCRIPTION:
URL:https://di2hearts.com/event/gentle-yoga/2030-09-09/
LOCATION:Lakewood YMCA
END:VEVENT
BEGIN:VEVENT
DTSTART;TZID=America/Vancouver:20300916T103000
DTEND;TZID=America/Vancouver:20300916T113000
DTSTAMP:20260421T151358
CREATED:20250618T214701Z
LAST-MODIFIED:20250708T224748Z
UID:10001678-1915785000-1915788600@di2hearts.com
SUMMARY:Lakewood YMCA Gentle Yoga
DESCRIPTION:
URL:https://di2hearts.com/event/gentle-yoga/2030-09-16/
LOCATION:Lakewood YMCA
END:VEVENT
BEGIN:VEVENT
DTSTART;TZID=America/Vancouver:20300923T103000
DTEND;TZID=America/Vancouver:20300923T113000
DTSTAMP:20260421T151358
CREATED:20250618T214701Z
LAST-MODIFIED:20250708T224748Z
UID:10001679-1916389800-1916393400@di2hearts.com
SUMMARY:Lakewood YMCA Gentle Yoga
DESCRIPTION:
URL:https://di2hearts.com/event/gentle-yoga/2030-09-23/
LOCATION:Lakewood YMCA
END:VEVENT
BEGIN:VEVENT
DTSTART;TZID=America/Vancouver:20300930T103000
DTEND;TZID=America/Vancouver:20300930T113000
DTSTAMP:20260421T151358
CREATED:20250618T214701Z
LAST-MODIFIED:20250708T224748Z
UID:10001680-1916994600-1916998200@di2hearts.com
SUMMARY:Lakewood YMCA Gentle Yoga
DESCRIPTION:
URL:https://di2hearts.com/event/gentle-yoga/2030-09-30/
LOCATION:Lakewood YMCA
END:VEVENT
BEGIN:VEVENT
DTSTART;TZID=America/Vancouver:20301007T103000
DTEND;TZID=America/Vancouver:20301007T113000
DTSTAMP:20260421T151358
CREATED:20250618T214701Z
LAST-MODIFIED:20250708T224748Z
UID:10001681-1917599400-1917603000@di2hearts.com
SUMMARY:Lakewood YMCA Gentle Yoga
DESCRIPTION:
URL:https://di2hearts.com/event/gentle-yoga/2030-10-07/
LOCATION:Lakewood YMCA
END:VEVENT
BEGIN:VEVENT
DTSTART;TZID=America/Vancouver:20301014T103000
DTEND;TZID=America/Vancouver:20301014T113000
DTSTAMP:20260421T151358
CREATED:20250618T214701Z
LAST-MODIFIED:20250708T224748Z
UID:10001682-1918204200-1918207800@di2hearts.com
SUMMARY:Lakewood YMCA Gentle Yoga
DESCRIPTION:
URL:https://di2hearts.com/event/gentle-yoga/2030-10-14/
LOCATION:Lakewood YMCA
END:VEVENT
BEGIN:VEVENT
DTSTART;TZID=America/Vancouver:20301021T103000
DTEND;TZID=America/Vancouver:20301021T113000
DTSTAMP:20260421T151358
CREATED:20250618T214701Z
LAST-MODIFIED:20250708T224748Z
UID:10001683-1918809000-1918812600@di2hearts.com
SUMMARY:Lakewood YMCA Gentle Yoga
DESCRIPTION:
URL:https://di2hearts.com/event/gentle-yoga/2030-10-21/
LOCATION:Lakewood YMCA
END:VEVENT
BEGIN:VEVENT
DTSTART;TZID=America/Vancouver:20301028T103000
DTEND;TZID=America/Vancouver:20301028T113000
DTSTAMP:20260421T151358
CREATED:20250618T214701Z
LAST-MODIFIED:20250708T224748Z
UID:10001684-1919413800-1919417400@di2hearts.com
SUMMARY:Lakewood YMCA Gentle Yoga
DESCRIPTION:
URL:https://di2hearts.com/event/gentle-yoga/2030-10-28/
LOCATION:Lakewood YMCA
END:VEVENT
BEGIN:VEVENT
DTSTART;TZID=America/Vancouver:20301104T103000
DTEND;TZID=America/Vancouver:20301104T113000
DTSTAMP:20260421T151358
CREATED:20250618T214701Z
LAST-MODIFIED:20250708T224748Z
UID:10001685-1920018600-1920022200@di2hearts.com
SUMMARY:Lakewood YMCA Gentle Yoga
DESCRIPTION:
URL:https://di2hearts.com/event/gentle-yoga/2030-11-04/
LOCATION:Lakewood YMCA
END:VEVENT
BEGIN:VEVENT
DTSTART;TZID=America/Vancouver:20301111T103000
DTEND;TZID=America/Vancouver:20301111T113000
DTSTAMP:20260421T151358
CREATED:20250618T214701Z
LAST-MODIFIED:20250708T224748Z
UID:10001686-1920623400-1920627000@di2hearts.com
SUMMARY:Lakewood YMCA Gentle Yoga
DESCRIPTION:
URL:https://di2hearts.com/event/gentle-yoga/2030-11-11/
LOCATION:Lakewood YMCA
END:VEVENT
BEGIN:VEVENT
DTSTART;TZID=America/Vancouver:20301118T103000
DTEND;TZID=America/Vancouver:20301118T113000
DTSTAMP:20260421T151358
CREATED:20250618T214701Z
LAST-MODIFIED:20250708T224748Z
UID:10001687-1921228200-1921231800@di2hearts.com
SUMMARY:Lakewood YMCA Gentle Yoga
DESCRIPTION:
URL:https://di2hearts.com/event/gentle-yoga/2030-11-18/
LOCATION:Lakewood YMCA
END:VEVENT
BEGIN:VEVENT
DTSTART;TZID=America/Vancouver:20301125T103000
DTEND;TZID=America/Vancouver:20301125T113000
DTSTAMP:20260421T151358
CREATED:20250618T214701Z
LAST-MODIFIED:20250708T224748Z
UID:10001688-1921833000-1921836600@di2hearts.com
SUMMARY:Lakewood YMCA Gentle Yoga
DESCRIPTION:
URL:https://di2hearts.com/event/gentle-yoga/2030-11-25/
LOCATION:Lakewood YMCA
END:VEVENT
END:VCALENDAR