BEGIN:VCALENDAR
VERSION:2.0
PRODID:-//Di2hearts - ECPv6.15.20//NONSGML v1.0//EN
CALSCALE:GREGORIAN
METHOD:PUBLISH
X-ORIGINAL-URL:https://di2hearts.com
X-WR-CALDESC:Events for Di2hearts
REFRESH-INTERVAL;VALUE=DURATION:PT1H
X-Robots-Tag:noindex
X-PUBLISHED-TTL:PT1H
BEGIN:VTIMEZONE
TZID:America/Vancouver
BEGIN:DAYLIGHT
TZOFFSETFROM:-0800
TZOFFSETTO:-0700
TZNAME:PDT
DTSTART:20290311T100000
END:DAYLIGHT
BEGIN:STANDARD
TZOFFSETFROM:-0700
TZOFFSETTO:-0800
TZNAME:PST
DTSTART:20291104T090000
END:STANDARD
BEGIN:DAYLIGHT
TZOFFSETFROM:-0800
TZOFFSETTO:-0700
TZNAME:PDT
DTSTART:20300310T100000
END:DAYLIGHT
BEGIN:STANDARD
TZOFFSETFROM:-0700
TZOFFSETTO:-0800
TZNAME:PST
DTSTART:20301103T090000
END:STANDARD
BEGIN:DAYLIGHT
TZOFFSETFROM:-0800
TZOFFSETTO:-0700
TZNAME:PDT
DTSTART:20310309T100000
END:DAYLIGHT
BEGIN:STANDARD
TZOFFSETFROM:-0700
TZOFFSETTO:-0800
TZNAME:PST
DTSTART:20311102T090000
END:STANDARD
BEGIN:DAYLIGHT
TZOFFSETFROM:-0800
TZOFFSETTO:-0700
TZNAME:PDT
DTSTART:20320314T100000
END:DAYLIGHT
BEGIN:STANDARD
TZOFFSETFROM:-0700
TZOFFSETTO:-0800
TZNAME:PST
DTSTART:20321107T090000
END:STANDARD
END:VTIMEZONE
BEGIN:VEVENT
DTSTART;TZID=America/Vancouver:20301202T103000
DTEND;TZID=America/Vancouver:20301202T113000
DTSTAMP:20260421T221026
CREATED:20250618T214701Z
LAST-MODIFIED:20250708T224748Z
UID:10001689-1922437800-1922441400@di2hearts.com
SUMMARY:Lakewood YMCA Gentle Yoga
DESCRIPTION:
URL:https://di2hearts.com/event/gentle-yoga/2030-12-02/
LOCATION:Lakewood YMCA
END:VEVENT
BEGIN:VEVENT
DTSTART;TZID=America/Vancouver:20301209T103000
DTEND;TZID=America/Vancouver:20301209T113000
DTSTAMP:20260421T221026
CREATED:20250618T214701Z
LAST-MODIFIED:20250708T224748Z
UID:10001690-1923042600-1923046200@di2hearts.com
SUMMARY:Lakewood YMCA Gentle Yoga
DESCRIPTION:
URL:https://di2hearts.com/event/gentle-yoga/2030-12-09/
LOCATION:Lakewood YMCA
END:VEVENT
BEGIN:VEVENT
DTSTART;TZID=America/Vancouver:20301216T103000
DTEND;TZID=America/Vancouver:20301216T113000
DTSTAMP:20260421T221026
CREATED:20250618T214701Z
LAST-MODIFIED:20250708T224748Z
UID:10001691-1923647400-1923651000@di2hearts.com
SUMMARY:Lakewood YMCA Gentle Yoga
DESCRIPTION:
URL:https://di2hearts.com/event/gentle-yoga/2030-12-16/
LOCATION:Lakewood YMCA
END:VEVENT
BEGIN:VEVENT
DTSTART;TZID=America/Vancouver:20301223T103000
DTEND;TZID=America/Vancouver:20301223T113000
DTSTAMP:20260421T221026
CREATED:20250618T214701Z
LAST-MODIFIED:20250708T224748Z
UID:10001692-1924252200-1924255800@di2hearts.com
SUMMARY:Lakewood YMCA Gentle Yoga
DESCRIPTION:
URL:https://di2hearts.com/event/gentle-yoga/2030-12-23/
LOCATION:Lakewood YMCA
END:VEVENT
BEGIN:VEVENT
DTSTART;TZID=America/Vancouver:20301230T103000
DTEND;TZID=America/Vancouver:20301230T113000
DTSTAMP:20260421T221026
CREATED:20250618T214701Z
LAST-MODIFIED:20250708T224748Z
UID:10001693-1924857000-1924860600@di2hearts.com
SUMMARY:Lakewood YMCA Gentle Yoga
DESCRIPTION:
URL:https://di2hearts.com/event/gentle-yoga/2030-12-30/
LOCATION:Lakewood YMCA
END:VEVENT
BEGIN:VEVENT
DTSTART;TZID=America/Vancouver:20310106T103000
DTEND;TZID=America/Vancouver:20310106T113000
DTSTAMP:20260421T221026
CREATED:20250618T214701Z
LAST-MODIFIED:20250708T224748Z
UID:10001694-1925461800-1925465400@di2hearts.com
SUMMARY:Lakewood YMCA Gentle Yoga
DESCRIPTION:
URL:https://di2hearts.com/event/gentle-yoga/2031-01-06/
LOCATION:Lakewood YMCA
END:VEVENT
BEGIN:VEVENT
DTSTART;TZID=America/Vancouver:20310113T103000
DTEND;TZID=America/Vancouver:20310113T113000
DTSTAMP:20260421T221026
CREATED:20250618T214701Z
LAST-MODIFIED:20250708T224748Z
UID:10001695-1926066600-1926070200@di2hearts.com
SUMMARY:Lakewood YMCA Gentle Yoga
DESCRIPTION:
URL:https://di2hearts.com/event/gentle-yoga/2031-01-13/
LOCATION:Lakewood YMCA
END:VEVENT
BEGIN:VEVENT
DTSTART;TZID=America/Vancouver:20310120T103000
DTEND;TZID=America/Vancouver:20310120T113000
DTSTAMP:20260421T221026
CREATED:20250618T214701Z
LAST-MODIFIED:20250708T224748Z
UID:10001696-1926671400-1926675000@di2hearts.com
SUMMARY:Lakewood YMCA Gentle Yoga
DESCRIPTION:
URL:https://di2hearts.com/event/gentle-yoga/2031-01-20/
LOCATION:Lakewood YMCA
END:VEVENT
BEGIN:VEVENT
DTSTART;TZID=America/Vancouver:20310127T103000
DTEND;TZID=America/Vancouver:20310127T113000
DTSTAMP:20260421T221026
CREATED:20250618T214701Z
LAST-MODIFIED:20250708T224748Z
UID:10001697-1927276200-1927279800@di2hearts.com
SUMMARY:Lakewood YMCA Gentle Yoga
DESCRIPTION:
URL:https://di2hearts.com/event/gentle-yoga/2031-01-27/
LOCATION:Lakewood YMCA
END:VEVENT
BEGIN:VEVENT
DTSTART;TZID=America/Vancouver:20310203T103000
DTEND;TZID=America/Vancouver:20310203T113000
DTSTAMP:20260421T221026
CREATED:20250618T214701Z
LAST-MODIFIED:20250708T224748Z
UID:10001698-1927881000-1927884600@di2hearts.com
SUMMARY:Lakewood YMCA Gentle Yoga
DESCRIPTION:
URL:https://di2hearts.com/event/gentle-yoga/2031-02-03/
LOCATION:Lakewood YMCA
END:VEVENT
END:VCALENDAR